Workbook

Sheet October 2014
A1: Check Number | C1: Check Date | D1: Vendor Name | F1: Transaction Amount | U1: Description | V1: Account Name | W1: Department | X1: Division | Y1: Object of Expenditure | Z1: Project Number
A2: 408007 | C2: 41926 | D2: BOB TOMES FORD | F2: 55.18 | U2: REQ# 205861 | V2: AUTO MAINTENANCE | W2: EQUIPMENT SERVICES | X2: EQUIP SERV-SHARED | Y2: REQ# 205861
F3: 242.38 | U3: Req# 205520 | V3: AUTO MAINTENANCE | W3: EQUIPMENT SERVICES | X3: EQUIP SERV-SHARED | Y3: Req# 205520
F4: 111.24 | U4: Req# 205861 | V4: AUTO MAINTENANCE | W4: EQUIPMENT SERVICES | X4: EQUIP SERV-SHARED | Y4: Req# 205861
A5: 408307 | C5: 41926 | F5: 1090.05 | U5: BLANKET PURCHASE ORDER | V5: AUTO MAINTENANCE | W5: EQUIPMENT SERVICES | X5: EQUIP SERV-SHARED | Y5: BLANKET PURCHASE ORDER
A12: 408632 | C12: 41933 | F12: 487.48 | U12: AUTO/TRUCK MAINT. ITEMS | V12: PARTS | Y12: AUTO/TRUCK MAINT. ITEMS
F13: 1816.96 | U13: BLANKET PURCHASE ORDER | V13: AUTO MAINTENANCE | W13: EQUIPMENT SERVICES | X13: EQUIP SERV-SHARED | Y13: BLANKET PURCHASE ORDER
F18: 172.44 | U18: FUEL/OIL/GREASE/LUBRICANT | V18: PARTS | Y18: FUEL/OIL/GREASE/LUBRICANT
F19: -180 | U19: INV# 5396151 | V19: AUTO MAINTENANCE | W19: EQUIPMENT SERVICES | X19: EQUIP SERV-SHARED | Y19: INV# 5396151
A20: 408983 | C20: 41940 | F20: 1125.2 | U20: BLANKET PURCHASE ORDER | V20: AUTO MAINTENANCE | W20: EQUIPMENT SERVICES | X20: EQUIP SERV-SHARED | Y20: BLANKET PURCHASE ORDER
M29: =SUM(hList_Frame_1!B1:B26) -> 4920.93
A31: 408469 | C31: 41933 | D31: BOB BARKER CO | F31: 4270.14 | U31: CLOTHING AND APPAREL | V31: DETENTION SUPPLIES | W31: SHERIFF'S OFFICE | X31: JAIL OPS-ADMIN | Y31: CLOTHING AND APPAREL
A33: 408862 | C33: 41940 | F33: 1014.9 | U33: CLOTHING AND APPAREL | V33: DETENTION SUPPLIES | W33: SHERIFF'S OFFICE | X33: JAIL OPS-ADMIN | Y33: CLOTHING AND APPAREL
M35: =SUM(hList_Frame_1!B27:B29) -> 5285.04
A37: 407961 | C37: 41919 | D37: C&W ELECTRIC SUPPLY CO | F37: 865.05 | U37: PO#180359 | V37: BUILDING MAINTENANCE | W37: FACILITIES & PARKS | X37: BUILD SUP-SHARED | Y37: PO#180359 | Z37: B21001
Z38: B21001
A39: 408984 | C39: 41940 | F39: 3251.95 | U39: ELECTRICAL EQUIP/SUPPLIES | V39: FACILITIES WAREHOUSE | Y39: ELECTRICAL EQUIP/SUPPLIES
N41: =SUM(hList_Frame_1!B30:B32) -> 4117
A43: 408008 | C43: 41926 | D43: DALLAS LITE & BARRICADE INC | F43: 431.3 | U43: AUTO/TRUCK MAINT. ITEMS | V43: AUTO LIABILITY CLAIMS | W43: HUMAN RESOURCES | X43: RISK MGMT - LIABILITY INS | Y43: AUTO/TRUCK MAINT. ITEMS
F44: -545.1 | U44: INV# 237759 | V44: AUTO LIABILITY CLAIMS | W44: HUMAN RESOURCES | X44: RISK MGMT - LIABILITY INS | Y44: INV# 237759
F45: 545.1 | U45: INV# C238649 | V45: AUTO LIABILITY CLAIMS | W45: HUMAN RESOURCES | X45: RISK MGMT - LIABILITY INS | Y45: INV# C238649
P47: =SUM(hList_Frame_1!B33:B35) -> 431.3
A49: 408985 | C49: 41940 | D49: ECOLAB INC | F49: 2744 | U49: JANITORIAL SUPPLIES-GEN. | V49: ANIMAL CARE | W49: ANIMAL SHELTER | X49: ANIMAL SHELTER-ADMIN | Y49: JANITORIAL SUPPLIES-GEN.
M53: =SUM(hList_Frame_1!B36:B38) -> 2744
A55: 408308 | C55: 41926 | D55: FARMERSVILLE AUTO SUPPLY | F55: 19.34 | U55: BLANKET PURCHASE ORDER | V55: HEAVY EQUIPMENT REPAIR | W55: EQUIPMENT SERVICES | X55: EQUIP SERV-SHARED | Y55: BLANKET PURCHASE ORDER
R57: =SUM(hList_Frame_1!B39:B39) -> 19.34
A59: 407727 | C59: 41919 | D59: MCKINNEY TIRE & APPLIANCE | F59: 158.5 | U59: CAFETERIA/KITCHEN EQUIP. | V59: ONE-TIME BUDGET NON-CAP | W59: UNALLOCATED | X59: CAPITAL REPLACEMENT | Y59: CAFETERIA/KITCHEN EQUIP.
P61: =SUM(hList_Frame_1!B40:B40) -> 158.5
A63: 407728 | C63: 41919 | D63: MCKINNEY OFFICE SUPPLY | F63: 187.04 | U63: OFFICE SUPPLIES (GENERAL) | V63: ELECTION SUPPLIES | W63: ELECTIONS | X63: CONT ELECTIONS-CONTRACT | Y63: OFFICE SUPPLIES (GENERAL)
A64: 408986 | C64: 41940 | F64: 750 | U64: OFFICE SUPPLIES (GENERAL) | V64: ELECTION SUPPLIES | W64: ELECTIONS | X64: ELECTIONS-ADMIN | Y64: OFFICE SUPPLIES (GENERAL)
P66: =SUM(hList_Frame_1!B41:B42) -> 937.04
A68: 408009 | C68: 41926 | D68: MATTHEW BENDER & CO | F68: 67.08 | U68: req#205235 PO#181000 | V68: LIBRARY UPDATES | W68: BUDGET | X68: LAW LIBRARY-ADMIN | Y68: req#205235 PO#181000
A69: 408633 | C69: 41933 | F69: 215.1 | U69: MISC PROFESSIONAL SERVICE | V69: LIBRARY UPDATES | W69: BUDGET | X69: LAW LIBRARY-ADMIN | Y69: MISC PROFESSIONAL SERVICE
P71: =SUM(hList_Frame_1!B43:B44) -> 282.18
A73: 408863 | C73: 41940 | D73: GIBBS, GREGG M PC | F73: 1781.25 | U73: 417-30076-13 | V73: COURT APPOINTED ATTORNEY | W73: INDIGENT DEFENSE | X73: INDIGENT DEFENSE | Y73: 417-30076-13 | Z73: ID417A
M75: =SUM(hList_Frame_1!B45:B45) -> 1781.25
A77: 408309 | C77: 41926 | D77: HEIDENHEIMER, MARK | F77: 100 | U77: 001-80606-13 | V77: COURT APPOINTED ATTORNEY | W77: INDIGENT DEFENSE | X77: INDIGENT DEFENSE | Y77: 001-80606-13 | Z77: IDCL1M
F78: 100 | U78: 001-83500-13 | V78: COURT APPOINTED ATTORNEY | W78: INDIGENT DEFENSE | X78: INDIGENT DEFENSE | Y78: 001-83500-13 | Z78: IDCL1M
F79: 100 | U79: 001-83502-13 | V79: COURT APPOINTED ATTORNEY | W79: INDIGENT DEFENSE | X79: INDIGENT DEFENSE | Y79: 001-83502-13 | Z79: IDCL1M
F80: 450 | U80: 001-83513-13 | V80: COURT APPOINTED ATTORNEY | W80: INDIGENT DEFENSE | X80: INDIGENT DEFENSE | Y80: 001-83513-13 | Z80: IDCL1M
...

Sheet hList_Frame_1
A1: =IF(ISBLANK('October 2014'!A2),"",IF(ISTEXT('October 2014'!A2),0,'October 2014'!A2)) -> 408007 | B1: =IF(ISBLANK('October 2014'!F2),"",IF(ISTEXT('October 2014'!F2),0,'October 2014'!F2)) -> 55.18
A2: =IF(ISBLANK('October 2014'!A3),"",IF(ISTEXT('October 2014'!A3),0,'October 2014'!A3)) | B2: =IF(ISBLANK('October 2014'!F3),"",IF(ISTEXT('October 2014'!F3),0,'October 2014'!F3)) -> 242.38
A3: =IF(ISBLANK('October 2014'!A4),"",IF(ISTEXT('October 2014'!A4),0,'October 2014'!A4)) | B3: =IF(ISBLANK('October 2014'!F4),"",IF(ISTEXT('October 2014'!F4),0,'October 2014'!F4)) -> 111.24
A4: =IF(ISBLANK('October 2014'!A5),"",IF(ISTEXT('October 2014'!A5),0,'October 2014'!A5)) -> 408307 | B4: =IF(ISBLANK('October 2014'!F5),"",IF(ISTEXT('October 2014'!F5),0,'October 2014'!F5)) -> 1090.05
A5: =IF(ISBLANK('October 2014'!A6),"",IF(ISTEXT('October 2014'!A6),0,'October 2014'!A6)) | B5: =IF(ISBLANK('October 2014'!F6),"",IF(ISTEXT('October 2014'!F6),0,'October 2014'!F6))
A6: =IF(ISBLANK('October 2014'!A7),"",IF(ISTEXT('October 2014'!A7),0,'October 2014'!A7)) | B6: =IF(ISBLANK('October 2014'!F7),"",IF(ISTEXT('October 2014'!F7),0,'October 2014'!F7))
A7: =IF(ISBLANK('October 2014'!A8),"",IF(ISTEXT('October 2014'!A8),0,'October 2014'!A8)) | B7: =IF(ISBLANK('October 2014'!F8),"",IF(ISTEXT('October 2014'!F8),0,'October 2014'!F8))
A8: =IF(ISBLANK('October 2014'!A9),"",IF(ISTEXT('October 2014'!A9),0,'October 2014'!A9)) | B8: =IF(ISBLANK('October 2014'!F9),"",IF(ISTEXT('October 2014'!F9),0,'October 2014'!F9))
A9: =IF(ISBLANK('October 2014'!A10),"",IF(ISTEXT('October 2014'!A10),0,'October 2014'!A10)) | B9: =IF(ISBLANK('October 2014'!F10),"",IF(ISTEXT('October 2014'!F10),0,'October 2014'!F10))
A10: =IF(ISBLANK('October 2014'!A11),"",IF(ISTEXT('October 2014'!A11),0,'October 2014'!A11)) | B10: =IF(ISBLANK('October 2014'!F11),"",IF(ISTEXT('October 2014'!F11),0,'October 2014'!F11))
A11: =IF(ISBLANK('October 2014'!A12),"",IF(ISTEXT('October 2014'!A12),0,'October 2014'!A12)) -> 408632 | B11: =IF(ISBLANK('October 2014'!F12),"",IF(ISTEXT('October 2014'!F12),0,'October 2014'!F12)) -> 487.48
A12: =IF(ISBLANK('October 2014'!A13),"",IF(ISTEXT('October 2014'!A13),0,'October 2014'!A13)) | B12: =IF(ISBLANK('October 2014'!F13),"",IF(ISTEXT('October 2014'!F13),0,'October 2014'!F13)) -> 1816.96
... A26: =IF(ISBLANK('October 2014'!A27),"",IF(ISTEXT('October 2014'!A27),0,'October 2014'!A27)) | B26: =IF(ISBLANK('October 2014'!F27),"",IF(ISTEXT('October 2014'!F27),0,'October 2014'!F27))
A27: =IF(ISBLANK('October 2014'!A31),"",IF(ISTEXT('October 2014'!A31),0,'October 2014'!A31)) -> 408469 | B27: =IF(ISBLANK('October 2014'!F31),"",IF(ISTEXT('October 2014'!F31),0,'October 2014'!F31)) -> 4270.14
A28: =IF(ISBLANK('October 2014'!A32),"",IF(ISTEXT('October 2014'!A32),0,'October 2014'!A32)) | B28: =IF(ISBLANK('October 2014'!F32),"",IF(ISTEXT('October 2014'!F32),0,'October 2014'!F32))
A29: =IF(ISBLANK('October 2014'!A33),"",IF(ISTEXT('October 2014'!A33),0,'October 2014'!A33)) -> 408862 | B29: =IF(ISBLANK('October 2014'!F33),"",IF(ISTEXT('October 2014'!F33),0,'October 2014'!F33)) -> 1014.9
A30: =IF(ISBLANK('October 2014'!A37),"",IF(ISTEXT('October 2014'!A37),0,'October 2014'!A37)) -> 407961 | B30: =IF(ISBLANK('October 2014'!F37),"",IF(ISTEXT('October 2014'!F37),0,'October 2014'!F37)) -> 865.05
A31: =IF(ISBLANK('October 2014'!A38),"",IF(ISTEXT('October 2014'!A38),0,'October 2014'!A38)) | B31: =IF(ISBLANK('October 2014'!F38),"",IF(ISTEXT('October 2014'!F38),0,'October 2014'!F38))
A32: =IF(ISBLANK('October 2014'!A39),"",IF(ISTEXT('October 2014'!A39),0,'October 2014'!A39)) -> 408984 | B32: =IF(ISBLANK('October 2014'!F39),"",IF(ISTEXT('October 2014'!F39),0,'October 2014'!F39)) -> 3251.95
A33: =IF(ISBLANK('October 2014'!A43),"",IF(ISTEXT('October 2014'!A43),0,'October 2014'!A43)) -> 408008 | B33: =IF(ISBLANK('October 2014'!F43),"",IF(ISTEXT('October 2014'!F43),0,'October 2014'!F43)) -> 431.3
A34: =IF(ISBLANK('October 2014'!A44),"",IF(ISTEXT('October 2014'!A44),0,'October 2014'!A44)) | B34: =IF(ISBLANK('October 2014'!F44),"",IF(ISTEXT('October 2014'!F44),0,'October 2014'!F44)) -> -545.1
A35: =IF(ISBLANK('October 2014'!A45),"",IF(ISTEXT('October 2014'!A45),0,'October 2014'!A45)) | B35: =IF(ISBLANK('October 2014'!F45),"",IF(ISTEXT('October 2014'!F45),0,'October 2014'!F45)) -> 545.1
A36: =IF(ISBLANK('October 2014'!A49),"",IF(ISTEXT('October 2014'!A49),0,'October 2014'!A49)) -> 408985 | B36: =IF(ISBLANK('October 2014'!F49),"",IF(ISTEXT('October 2014'!F49),0,'October 2014'!F49)) -> 2744
A37: =IF(ISBLANK('October 2014'!A50),"",IF(ISTEXT('October 2014'!A50),0,'October 2014'!A50)) | B37: =IF(ISBLANK('October 2014'!F50),"",IF(ISTEXT('October 2014'!F50),0,'October 2014'!F50))
A38: =IF(ISBLANK('October 2014'!A51),"",IF(ISTEXT('October 2014'!A51),0,'October 2014'!A51)) | B38: =IF(ISBLANK('October 2014'!F51),"",IF(ISTEXT('October 2014'!F51),0,'October 2014'!F51))
A39: =IF(ISBLANK('October 2014'!A55),"",IF(ISTEXT('October 2014'!A55),0,'October 2014'!A55)) -> 408308 | B39: =IF(ISBLANK('October 2014'!F55),"",IF(ISTEXT('October 2014'!F55),0,'October 2014'!F55)) -> 19.34
A40: =IF(ISBLANK('October 2014'!A59),"",IF(ISTEXT('October 2014'!A59),0,'October 2014'!A59)) -> 407727 | B40: =IF(ISBLANK('October 2014'!F59),"",IF(ISTEXT('October 2014'!F59),0,'October 2014'!F59)) -> 158.5
A41: =IF(ISBLANK('October 2014'!A63),"",IF(ISTEXT('October 2014'!A63),0,'October 2014'!A63)) -> 407728 | B41: =IF(ISBLANK('October 2014'!F63),"",IF(ISTEXT('October 2014'!F63),0,'October 2014'!F63)) -> 187.04
A42: =IF(ISBLANK('October 2014'!A64),"",IF(ISTEXT('October 2014'!A64),0,'October 2014'!A64)) -> 408986 | B42: =IF(ISBLANK('October 2014'!F64),"",IF(ISTEXT('October 2014'!F64),0,'October 2014'!F64)) -> 750
A43: =IF(ISBLANK('October 2014'!A68),"",IF(ISTEXT('October 2014'!A68),0,'October 2014'!A68)) -> 408009 | B43: =IF(ISBLANK('October 2014'!F68),"",IF(ISTEXT('October 2014'!F68),0,'October 2014'!F68)) -> 67.08
A44: =IF(ISBLANK('October 2014'!A69),"",IF(ISTEXT('October 2014'!A69),0,'October 2014'!A69)) -> 408633 | B44: =IF(ISBLANK('October 2014'!F69),"",IF(ISTEXT('October 2014'!F69),0,'October 2014'!F69)) -> 215.1
A45: =IF(ISBLANK('October 2014'!A73),"",IF(ISTEXT('October 2014'!A73),0,'October 2014'!A73)) -> 408863 | B45: =IF(ISBLANK('October 2014'!F73),"",IF(ISTEXT('October 2014'!F73),0,'October 2014'!F73)) -> 1781.25
A46: =IF(ISBLANK('October 2014'!A77),"",IF(ISTEXT('October 2014'!A77),0,'October 2014'!A77)) -> 408309 | B46: =IF(ISBLANK('October 2014'!F77),"",IF(ISTEXT('October 2014'!F77),0,'October 2014'!F77)) -> 100
A47: =IF(ISBLANK('October 2014'!A78),"",IF(ISTEXT('October 2014'!A78),0,'October 2014'!A78)) | B47: =IF(ISBLANK('October 2014'!F78),"",IF(ISTEXT('October 2014'!F78),0,'October 2014'!F78)) -> 100
A48: =IF(ISBLANK('October 2014'!A79),"",IF(ISTEXT('October 2014'!A79),0,'October 2014'!A79)) | B48: =IF(ISBLANK('October 2014'!F79),"",IF(ISTEXT('October 2014'!F79),0,'October 2014'!F79)) -> 100
A49: =IF(ISBLANK('October 2014'!A80),"",IF(ISTEXT('October 2014'!A80),0,'October 2014'!A80)) | B49: =IF(ISBLANK('October 2014'!F80),"",IF(ISTEXT('October 2014'!F80),0,'October 2014'!F80)) -> 450
A50: =IF(ISBLANK('October 2014'!A81),"",IF(ISTEXT('October 2014'!A81),0,'October 2014'!A81)) | B50: =IF(ISBLANK('October 2014'!F81),"",IF(ISTEXT('October 2014'!F81),0,'October 2014'!F81)) -> 450
A51: =IF(ISBLANK('October 2014'!A82),"",IF(ISTEXT('October 2014'!A82),0,'October 2014'!A82)) -> 408634 | B51: =IF(ISBLANK('October 2014'!F82),"",IF(ISTEXT('October 2014'!F82),0,'October 2014'!F82)) -> 450
A52: =IF(ISBLANK('October 2014'!A83),"",IF(ISTEXT('October 2014'!A83),0,'October 2014'!A83)) | B52: =IF(ISBLANK('October 2014'!F83),"",IF(ISTEXT('October 2014'!F83),0,'October 2014'!F83)) -> 450
A53: =IF(ISBLANK('October 2014'!A84),"",IF(ISTEXT('October 2014'!A84),0,'October 2014'!A84)) | B53: =IF(ISBLANK('October 2014'!F84),"",IF(ISTEXT('October 2014'!F84),0,'October 2014'!F84)) -> 450
...
