Workbook

Sheet October 2017
A1: Check Number | D1: Check Date | E1: Vendor Name | G1: Transaction Amount | U1: Description | V1: Account Name | W1: Department | X1: Division | Y1: Object of Expenditure | AA1: Project Number
A2: 444915 | D2: 42654 | E2: BOB TOMES FORD | G2: 352.64 | U2: BLANKET PURCHASE ORDER | V2: AUTO MAINTENANCE | W2: EQUIPMENT SERVICES | X2: EQUIP SERV-SHARED | Y2: BLANKET PURCHASE ORDER
A3: 445577 | D3: 42661 | G3: 331.36 | U3: BLANKET PURCHASE ORDER | V3: AUTO MAINTENANCE | W3: EQUIPMENT SERVICES | X3: EQUIP SERV-SHARED | Y3: BLANKET PURCHASE ORDER
O5: =SUM(G2:T3) -> 684
A7: 445322 | D7: 42661 | E7: BOB BARKER COMPANY, INC | G7: 2088 | U7: CLOTHING AND APPAREL | V7: DETENTION SUPPLIES | W7: SHERIFF'S OFFICE | X7: JAIL OPS-ADMIN | Y7: CLOTHING AND APPAREL
M9: =SUM(hList_Frame_1!B9:B9) -> 2088
A11: 444826 | D11: 42647 | E11: ECOLAB INC | G11: 688.5 | U11: Credit Inv #3207682 | V11: KITCHEN SUPPLIES | W11: SHERIFF'S OFFICE | X11: JAIL OPS-ADMIN | Y11: Credit Inv #3207682
G12: -688.5 | U12: Inv #2740589 | V12: KITCHEN SUPPLIES | W12: SHERIFF'S OFFICE | X12: JAIL OPS-ADMIN | Y12: Inv #2740589
G13: 345.6 | U13: JANITORIAL SUPPLIES-GEN. | V13: KITCHEN SUPPLIES | W13: SHERIFF'S OFFICE | X13: JAIL OPS-ADMIN | Y13: JANITORIAL SUPPLIES-GEN.
A14: 445578 | D14: 42661 | G14: 1251.85 | U14: PO# 199131 | V14: DETENTION SUPPLIES | W14: SHERIFF'S OFFICE | X14: JAIL OPS-ADMIN | Y14: PO# 199131
M16: =SUM(hList_Frame_1!B10:B13) -> 1597.45
A18: 445323 | D18: 42661 | E18: GIBBS, GREGG M PC | G18: 416.34 | U18: 219-04699-15 | V18: COURT APPOINTED ATTORNEY | W18: COURT APPT REPRESENTATION | X18: COURT APPT REPRESENTATION | Y18: 219-04699-15 | AA18: ID219O
V19: MISCELLANEOUS | W19: COURT APPT REPRESENTATION | X19: COURT APPT REPRESENTATION | AA19: ID219O
G20: 418.75 | U20: 429-55672-10 | V20: COURT APPOINTED ATTORNEY | W20: COURT APPT REPRESENTATION | X20: COURT APPT REPRESENTATION | Y20: 429-55672-10 | AA20: ID429A
O22: =SUM(hList_Frame_1!B14:B16) -> 835.09
A24: 445324 | D24: 42661 | E24: HEIDENHEIMER, MARK | G24: 700 | U24: 401-54890-09 | V24: COURT APPOINTED ATTORNEY | W24: COURT APPT REPRESENTATION | X24: COURT APPT REPRESENTATION | Y24: 401-54890-09 | AA24: ID401O
O26: =SUM(hList_Frame_1!B17:B17) -> 700
A28: 445579 | D28: 42661 | E28: POLLOCK PAPER DISTRIBUTORS | G28: 120 | U28: JANITORIAL SUPPLIES-GEN. | V28: JANITORIAL SUPPLIES | Y28: JANITORIAL SUPPLIES-GEN.
O30: =SUM(hList_Frame_1!B18:B18) -> 120
A32: 444916 | D32: 42654 | E32: THOMASON TIRE INC | G32: 7.95 | U32: AUTO/TRUCK MAINT. ITEMS | V32: GROUNDS EQUIPMENT MAINT | W32: EQUIPMENT SERVICES | X32: EQUIP SERV-SHARED | Y32: AUTO/TRUCK MAINT. ITEMS
G33: 75 | U33: BLANKET PURCHASE ORDER | V33: HEAVY EQUIPMENT REPAIR | W33: EQUIPMENT SERVICES | X33: EQUIP SERV-SHARED | Y33: BLANKET PURCHASE ORDER
G34: -40 | U34: INV# 1-386727 | V34: HEAVY EQUIPMENT REPAIR | W34: EQUIPMENT SERVICES | X34: EQUIP SERV-SHARED | Y34: INV# 1-386727
R36: =SUM(G32:T34) -> 42.95
A38: 444917 | D38: 42654 | E38: WEST PUBLISHING CORPORATION | G38: 4387.5 | U38: req#231199 | V38: LIBRARY UPDATES | W38: BUDGET | X38: LAW LIBRARY-ADMIN | Y38: req#231199
A39: 444918 | D39: 42654 | G39: 4988.24 | U39: req#231198 | V39: COMMUNICATION LINE LEASE | W39: BUDGET | X39: LAW LIBRARY-ADMIN | Y39: req#231198
A40: 444919 | D40: 42654 | G40: 45 | U40: PUBLICATIONS/AUDIOVISUALS | V40: DUES & SUBSCRIPTIONS | W40: UNALLOCATED | X40: NON-DEPARTMENTAL | Y40: PUBLICATIONS/AUDIOVISUALS
A41: 445325 | D41: 42661 | G41: 116 | U41: PUBLICATIONS/AUDIOVISUALS | V41: DUES & SUBSCRIPTIONS | W41: UNALLOCATED | X41: NON-DEPARTMENTAL | Y41: PUBLICATIONS/AUDIOVISUALS
M43: =SUM(G38:T41) -> 9536.74
A45: 444920 | D45: 42654 | E45: PLANO POWER EQUIPMENT | G45: 226.13 | U45: BLANKET PURCHASE ORDER | V45: GROUNDS EQUIPMENT MAINT | W45: EQUIPMENT SERVICES | X45: EQUIP SERV-SHARED | Y45: BLANKET PURCHASE ORDER
A46: 445235 | D46: 42654 | G46: 164.12 | U46: PO# 199262 | V46: GROUNDS EQUIPMENT MAINT | W46: EQUIPMENT SERVICES | X46: EQUIP SERV-SHARED | Y46: PO# 199262
G47: 988.44 | U47: PO# 199263 | V47: GROUNDS EQUIPMENT MAINT | W47: EQUIPMENT SERVICES | X47: EQUIP SERV-SHARED | Y47: PO# 199263
M49: =SUM(hList_Frame_1!B28:B30) -> 1378.69
A51: 444921 | D51: 42654 | E51: GEBO CREDIT CORPORATION | G51: 179.98 | U51: PUBLIC WORK | V51: MAJOR ROAD CONSTRUCTION | W51: PUBLIC WORKS | X51: R&B - ADMIN | Y51: PUBLIC WORK
A52: 445236 | D52: 42654 | G52: 6.99 | U52: BLANKET PURCHASE ORDER | V52: ANIMAL CARE | W52: ANIMAL SHELTER | X52: ANIMAL SHELTER-ADMIN | Y52: BLANKET PURCHASE ORDER
A53: 445326 | D53: 42661 | G53: 7.99 | U53: REQ# 231261 | V53: SMALL TOOLS | W53: PUBLIC WORKS | X53: R&B - ADMIN | Y53: REQ# 231261
A54: 445580 | D54: 42661 | G54: 79.99 | U54: PO# 199054 | V54: MAJOR ROAD CONSTRUCTION | W54: PUBLIC WORKS | X54: R&B - ADMIN | Y54: PO# 199054
O56: =SUM(hList_Frame_1!B31:B34) -> 274.95
A58: 444922 | D58: 42654 | E58: BEN E KEITH DFW | G58: 125.23 | U58: EDIBLE FOODS, STAPLE | V58: FOOD SUPPLIES | W58: SHERIFF'S OFFICE | X58: MINIMUM SECURITY | Y58: EDIBLE FOODS, STAPLE
A59: 445237 | D59: 42654 | G59: 5230 | U59: EDIBLE FOODS, STAPLE | V59: JAIL FOOD | Y59: EDIBLE FOODS, STAPLE
V60: MINIMUM SECURITY FOOD
...

Sheet hList_Frame_1
A1: =IF(ISBLANK('October 2017'!A2),"",IF(ISTEXT('October 2017'!A2),0,'October 2017'!A2)) -> 444915 | B1: =IF(ISBLANK('October 2017'!G2),"",IF(ISTEXT('October 2017'!G2),0,'October 2017'!G2)) -> 352.64
A2: =IF(ISBLANK('October 2017'!#REF!),"",IF(ISTEXT('October 2017'!#REF!),0,'October 2017'!#REF!)) -> #REF! | B2: =IF(ISBLANK('October 2017'!#REF!),"",IF(ISTEXT('October 2017'!#REF!),0,'October 2017'!#REF!)) -> #REF!
A3: =IF(ISBLANK('October 2017'!A3),"",IF(ISTEXT('October 2017'!A3),0,'October 2017'!A3)) -> 445577 | B3: =IF(ISBLANK('October 2017'!G3),"",IF(ISTEXT('October 2017'!G3),0,'October 2017'!G3)) -> 331.36
A4: =IF(ISBLANK('October 2017'!#REF!),"",IF(ISTEXT('October 2017'!#REF!),0,'October 2017'!#REF!)) -> #REF! | B4: =IF(ISBLANK('October 2017'!#REF!),"",IF(ISTEXT('October 2017'!#REF!),0,'October 2017'!#REF!)) -> #REF!
A5: =IF(ISBLANK('October 2017'!#REF!),"",IF(ISTEXT('October 2017'!#REF!),0,'October 2017'!#REF!)) -> #REF! | B5: =IF(ISBLANK('October 2017'!#REF!),"",IF(ISTEXT('October 2017'!#REF!),0,'October 2017'!#REF!)) -> #REF!
A6: =IF(ISBLANK('October 2017'!#REF!),"",IF(ISTEXT('October 2017'!#REF!),0,'October 2017'!#REF!)) -> #REF! | B6: =IF(ISBLANK('October 2017'!#REF!),"",IF(ISTEXT('October 2017'!#REF!),0,'October 2017'!#REF!)) -> #REF!
A7: =IF(ISBLANK('October 2017'!#REF!),"",IF(ISTEXT('October 2017'!#REF!),0,'October 2017'!#REF!)) -> #REF! | B7: =IF(ISBLANK('October 2017'!#REF!),"",IF(ISTEXT('October 2017'!#REF!),0,'October 2017'!#REF!)) -> #REF!
A8: =IF(ISBLANK('October 2017'!#REF!),"",IF(ISTEXT('October 2017'!#REF!),0,'October 2017'!#REF!)) -> #REF! | B8: =IF(ISBLANK('October 2017'!#REF!),"",IF(ISTEXT('October 2017'!#REF!),0,'October 2017'!#REF!)) -> #REF!
A9: =IF(ISBLANK('October 2017'!A7),"",IF(ISTEXT('October 2017'!A7),0,'October 2017'!A7)) -> 445322 | B9: =IF(ISBLANK('October 2017'!G7),"",IF(ISTEXT('October 2017'!G7),0,'October 2017'!G7)) -> 2088
A10: =IF(ISBLANK('October 2017'!A11),"",IF(ISTEXT('October 2017'!A11),0,'October 2017'!A11)) -> 444826 | B10: =IF(ISBLANK('October 2017'!G11),"",IF(ISTEXT('October 2017'!G11),0,'October 2017'!G11)) -> 688.5
A11: =IF(ISBLANK('October 2017'!A12),"",IF(ISTEXT('October 2017'!A12),0,'October 2017'!A12)) | B11: =IF(ISBLANK('October 2017'!G12),"",IF(ISTEXT('October 2017'!G12),0,'October 2017'!G12)) -> -688.5
A12: =IF(ISBLANK('October 2017'!A13),"",IF(ISTEXT('October 2017'!A13),0,'October 2017'!A13)) | B12: =IF(ISBLANK('October 2017'!G13),"",IF(ISTEXT('October 2017'!G13),0,'October 2017'!G13)) -> 345.6
A13: =IF(ISBLANK('October 2017'!A14),"",IF(ISTEXT('October 2017'!A14),0,'October 2017'!A14)) -> 445578 | B13: =IF(ISBLANK('October 2017'!G14),"",IF(ISTEXT('October 2017'!G14),0,'October 2017'!G14)) -> 1251.85
A14: =IF(ISBLANK('October 2017'!A18),"",IF(ISTEXT('October 2017'!A18),0,'October 2017'!A18)) -> 445323 | B14: =IF(ISBLANK('October 2017'!G18),"",IF(ISTEXT('October 2017'!G18),0,'October 2017'!G18)) -> 416.34
A15: =IF(ISBLANK('October 2017'!A19),"",IF(ISTEXT('October 2017'!A19),0,'October 2017'!A19)) | B15: =IF(ISBLANK('October 2017'!G19),"",IF(ISTEXT('October 2017'!G19),0,'October 2017'!G19))
A16: =IF(ISBLANK('October 2017'!A20),"",IF(ISTEXT('October 2017'!A20),0,'October 2017'!A20)) | B16: =IF(ISBLANK('October 2017'!G20),"",IF(ISTEXT('October 2017'!G20),0,'October 2017'!G20)) -> 418.75
A17: =IF(ISBLANK('October 2017'!A24),"",IF(ISTEXT('October 2017'!A24),0,'October 2017'!A24)) -> 445324 | B17: =IF(ISBLANK('October 2017'!G24),"",IF(ISTEXT('October 2017'!G24),0,'October 2017'!G24)) -> 700
A18: =IF(ISBLANK('October 2017'!A28),"",IF(ISTEXT('October 2017'!A28),0,'October 2017'!A28)) -> 445579 | B18: =IF(ISBLANK('October 2017'!G28),"",IF(ISTEXT('October 2017'!G28),0,'October 2017'!G28)) -> 120
A19: =IF(ISBLANK('October 2017'!A32),"",IF(ISTEXT('October 2017'!A32),0,'October 2017'!A32)) -> 444916 | B19: =IF(ISBLANK('October 2017'!G32),"",IF(ISTEXT('October 2017'!G32),0,'October 2017'!G32)) -> 7.95
A20: =IF(ISBLANK('October 2017'!A33),"",IF(ISTEXT('October 2017'!A33),0,'October 2017'!A33)) | B20: =IF(ISBLANK('October 2017'!G33),"",IF(ISTEXT('October 2017'!G33),0,'October 2017'!G33)) -> 75
A21: =IF(ISBLANK('October 2017'!A34),"",IF(ISTEXT('October 2017'!A34),0,'October 2017'!A34)) | B21: =IF(ISBLANK('October 2017'!G34),"",IF(ISTEXT('October 2017'!G34),0,'October 2017'!G34)) -> -40
A22: =IF(ISBLANK('October 2017'!#REF!),"",IF(ISTEXT('October 2017'!#REF!),0,'October 2017'!#REF!)) -> #REF! | B22: =IF(ISBLANK('October 2017'!#REF!),"",IF(ISTEXT('October 2017'!#REF!),0,'October 2017'!#REF!)) -> #REF!
A23: =IF(ISBLANK('October 2017'!A38),"",IF(ISTEXT('October 2017'!A38),0,'October 2017'!A38)) -> 444917 | B23: =IF(ISBLANK('October 2017'!G38),"",IF(ISTEXT('October 2017'!G38),0,'October 2017'!G38)) -> 4387.5
A24: =IF(ISBLANK('October 2017'!A39),"",IF(ISTEXT('October 2017'!A39),0,'October 2017'!A39)) -> 444918 | B24: =IF(ISBLANK('October 2017'!G39),"",IF(ISTEXT('October 2017'!G39),0,'October 2017'!G39)) -> 4988.24
A25: =IF(ISBLANK('October 2017'!A40),"",IF(ISTEXT('October 2017'!A40),0,'October 2017'!A40)) -> 444919 | B25: =IF(ISBLANK('October 2017'!G40),"",IF(ISTEXT('October 2017'!G40),0,'October 2017'!G40)) -> 45
A26: =IF(ISBLANK('October 2017'!A41),"",IF(ISTEXT('October 2017'!A41),0,'October 2017'!A41)) -> 445325 | B26: =IF(ISBLANK('October 2017'!G41),"",IF(ISTEXT('October 2017'!G41),0,'October 2017'!G41)) -> 116
A27: =IF(ISBLANK('October 2017'!#REF!),"",IF(ISTEXT('October 2017'!#REF!),0,'October 2017'!#REF!)) -> #REF! | B27: =IF(ISBLANK('October 2017'!#REF!),"",IF(ISTEXT('October 2017'!#REF!),0,'October 2017'!#REF!)) -> #REF!
A28: =IF(ISBLANK('October 2017'!A45),"",IF(ISTEXT('October 2017'!A45),0,'October 2017'!A45)) -> 444920 | B28: =IF(ISBLANK('October 2017'!G45),"",IF(ISTEXT('October 2017'!G45),0,'October 2017'!G45)) -> 226.13
A29: =IF(ISBLANK('October 2017'!A46),"",IF(ISTEXT('October 2017'!A46),0,'October 2017'!A46)) -> 445235 | B29: =IF(ISBLANK('October 2017'!G46),"",IF(ISTEXT('October 2017'!G46),0,'October 2017'!G46)) -> 164.12
A30: =IF(ISBLANK('October 2017'!A47),"",IF(ISTEXT('October 2017'!A47),0,'October 2017'!A47)) | B30: =IF(ISBLANK('October 2017'!G47),"",IF(ISTEXT('October 2017'!G47),0,'October 2017'!G47)) -> 988.44
A31: =IF(ISBLANK('October 2017'!A51),"",IF(ISTEXT('October 2017'!A51),0,'October 2017'!A51)) -> 444921 | B31: =IF(ISBLANK('October 2017'!G51),"",IF(ISTEXT('October 2017'!G51),0,'October 2017'!G51)) -> 179.98
A32: =IF(ISBLANK('October 2017'!A52),"",IF(ISTEXT('October 2017'!A52),0,'October 2017'!A52)) -> 445236 | B32: =IF(ISBLANK('October 2017'!G52),"",IF(ISTEXT('October 2017'!G52),0,'October 2017'!G52)) -> 6.99
A33: =IF(ISBLANK('October 2017'!A53),"",IF(ISTEXT('October 2017'!A53),0,'October 2017'!A53)) -> 445326 | B33: =IF(ISBLANK('October 2017'!G53),"",IF(ISTEXT('October 2017'!G53),0,'October 2017'!G53)) -> 7.99
A34: =IF(ISBLANK('October 2017'!A54),"",IF(ISTEXT('October 2017'!A54),0,'October 2017'!A54)) -> 445580 | B34: =IF(ISBLANK('October 2017'!G54),"",IF(ISTEXT('October 2017'!G54),0,'October 2017'!G54)) -> 79.99
A35: =IF(ISBLANK('October 2017'!A58),"",IF(ISTEXT('October 2017'!A58),0,'October 2017'!A58)) -> 444922 | B35: =IF(ISBLANK('October 2017'!G58),"",IF(ISTEXT('October 2017'!G58),0,'October 2017'!G58)) -> 125.23
A36: =IF(ISBLANK('October 2017'!A59),"",IF(ISTEXT('October 2017'!A59),0,'October 2017'!A59)) -> 445237 | B36: =IF(ISBLANK('October 2017'!G59),"",IF(ISTEXT('October 2017'!G59),0,'October 2017'!G59)) -> 5230
A37: =IF(ISBLANK('October 2017'!A60),"",IF(ISTEXT('October 2017'!A60),0,'October 2017'!A60)) | B37: =IF(ISBLANK('October 2017'!G60),"",IF(ISTEXT('October 2017'!G60),0,'October 2017'!G60))
A38: =IF(ISBLANK('October 2017'!A61),"",IF(ISTEXT('October 2017'!A61),0,'October 2017'!A61)) | B38: =IF(ISBLANK('October 2017'!G61),"",IF(ISTEXT('October 2017'!G61),0,'October 2017'!G61)) -> 2728.56
A39: =IF(ISBLANK('October 2017'!A62),"",IF(ISTEXT('October 2017'!A62),0,'October 2017'!A62)) | B39: =IF(ISBLANK('October 2017'!G62),"",IF(ISTEXT('October 2017'!G62),0,'October 2017'!G62))
A40: =IF(ISBLANK('October 2017'!A63),"",IF(ISTEXT('October 2017'!A63),0,'October 2017'!A63)) | B40: =IF(ISBLANK('October 2017'!G63),"",IF(ISTEXT('October 2017'!G63),0,'October 2017'!G63)) -> 485.05
...
