Workbook

Sheet October 2018
A1: Check Number | D1: Check Date | E1: Vendor Name | G1: Transaction Amount | V1: Description | W1: Account Name | X1: Department | Y1: Division | Z1: Object of Expenditure | AB1: Project Number
A2: 464433 | D2: 43018 | E2: BOB TOMES FORD | G2: 127.6 | V2: BLANKET PURCHASE ORDER | W2: AUTO MAINTENANCE | X2: EQUIPMENT SERVICES | Y2: EQUIP SERV-SHARED | Z2: BLANKET PURCHASE ORDER
G4: -51.23 | V4: INV# 57906 | W4: AUTO MAINTENANCE | X4: EQUIPMENT SERVICES | Y4: EQUIP SERV-SHARED | Z4: INV# 57906
G5: -50 | V5: INV# 58214 | W5: AUTO MAINTENANCE | X5: EQUIPMENT SERVICES | Y5: EQUIP SERV-SHARED | Z5: INV# 58214
G6: -6.85 | V6: INV# 58592 | W6: AUTO MAINTENANCE | X6: EQUIPMENT SERVICES | Y6: EQUIP SERV-SHARED | Z6: INV# 58592
G7: 6.85 | V7: INV# CM58592 | W7: AUTO MAINTENANCE | X7: EQUIPMENT SERVICES | Y7: EQUIP SERV-SHARED | Z7: INV# CM58592
G8: 50 | V8: PO# 199306 | W8: AUTO MAINTENANCE | X8: EQUIPMENT SERVICES | Y8: EQUIP SERV-SHARED | Z8: PO# 199306
A9: 465004 | D9: 43025 | G9: 89.95 | V9: BLANKET PURCHASE ORDER | W9: AUTO MAINTENANCE | X9: EQUIPMENT SERVICES | Y9: EQUIP SERV-SHARED | Z9: BLANKET PURCHASE ORDER
A10: 465440 | D10: 43039 | G10: 3.18 | V10: REQ# 241674 | W10: AUTO MAINTENANCE | X10: EQUIPMENT SERVICES | Y10: EQUIP SERV-SHARED | Z10: REQ# 241674
A11: 465660 | D11: 43039 | G11: 3035.29 | V11: BLANKET PURCHASE ORDER | W11: AUTO MAINTENANCE | X11: EQUIPMENT SERVICES | Y11: EQUIP SERV-SHARED | Z11: BLANKET PURCHASE ORDER
G32: -401.8 | V32: INV#59883 | W32: AUTO MAINTENANCE | X32: EQUIPMENT SERVICES | Y32: EQUIP SERV-SHARED | Z32: INV#59883
N36: =SUM(hList_Frame_1!B1:B33) -> 2802.99
A39: 464837 | D39: 43025 | E39: BOB BARKER COMPANY INC | G39: 19465.92 | V39: CLOTHING AND APPAREL | W39: DETENTION SUPPLIES | X39: SHERIFF'S OFFICE | Y39: JAIL OPS-ADMIN | Z39: CLOTHING AND APPAREL
Y40: MINIMUM SECURITY
G41: 247.68 | V41: credit # ut1.434884 | W41: DETENTION SUPPLIES | X41: SHERIFF'S OFFICE | Y41: JAIL OPS-ADMIN | Z41: credit # ut1.434884
G42: -247.68 | V42: org inv# ut1.432992 | W42: DETENTION SUPPLIES | X42: SHERIFF'S OFFICE | Y42: JAIL OPS-ADMIN | Z42: org inv# ut1.432992
A43: 465441 | D43: 43039 | G43: 700 | V43: PO# 218670 | W43: DETENTION SUPPLIES | X43: SHERIFF'S OFFICE | Y43: JAIL OPS-ADMIN | Z43: PO# 218670
A44: 465661 | D44: 43039 | G44: 5724 | V44: 217701 | W44: DETENTION SUPPLIES | X44: SHERIFF'S OFFICE | Y44: JAIL OPS-ADMIN | Z44: 217701
G45: 1330 | V45: 218670 | W45: DETENTION SUPPLIES | X45: SHERIFF'S OFFICE | Y45: JAIL OPS-ADMIN | Z45: 218670
G46: 3549.37 | V46: CLOTHING AND APPAREL | W46: DETENTION SUPPLIES | X46: JUVENILE PROBATION | Y46: JUV DET -ADMIN | Z46: CLOTHING AND APPAREL
G49: 3.7 | V49: LAUNDRY TEXTILES/SUPPLIES | W49: DETENTION SUPPLIES | X49: JUVENILE PROBATION | Y49: JUV DET -ADMIN | Z49: LAUNDRY TEXTILES/SUPPLIES
G50: 426.17 | V50: PERSONAL HYGIENE&GROOMING | W50: DETENTION SUPPLIES | X50: JUVENILE PROBATION | Y50: JUV DET -ADMIN | Z50: PERSONAL HYGIENE&GROOMING
G51: 227.23 | V51: TEXTILES/FIBERS/LINENS | W51: DETENTION SUPPLIES | X51: JUVENILE PROBATION | Y51: JUV DET -ADMIN | Z51: TEXTILES/FIBERS/LINENS
L53: =SUM(hList_Frame_1!B34:B46) -> 31426.39
A55: 464169 | D55: 43011 | E55: ECOLAB INC | G55: 1868.3 | V55: JANITORIAL SUPPLIES | W55: KITCHEN SUPPLIES | X55: SHERIFF'S OFFICE | Y55: MINIMUM SECURITY | Z55: JANITORIAL SUPPLIES
A56: 465442 | D56: 43039 | G56: 3142.55 | V56: JANITORIAL SUPPLIES | W56: DETENTION SUPPLIES | X56: SHERIFF'S OFFICE | Y56: MINIMUM SECURITY | Z56: JANITORIAL SUPPLIES
W57: JANITORIAL SUPPLIES | X57: JUVENILE PROBATION | Y57: JUV DET -ADMIN
G58: 3208.2 | V58: JANITORIAL SUPPLIES-GEN. | W58: DETENTION SUPPLIES | X58: SHERIFF'S OFFICE | Y58: JAIL OPS-ADMIN | Z58: JANITORIAL SUPPLIES-GEN.
A60: 465662 | D60: 43039 | G60: 1915.8 | V60: JANITORIAL SUPPLIES | W60: KITCHEN SUPPLIES | X60: SHERIFF'S OFFICE | Y60: MINIMUM SECURITY | Z60: JANITORIAL SUPPLIES
L62: =SUM(hList_Frame_1!B47:B52) -> 10134.85
A64: 465663 | D64: 43039 | E64: MATTHEW BENDER & CO INC | G64: 276.1 | V64: BLANKET PURCHASE ORDER | W64: LIBRARY UPDATES | X64: BUDGET | Y64: LAW LIBRARY-ADMIN | Z64: BLANKET PURCHASE ORDER
P66: =SUM(hList_Frame_1!B53:B53) -> 276.1
A68: 464719 | D68: 43025 | E68: GIBBS, GREGG M PC | G68: 300 | V68: 296-30195-16 | W68: COURT APPOINTED ATTORNEY | X68: COURT APPT REPRESENTATION | Y68: COURT APPT REPRESENTATION | Z68: 296-30195-16 | AB68: ID296A
A69: 465134 | D69: 43032 | G69: 340 | V69: 417-30022-17 | W69: COURT APPOINTED ATTORNEY | X69: COURT APPT REPRESENTATION | Y69: COURT APPT REPRESENTATION | Z69: 417-30022-17 | AB69: ID417A
W70: MEDIATOR COSTS | X70: DISTRICT COURTS | Y70: DIST CT-SHARED | AB70: 417MC
A71: 465337 | D71: 43039 | G71: 920 | V71: 199-30108-16 | W71: COURT APPOINTED ATTORNEY | X71: COURT APPT REPRESENTATION | Y71: COURT APPT REPRESENTATION | Z71: 199-30108-16 | AB71: ID199A
W72: MEDIATOR COSTS | X72: DISTRICT COURTS | Y72: DIST CT-SHARED | AB72: 199MC
G73: 910 | V73: 199-30176-16 | W73: COURT APPOINTED ATTORNEY | X73: COURT APPT REPRESENTATION | Y73: COURT APPT REPRESENTATION | Z73: 199-30176-16 | AB73: ID199A
G74: 1295 | V74: 296-30103-16 | W74: COURT APPOINTED ATTORNEY | X74: COURT APPT REPRESENTATION | Y74: COURT APPT REPRESENTATION | Z74: 296-30103-16 | AB74: ID296A
W75: MEDIATOR COSTS | X75: DISTRICT COURTS | Y75: DIST CT-SHARED | AB75: 296MC
...

Sheet hList_Frame_1
A1: =IF(ISBLANK('October 2018'!A2),"",IF(ISTEXT('October 2018'!A2),0,'October 2018'!A2)) -> 464433 | B1: =IF(ISBLANK('October 2018'!G2),"",IF(ISTEXT('October 2018'!G2),0,'October 2018'!G2)) -> 127.6
A2: =IF(ISBLANK('October 2018'!A3),"",IF(ISTEXT('October 2018'!A3),0,'October 2018'!A3)) | B2: =IF(ISBLANK('October 2018'!G3),"",IF(ISTEXT('October 2018'!G3),0,'October 2018'!G3))
A3: =IF(ISBLANK('October 2018'!A4),"",IF(ISTEXT('October 2018'!A4),0,'October 2018'!A4)) | B3: =IF(ISBLANK('October 2018'!G4),"",IF(ISTEXT('October 2018'!G4),0,'October 2018'!G4)) -> -51.23
A4: =IF(ISBLANK('October 2018'!A5),"",IF(ISTEXT('October 2018'!A5),0,'October 2018'!A5)) | B4: =IF(ISBLANK('October 2018'!G5),"",IF(ISTEXT('October 2018'!G5),0,'October 2018'!G5)) -> -50
A5: =IF(ISBLANK('October 2018'!A6),"",IF(ISTEXT('October 2018'!A6),0,'October 2018'!A6)) | B5: =IF(ISBLANK('October 2018'!G6),"",IF(ISTEXT('October 2018'!G6),0,'October 2018'!G6)) -> -6.85
A6: =IF(ISBLANK('October 2018'!A7),"",IF(ISTEXT('October 2018'!A7),0,'October 2018'!A7)) | B6: =IF(ISBLANK('October 2018'!G7),"",IF(ISTEXT('October 2018'!G7),0,'October 2018'!G7)) -> 6.85
A7: =IF(ISBLANK('October 2018'!A8),"",IF(ISTEXT('October 2018'!A8),0,'October 2018'!A8)) | B7: =IF(ISBLANK('October 2018'!G8),"",IF(ISTEXT('October 2018'!G8),0,'October 2018'!G8)) -> 50
A8: =IF(ISBLANK('October 2018'!A9),"",IF(ISTEXT('October 2018'!A9),0,'October 2018'!A9)) -> 465004 | B8: =IF(ISBLANK('October 2018'!G9),"",IF(ISTEXT('October 2018'!G9),0,'October 2018'!G9)) -> 89.95
A9: =IF(ISBLANK('October 2018'!A10),"",IF(ISTEXT('October 2018'!A10),0,'October 2018'!A10)) -> 465440 | B9: =IF(ISBLANK('October 2018'!G10),"",IF(ISTEXT('October 2018'!G10),0,'October 2018'!G10)) -> 3.18
A10: =IF(ISBLANK('October 2018'!A11),"",IF(ISTEXT('October 2018'!A11),0,'October 2018'!A11)) -> 465660 | B10: =IF(ISBLANK('October 2018'!G11),"",IF(ISTEXT('October 2018'!G11),0,'October 2018'!G11)) -> 3035.29
A11: =IF(ISBLANK('October 2018'!A12),"",IF(ISTEXT('October 2018'!A12),0,'October 2018'!A12)) | B11: =IF(ISBLANK('October 2018'!G12),"",IF(ISTEXT('October 2018'!G12),0,'October 2018'!G12))
A12: =IF(ISBLANK('October 2018'!A13),"",IF(ISTEXT('October 2018'!A13),0,'October 2018'!A13)) | B12: =IF(ISBLANK('October 2018'!G13),"",IF(ISTEXT('October 2018'!G13),0,'October 2018'!G13))
... A33: =IF(ISBLANK('October 2018'!A34),"",IF(ISTEXT('October 2018'!A34),0,'October 2018'!A34)) | B33: =IF(ISBLANK('October 2018'!G34),"",IF(ISTEXT('October 2018'!G34),0,'October 2018'!G34))
A34: =IF(ISBLANK('October 2018'!A39),"",IF(ISTEXT('October 2018'!A39),0,'October 2018'!A39)) -> 464837 | B34: =IF(ISBLANK('October 2018'!G39),"",IF(ISTEXT('October 2018'!G39),0,'October 2018'!G39)) -> 19465.92
A35: =IF(ISBLANK('October 2018'!A40),"",IF(ISTEXT('October 2018'!A40),0,'October 2018'!A40)) | B35: =IF(ISBLANK('October 2018'!G40),"",IF(ISTEXT('October 2018'!G40),0,'October 2018'!G40))
A36: =IF(ISBLANK('October 2018'!A41),"",IF(ISTEXT('October 2018'!A41),0,'October 2018'!A41)) | B36: =IF(ISBLANK('October 2018'!G41),"",IF(ISTEXT('October 2018'!G41),0,'October 2018'!G41)) -> 247.68
A37: =IF(ISBLANK('October 2018'!A42),"",IF(ISTEXT('October 2018'!A42),0,'October 2018'!A42)) | B37: =IF(ISBLANK('October 2018'!G42),"",IF(ISTEXT('October 2018'!G42),0,'October 2018'!G42)) -> -247.68
A38: =IF(ISBLANK('October 2018'!A43),"",IF(ISTEXT('October 2018'!A43),0,'October 2018'!A43)) -> 465441 | B38: =IF(ISBLANK('October 2018'!G43),"",IF(ISTEXT('October 2018'!G43),0,'October 2018'!G43)) -> 700
A39: =IF(ISBLANK('October 2018'!A44),"",IF(ISTEXT('October 2018'!A44),0,'October 2018'!A44)) -> 465661 | B39: =IF(ISBLANK('October 2018'!G44),"",IF(ISTEXT('October 2018'!G44),0,'October 2018'!G44)) -> 5724
A40: =IF(ISBLANK('October 2018'!A45),"",IF(ISTEXT('October 2018'!A45),0,'October 2018'!A45)) | B40: =IF(ISBLANK('October 2018'!G45),"",IF(ISTEXT('October 2018'!G45),0,'October 2018'!G45)) -> 1330
A41: =IF(ISBLANK('October 2018'!A46),"",IF(ISTEXT('October 2018'!A46),0,'October 2018'!A46)) | B41: =IF(ISBLANK('October 2018'!G46),"",IF(ISTEXT('October 2018'!G46),0,'October 2018'!G46)) -> 3549.37
A42: =IF(ISBLANK('October 2018'!A47),"",IF(ISTEXT('October 2018'!A47),0,'October 2018'!A47)) | B42: =IF(ISBLANK('October 2018'!G47),"",IF(ISTEXT('October 2018'!G47),0,'October 2018'!G47))
A43: =IF(ISBLANK('October 2018'!A48),"",IF(ISTEXT('October 2018'!A48),0,'October 2018'!A48)) | B43: =IF(ISBLANK('October 2018'!G48),"",IF(ISTEXT('October 2018'!G48),0,'October 2018'!G48))
A44: =IF(ISBLANK('October 2018'!A49),"",IF(ISTEXT('October 2018'!A49),0,'October 2018'!A49)) | B44: =IF(ISBLANK('October 2018'!G49),"",IF(ISTEXT('October 2018'!G49),0,'October 2018'!G49)) -> 3.7
A45: =IF(ISBLANK('October 2018'!A50),"",IF(ISTEXT('October 2018'!A50),0,'October 2018'!A50)) | B45: =IF(ISBLANK('October 2018'!G50),"",IF(ISTEXT('October 2018'!G50),0,'October 2018'!G50)) -> 426.17
A46: =IF(ISBLANK('October 2018'!A51),"",IF(ISTEXT('October 2018'!A51),0,'October 2018'!A51)) | B46: =IF(ISBLANK('October 2018'!G51),"",IF(ISTEXT('October 2018'!G51),0,'October 2018'!G51)) -> 227.23
A47: =IF(ISBLANK('October 2018'!A55),"",IF(ISTEXT('October 2018'!A55),0,'October 2018'!A55)) -> 464169 | B47: =IF(ISBLANK('October 2018'!G55),"",IF(ISTEXT('October 2018'!G55),0,'October 2018'!G55)) -> 1868.3
A48: =IF(ISBLANK('October 2018'!A56),"",IF(ISTEXT('October 2018'!A56),0,'October 2018'!A56)) -> 465442 | B48: =IF(ISBLANK('October 2018'!G56),"",IF(ISTEXT('October 2018'!G56),0,'October 2018'!G56)) -> 3142.55
A49: =IF(ISBLANK('October 2018'!A57),"",IF(ISTEXT('October 2018'!A57),0,'October 2018'!A57)) | B49: =IF(ISBLANK('October 2018'!G57),"",IF(ISTEXT('October 2018'!G57),0,'October 2018'!G57))
A50: =IF(ISBLANK('October 2018'!A58),"",IF(ISTEXT('October 2018'!A58),0,'October 2018'!A58)) | B50: =IF(ISBLANK('October 2018'!G58),"",IF(ISTEXT('October 2018'!G58),0,'October 2018'!G58)) -> 3208.2
A51: =IF(ISBLANK('October 2018'!A59),"",IF(ISTEXT('October 2018'!A59),0,'October 2018'!A59)) | B51: =IF(ISBLANK('October 2018'!G59),"",IF(ISTEXT('October 2018'!G59),0,'October 2018'!G59))
A52: =IF(ISBLANK('October 2018'!A60),"",IF(ISTEXT('October 2018'!A60),0,'October 2018'!A60)) -> 465662 | B52: =IF(ISBLANK('October 2018'!G60),"",IF(ISTEXT('October 2018'!G60),0,'October 2018'!G60)) -> 1915.8
A53: =IF(ISBLANK('October 2018'!A64),"",IF(ISTEXT('October 2018'!A64),0,'October 2018'!A64)) -> 465663 | B53: =IF(ISBLANK('October 2018'!G64),"",IF(ISTEXT('October 2018'!G64),0,'October 2018'!G64)) -> 276.1
A54: =IF(ISBLANK('October 2018'!A68),"",IF(ISTEXT('October 2018'!A68),0,'October 2018'!A68)) -> 464719 | B54: =IF(ISBLANK('October 2018'!G68),"",IF(ISTEXT('October 2018'!G68),0,'October 2018'!G68)) -> 300
A55: =IF(ISBLANK('October 2018'!A69),"",IF(ISTEXT('October 2018'!A69),0,'October 2018'!A69)) -> 465134 | B55: =IF(ISBLANK('October 2018'!G69),"",IF(ISTEXT('October 2018'!G69),0,'October 2018'!G69)) -> 340
A56: =IF(ISBLANK('October 2018'!A70),"",IF(ISTEXT('October 2018'!A70),0,'October 2018'!A70)) | B56: =IF(ISBLANK('October 2018'!G70),"",IF(ISTEXT('October 2018'!G70),0,'October 2018'!G70))
A57: =IF(ISBLANK('October 2018'!A71),"",IF(ISTEXT('October 2018'!A71),0,'October 2018'!A71)) -> 465337 | B57: =IF(ISBLANK('October 2018'!G71),"",IF(ISTEXT('October 2018'!G71),0,'October 2018'!G71)) -> 920
A58: =IF(ISBLANK('October 2018'!A72),"",IF(ISTEXT('October 2018'!A72),0,'October 2018'!A72)) | B58: =IF(ISBLANK('October 2018'!G72),"",IF(ISTEXT('October 2018'!G72),0,'October 2018'!G72))
A59: =IF(ISBLANK('October 2018'!A73),"",IF(ISTEXT('October 2018'!A73),0,'October 2018'!A73)) | B59: =IF(ISBLANK('October 2018'!G73),"",IF(ISTEXT('October 2018'!G73),0,'October 2018'!G73)) -> 910
A60: =IF(ISBLANK('October 2018'!A74),"",IF(ISTEXT('October 2018'!A74),0,'October 2018'!A74)) | B60: =IF(ISBLANK('October 2018'!G74),"",IF(ISTEXT('October 2018'!G74),0,'October 2018'!G74)) -> 1295
...
