Workbook

Sheet December 2014
A1: Check Number | C1: Check Date | D1: Vendor Name | F1: Transaction Amount | S1: Description | T1: Account Name | U1: Department | V1: Division | W1: Object of Expenditure | X1: Project Number
A2: 410793 | C2: 41975 | D2: BOB TOMES FORD | F2: 552.33 | S2: BLANKET PURCHASE ORDER | T2: AUTO MAINTENANCE | U2: EQUIPMENT SERVICES | V2: EQUIP SERV-SHARED | W2: BLANKET PURCHASE ORDER
A4: 410960 | C4: 41982 | F4: 3680.72 | S4: AUTO/TRUCK MAINT. ITEMS | T4: AUTO MAINTENANCE | U4: EQUIPMENT SERVICES | V4: EQUIP SERV-SHARED | W4: AUTO/TRUCK MAINT. ITEMS
F6: 122.11 | S6: BLANKET PURCHASE ORDER | T6: AUTO MAINTENANCE | U6: EQUIPMENT SERVICES | V6: EQUIP SERV-SHARED | W6: BLANKET PURCHASE ORDER
A10: 411510 | C10: 41989 | F10: 1211.34 | S10: BLANKET PURCHASE ORDER | T10: AUTO MAINTENANCE | U10: EQUIPMENT SERVICES | V10: EQUIP SERV-SHARED | W10: BLANKET PURCHASE ORDER
F19: -600 | S19: INV# 5404180 | T19: AUTO MAINTENANCE | U19: EQUIPMENT SERVICES | V19: EQUIP SERV-SHARED | W19: INV# 5404180
A20: 411887 | C20: 42003 | F20: 354.16 | S20: BLANKET PURCHASE ORDER | T20: AUTO MAINTENANCE | U20: EQUIPMENT SERVICES | V20: EQUIP SERV-SHARED | W20: BLANKET PURCHASE ORDER
L29: =SUM(hList_Frame_1!B1:B26) -> 5320.66
A31: 410961 | C31: 41982 | D31: BOB BARKER CO | F31: 864 | S31: CLOTHING AND APPAREL | T31: DETENTION SUPPLIES | U31: SHERIFF'S OFFICE | V31: JAIL OPS-ADMIN | W31: CLOTHING AND APPAREL
A33: 411511 | C33: 41989 | F33: 7089.3 | S33: CLOTHING AND APPAREL | T33: DETENTION SUPPLIES | U33: SHERIFF'S OFFICE | V33: JAIL OPS-ADMIN | W33: CLOTHING AND APPAREL
A34: 411888 | C34: 42003 | F34: 8365.8 | S34: CLOTHING AND APPAREL | T34: DETENTION SUPPLIES | U34: SHERIFF'S OFFICE | V34: JAIL OPS-ADMIN | W34: CLOTHING AND APPAREL
J36: =SUM(hList_Frame_1!B27:B30) -> 16319.1
A38: 410962 | C38: 41982 | D38: C&W ELECTRIC SUPPLY CO | F38: 92.19 | S38: BUILDING MAINT. & REPAIR | T38: BUILDING MAINTENANCE | U38: FACILITIES & PARKS | V38: BUILD SUP-SHARED | W38: BUILDING MAINT. & REPAIR | X38: B21001
P40: =SUM(hList_Frame_1!B31:B31) -> 92.19
A42: 410963 | C42: 41982 | D42: DALLAS LITE & BARRICADE INC | F42: 3817.42 | S42: PO# 180238 | T42: PROPERTY DAMAGE CLAIMS | U42: HUMAN RESOURCES | V42: RISK MGMT - LIABILITY INS | W42: PO# 180238
A43: 411889 | C43: 42003 | F43: 37299.98 | S43: MARKER/SIGN/TRAFFIC ITEMS | T43: ROAD EQUIPMENT | U43: PUBLIC WORKS | V43: R&B - ADMIN | W43: MARKER/SIGN/TRAFFIC ITEMS | X43: R75004
K45: =SUM(hList_Frame_1!B32:B33) -> 41117.4
A47: 410964 | C47: 41982 | D47: ECOLAB INC | F47: 1039.8 | S47: BUTCHER/MEAT PROC. EQUIP. | T47: DETENTION SUPPLIES | U47: SHERIFF'S OFFICE | V47: JAIL OPS-ADMIN | W47: BUTCHER/MEAT PROC. EQUIP.
A48: 411512 | C48: 41989 | F48: 576 | S48: JANITORIAL SUPPLIES-GEN. | T48: DETENTION SUPPLIES | U48: SHERIFF'S OFFICE | V48: JAIL OPS-ADMIN | W48: JANITORIAL SUPPLIES-GEN.
A49: 411890 | C49: 42003 | F49: 2799.9 | S49: JANITORIAL SUPPLIES-GEN. | T49: DETENTION SUPPLIES | U49: SHERIFF'S OFFICE | V49: JAIL OPS-ADMIN | W49: JANITORIAL SUPPLIES-GEN.
L51: =SUM(hList_Frame_1!B34:B36) -> 4415.7
A53: 410965 | C53: 41982 | D53: GIBBS, GREGG M PC | F53: 1525 | S53: 199-30072-13 | T53: COURT APPOINTED ATTORNEY | U53: INDIGENT DEFENSE | V53: INDIGENT DEFENSE | W53: 199-30072-13 | X53: ID199A
A54: 411891 | C54: 42003 | F54: 7780 | S54: 199-30083-13 | T54: COURT APPOINTED ATTORNEY | U54: INDIGENT DEFENSE | V54: INDIGENT DEFENSE | W54: 199-30083-13 | X54: ID199A
T55: INVESTIGATION EXPENSE | U55: INDIGENT DEFENSE | V55: INDIGENT DEFENSE | X55: ID199A
T56: MEDIATOR COSTS | U56: DISTRICT COURTS | V56: DIST CT-SHARED | X56: 199MC
F57: 475 | S57: 199-30139-14 | T57: COURT APPOINTED ATTORNEY | U57: INDIGENT DEFENSE | V57: INDIGENT DEFENSE | W57: 199-30139-14 | X57: ID199A
L59: =SUM(hList_Frame_1!B37:B41) -> 9780
A61: 411513 | C61: 41989 | D61: HEIDENHEIMER, MARK | F61: 450 | S61: 004-87379-14 | T61: COURT APPOINTED ATTORNEY | U61: INDIGENT DEFENSE | V61: INDIGENT DEFENSE | W61: 004-87379-14 | X61: IDCL4N
F62: 450 | S62: 006-80339-13 | T62: COURT APPOINTED ATTORNEY | U62: INDIGENT DEFENSE | V62: INDIGENT DEFENSE | W62: 006-80339-13 | X62: IDCL6M
F63: 100 | S63: 006-87664-14 | T63: COURT APPOINTED ATTORNEY | U63: INDIGENT DEFENSE | V63: INDIGENT DEFENSE | W63: 006-87664-14 | X63: IDCL6M
F64: 450 | S64: 006-87942-14 | T64: COURT APPOINTED ATTORNEY | U64: INDIGENT DEFENSE | V64: INDIGENT DEFENSE | W64: 006-87942-14 | X64: IDCL6M
L66: =SUM(hList_Frame_1!B42:B45) -> 1450
A68: 410966 | C68: 41982 | D68: POLLOCK PAPER DISTRIBUTORS | F68: 6396 | S68: PAPER/PLASTIC, DISPOSABLE | T68: JANITORIAL SUPPLIES | U68: SHERIFF'S OFFICE | V68: JAIL OPS-ADMIN | W68: PAPER/PLASTIC, DISPOSABLE
A70: 411892 | C70: 42003 | F70: 509.32 | S70: JANITORIAL SUPPLIES-GEN. | T70: JANITORIAL SUPPLIES | U70: SHERIFF'S OFFICE | V70: JAIL OPS-ADMIN | W70: JANITORIAL SUPPLIES-GEN.
F71: 6391.68 | S71: PAPER/PLASTIC, DISPOSABLE | T71: JANITORIAL SUPPLIES | U71: SHERIFF'S OFFICE | V71: JAIL OPS-ADMIN | W71: PAPER/PLASTIC, DISPOSABLE
J74: =SUM(hList_Frame_1!B46:B50) -> 13297
A76: 410967 | C76: 41982 | D76: THOMASON TIRE INC | F76: 808.95 | S76: BLANKET PURCHASE ORDER | T76: AUTO MAINTENANCE | U76: EQUIPMENT SERVICES | V76: EQUIP SERV-SHARED | W76: BLANKET PURCHASE ORDER
A82: 410968 | C82: 41982 | F82: 190 | S82: BLANKET PURCHASE ORDER | T82: AUTO MAINTENANCE | U82: EQUIPMENT SERVICES | V82: EQUIP SERV-SHARED | W82: BLANKET PURCHASE ORDER
A83: 411893 | C83: 42003 | F83: 412.2 | S83: TIRES AND TUBES | T83: RESTORATION | U83: MYERS PARK | V83: FARM MUS-ADMIN | W83: TIRES AND TUBES
M85: =SUM(hList_Frame_1!B51:B58) -> 1411.15
...

Sheet hList_Frame_1
A1: =IF(ISBLANK('December 2014'!A2),"",IF(ISTEXT('December 2014'!A2),0,'December 2014'!A2)) -> 410793 | B1: =IF(ISBLANK('December 2014'!F2),"",IF(ISTEXT('December 2014'!F2),0,'December 2014'!F2)) -> 552.33
A2: =IF(ISBLANK('December 2014'!A3),"",IF(ISTEXT('December 2014'!A3),0,'December 2014'!A3)) | B2: =IF(ISBLANK('December 2014'!F3),"",IF(ISTEXT('December 2014'!F3),0,'December 2014'!F3))
A3: =IF(ISBLANK('December 2014'!A4),"",IF(ISTEXT('December 2014'!A4),0,'December 2014'!A4)) -> 410960 | B3: =IF(ISBLANK('December 2014'!F4),"",IF(ISTEXT('December 2014'!F4),0,'December 2014'!F4)) -> 3680.72
A4: =IF(ISBLANK('December 2014'!A5),"",IF(ISTEXT('December 2014'!A5),0,'December 2014'!A5)) | B4: =IF(ISBLANK('December 2014'!F5),"",IF(ISTEXT('December 2014'!F5),0,'December 2014'!F5))
A5: =IF(ISBLANK('December 2014'!A6),"",IF(ISTEXT('December 2014'!A6),0,'December 2014'!A6)) | B5: =IF(ISBLANK('December 2014'!F6),"",IF(ISTEXT('December 2014'!F6),0,'December 2014'!F6)) -> 122.11
A6: =IF(ISBLANK('December 2014'!A7),"",IF(ISTEXT('December 2014'!A7),0,'December 2014'!A7)) | B6: =IF(ISBLANK('December 2014'!F7),"",IF(ISTEXT('December 2014'!F7),0,'December 2014'!F7))
A7: =IF(ISBLANK('December 2014'!A8),"",IF(ISTEXT('December 2014'!A8),0,'December 2014'!A8)) | B7: =IF(ISBLANK('December 2014'!F8),"",IF(ISTEXT('December 2014'!F8),0,'December 2014'!F8))
A8: =IF(ISBLANK('December 2014'!A9),"",IF(ISTEXT('December 2014'!A9),0,'December 2014'!A9)) | B8: =IF(ISBLANK('December 2014'!F9),"",IF(ISTEXT('December 2014'!F9),0,'December 2014'!F9))
A9: =IF(ISBLANK('December 2014'!A10),"",IF(ISTEXT('December 2014'!A10),0,'December 2014'!A10)) -> 411510 | B9: =IF(ISBLANK('December 2014'!F10),"",IF(ISTEXT('December 2014'!F10),0,'December 2014'!F10)) -> 1211.34
A10: =IF(ISBLANK('December 2014'!A11),"",IF(ISTEXT('December 2014'!A11),0,'December 2014'!A11)) | B10: =IF(ISBLANK('December 2014'!F11),"",IF(ISTEXT('December 2014'!F11),0,'December 2014'!F11))
A11: =IF(ISBLANK('December 2014'!A12),"",IF(ISTEXT('December 2014'!A12),0,'December 2014'!A12)) | B11: =IF(ISBLANK('December 2014'!F12),"",IF(ISTEXT('December 2014'!F12),0,'December 2014'!F12))
A12: =IF(ISBLANK('December 2014'!A13),"",IF(ISTEXT('December 2014'!A13),0,'December 2014'!A13)) | B12: =IF(ISBLANK('December 2014'!F13),"",IF(ISTEXT('December 2014'!F13),0,'December 2014'!F13))
... A26: =IF(ISBLANK('December 2014'!A27),"",IF(ISTEXT('December 2014'!A27),0,'December 2014'!A27)) | B26: =IF(ISBLANK('December 2014'!F27),"",IF(ISTEXT('December 2014'!F27),0,'December 2014'!F27))
A27: =IF(ISBLANK('December 2014'!A31),"",IF(ISTEXT('December 2014'!A31),0,'December 2014'!A31)) -> 410961 | B27: =IF(ISBLANK('December 2014'!F31),"",IF(ISTEXT('December 2014'!F31),0,'December 2014'!F31)) -> 864
A28: =IF(ISBLANK('December 2014'!A32),"",IF(ISTEXT('December 2014'!A32),0,'December 2014'!A32)) | B28: =IF(ISBLANK('December 2014'!F32),"",IF(ISTEXT('December 2014'!F32),0,'December 2014'!F32))
A29: =IF(ISBLANK('December 2014'!A33),"",IF(ISTEXT('December 2014'!A33),0,'December 2014'!A33)) -> 411511 | B29: =IF(ISBLANK('December 2014'!F33),"",IF(ISTEXT('December 2014'!F33),0,'December 2014'!F33)) -> 7089.3
A30: =IF(ISBLANK('December 2014'!A34),"",IF(ISTEXT('December 2014'!A34),0,'December 2014'!A34)) -> 411888 | B30: =IF(ISBLANK('December 2014'!F34),"",IF(ISTEXT('December 2014'!F34),0,'December 2014'!F34)) -> 8365.8
A31: =IF(ISBLANK('December 2014'!A38),"",IF(ISTEXT('December 2014'!A38),0,'December 2014'!A38)) -> 410962 | B31: =IF(ISBLANK('December 2014'!F38),"",IF(ISTEXT('December 2014'!F38),0,'December 2014'!F38)) -> 92.19
A32: =IF(ISBLANK('December 2014'!A42),"",IF(ISTEXT('December 2014'!A42),0,'December 2014'!A42)) -> 410963 | B32: =IF(ISBLANK('December 2014'!F42),"",IF(ISTEXT('December 2014'!F42),0,'December 2014'!F42)) -> 3817.42
A33: =IF(ISBLANK('December 2014'!A43),"",IF(ISTEXT('December 2014'!A43),0,'December 2014'!A43)) -> 411889 | B33: =IF(ISBLANK('December 2014'!F43),"",IF(ISTEXT('December 2014'!F43),0,'December 2014'!F43)) -> 37299.98
A34: =IF(ISBLANK('December 2014'!A47),"",IF(ISTEXT('December 2014'!A47),0,'December 2014'!A47)) -> 410964 | B34: =IF(ISBLANK('December 2014'!F47),"",IF(ISTEXT('December 2014'!F47),0,'December 2014'!F47)) -> 1039.8
A35: =IF(ISBLANK('December 2014'!A48),"",IF(ISTEXT('December 2014'!A48),0,'December 2014'!A48)) -> 411512 | B35: =IF(ISBLANK('December 2014'!F48),"",IF(ISTEXT('December 2014'!F48),0,'December 2014'!F48)) -> 576
A36: =IF(ISBLANK('December 2014'!A49),"",IF(ISTEXT('December 2014'!A49),0,'December 2014'!A49)) -> 411890 | B36: =IF(ISBLANK('December 2014'!F49),"",IF(ISTEXT('December 2014'!F49),0,'December 2014'!F49)) -> 2799.9
A37: =IF(ISBLANK('December 2014'!A53),"",IF(ISTEXT('December 2014'!A53),0,'December 2014'!A53)) -> 410965 | B37: =IF(ISBLANK('December 2014'!F53),"",IF(ISTEXT('December 2014'!F53),0,'December 2014'!F53)) -> 1525
A38: =IF(ISBLANK('December 2014'!A54),"",IF(ISTEXT('December 2014'!A54),0,'December 2014'!A54)) -> 411891 | B38: =IF(ISBLANK('December 2014'!F54),"",IF(ISTEXT('December 2014'!F54),0,'December 2014'!F54)) -> 7780
A39: =IF(ISBLANK('December 2014'!A55),"",IF(ISTEXT('December 2014'!A55),0,'December 2014'!A55)) | B39: =IF(ISBLANK('December 2014'!F55),"",IF(ISTEXT('December 2014'!F55),0,'December 2014'!F55))
A40: =IF(ISBLANK('December 2014'!A56),"",IF(ISTEXT('December 2014'!A56),0,'December 2014'!A56)) | B40: =IF(ISBLANK('December 2014'!F56),"",IF(ISTEXT('December 2014'!F56),0,'December 2014'!F56))
A41: =IF(ISBLANK('December 2014'!A57),"",IF(ISTEXT('December 2014'!A57),0,'December 2014'!A57)) | B41: =IF(ISBLANK('December 2014'!F57),"",IF(ISTEXT('December 2014'!F57),0,'December 2014'!F57)) -> 475
A42: =IF(ISBLANK('December 2014'!A61),"",IF(ISTEXT('December 2014'!A61),0,'December 2014'!A61)) -> 411513 | B42: =IF(ISBLANK('December 2014'!F61),"",IF(ISTEXT('December 2014'!F61),0,'December 2014'!F61)) -> 450
A43: =IF(ISBLANK('December 2014'!A62),"",IF(ISTEXT('December 2014'!A62),0,'December 2014'!A62)) | B43: =IF(ISBLANK('December 2014'!F62),"",IF(ISTEXT('December 2014'!F62),0,'December 2014'!F62)) -> 450
A44: =IF(ISBLANK('December 2014'!A63),"",IF(ISTEXT('December 2014'!A63),0,'December 2014'!A63)) | B44: =IF(ISBLANK('December 2014'!F63),"",IF(ISTEXT('December 2014'!F63),0,'December 2014'!F63)) -> 100
A45: =IF(ISBLANK('December 2014'!A64),"",IF(ISTEXT('December 2014'!A64),0,'December 2014'!A64)) | B45: =IF(ISBLANK('December 2014'!F64),"",IF(ISTEXT('December 2014'!F64),0,'December 2014'!F64)) -> 450
A46: =IF(ISBLANK('December 2014'!A68),"",IF(ISTEXT('December 2014'!A68),0,'December 2014'!A68)) -> 410966 | B46: =IF(ISBLANK('December 2014'!F68),"",IF(ISTEXT('December 2014'!F68),0,'December 2014'!F68)) -> 6396
A47: =IF(ISBLANK('December 2014'!A69),"",IF(ISTEXT('December 2014'!A69),0,'December 2014'!A69)) | B47: =IF(ISBLANK('December 2014'!F69),"",IF(ISTEXT('December 2014'!F69),0,'December 2014'!F69))
A48: =IF(ISBLANK('December 2014'!A70),"",IF(ISTEXT('December 2014'!A70),0,'December 2014'!A70)) -> 411892 | B48: =IF(ISBLANK('December 2014'!F70),"",IF(ISTEXT('December 2014'!F70),0,'December 2014'!F70)) -> 509.32
A49: =IF(ISBLANK('December 2014'!A71),"",IF(ISTEXT('December 2014'!A71),0,'December 2014'!A71)) | B49: =IF(ISBLANK('December 2014'!F71),"",IF(ISTEXT('December 2014'!F71),0,'December 2014'!F71)) -> 6391.68
A50: =IF(ISBLANK('December 2014'!A72),"",IF(ISTEXT('December 2014'!A72),0,'December 2014'!A72)) | B50: =IF(ISBLANK('December 2014'!F72),"",IF(ISTEXT('December 2014'!F72),0,'December 2014'!F72))
A51: =IF(ISBLANK('December 2014'!A76),"",IF(ISTEXT('December 2014'!A76),0,'December 2014'!A76)) -> 410967 | B51: =IF(ISBLANK('December 2014'!F76),"",IF(ISTEXT('December 2014'!F76),0,'December 2014'!F76)) -> 808.95
A52: =IF(ISBLANK('December 2014'!A77),"",IF(ISTEXT('December 2014'!A77),0,'December 2014'!A77)) | B52: =IF(ISBLANK('December 2014'!F77),"",IF(ISTEXT('December 2014'!F77),0,'December 2014'!F77))
A53: =IF(ISBLANK('December 2014'!A78),"",IF(ISTEXT('December 2014'!A78),0,'December 2014'!A78)) | B53: =IF(ISBLANK('December 2014'!F78),"",IF(ISTEXT('December 2014'!F78),0,'December 2014'!F78))
...
