Workbook

Sheet December 2016
A1: Check Number | D1: Check Date | E1: Vendor Name | G1: Transaction Amount | R1: Description | S1: Account Name | T1: Department | U1: Division | V1: Object of Expenditure | X1: Project Number
A2: 447892 | D2: 42710 | E2: BOB TOMES FORD | G2: 1453.03 | R2: BLANKET PURCHASE ORDER | S2: AUTO MAINTENANCE | T2: EQUIPMENT SERVICES | U2: EQUIP SERV-SHARED | V2: BLANKET PURCHASE ORDER
A3: 448633 | D3: 42719 | G3: 922.34 | R3: BLANKET PURCHASE ORDER | S3: AUTO MAINTENANCE | T3: EQUIPMENT SERVICES | U3: EQUIP SERV-SHARED | V3: BLANKET PURCHASE ORDER
G4: -84.86 | R4: INV# 10166 | S4: AUTO MAINTENANCE | T4: EQUIPMENT SERVICES | U4: EQUIP SERV-SHARED | V4: INV# 10166
G5: -83.16 | R5: INV# 5488462 | S5: AUTO MAINTENANCE | T5: EQUIPMENT SERVICES | U5: EQUIP SERV-SHARED | V5: INV# 5488462
G6: -83.16 | R6: INV# 5488809 | S6: AUTO MAINTENANCE | T6: EQUIPMENT SERVICES | U6: EQUIP SERV-SHARED | V6: INV# 5488809
G7: -50 | R7: INV# Q001469518 | S7: AUTO MAINTENANCE | T7: EQUIPMENT SERVICES | U7: EQUIP SERV-SHARED | V7: INV# Q001469518
L9: =SUM(G2:Q7) -> 2074.19
A11: 448237 | D11: 42717 | E11: BOB BARKER COMPANY, INC | G11: 960 | R11: CLOTHING AND APPAREL | S11: DETENTION SUPPLIES | T11: SHERIFF'S OFFICE | U11: JAIL OPS-ADMIN | V11: CLOTHING AND APPAREL
N13: =SUM(hList_Frame_1!B15:B15) -> 960
A15: 448238 | D15: 42717 | E15: HEIDENHEIMER, MARK | G15: 450 | R15: 006-81308-16 | S15: COURT APPOINTED ATTORNEY | T15: COURT APPT REPRESENTATION | U15: COURT APPT REPRESENTATION | V15: 006-81308-16 | X15: IDCL6M
N17: =SUM(hList_Frame_1!B16:B16) -> 450
A19: 447893 | D19: 42710 | E19: POLLOCK PAPER DISTRIBUTORS | G19: 468 | R19: JANITORIAL SUPPLIES-GEN. | S19: JANITORIAL SUPPLIES | V19: JANITORIAL SUPPLIES-GEN.
N21: =SUM(hList_Frame_1!B17:B17) -> 468
A23: 448239 | D23: 42717 | E23: TEXOMA FIRE EQUIPMENT INC | G23: 4990.5 | R23: EQUIP MAINT-GENERAL EQUIP | S23: FIRE EXTINGUISHER MAINT | T23: UNALLOCATED | U23: NON-DEPARTMENTAL | V23: EQUIP MAINT-GENERAL EQUIP
L25: =SUM(hList_Frame_1!B18:B18) -> 4990.5
A27: 448240 | D27: 42717 | E27: AAI TROPHIES & AWARDS | G27: 388.5 | R27: BADGES/IDENTIFICATION EQ. | S27: SERVICE AWARDS | T27: SHERIFF'S OFFICE | U27: SO-ADMIN | V27: BADGES/IDENTIFICATION EQ.
A28: 448634 | D28: 42719 | G28: 101 | R28: BADGES/IDENTIFICATION EQ. | S28: SERVICE AWARDS | T28: SHERIFF'S OFFICE | U28: SO-ADMIN | V28: BADGES/IDENTIFICATION EQ.
N30: =SUM(G27:Q28) -> 489.5
A33: 447894 | D33: 42710 | E33: WEST PUBLISHING CORPORATION | G33: 349.04 | R33: PUBLICATIONS/AUDIOVISUALS | S33: DUES & SUBSCRIPTIONS | T33: UNALLOCATED | U33: NON-DEPARTMENTAL | V33: PUBLICATIONS/AUDIOVISUALS
A34: 448215 | D34: 42717 | G34: 655 | S34: LEGAL EXPENSE | T34: INDIGENT CHILD SERVICES | U34: CPS BOARD - ADMIN
A35: 448242 | D35: 42717 | G35: 3628.96 | R35: BLANKET PURCHASE ORDER | S35: LIBRARY BOOKS | T35: DISTRICT ATTORNEY | U35: DA-ADMIN | V35: BLANKET PURCHASE ORDER
L37: =SUM(G33:Q35) -> 4633
A39: 447895 | D39: 42710 | E39: TX COMMISSION ON FIRE PRTCN | G39: 85 | R39: MISCELLANEOUS SERVICES | S39: DUES & SUBSCRIPTIONS | T39: FIRE MARSHAL | U39: FIRE MARSHAL-ADMIN | V39: MISCELLANEOUS SERVICES
P41: =SUM(hList_Frame_1!B28:B28) -> 85
A43: 447896 | D43: 42710 | E43: GEBO CREDIT CORPORATION | G43: 279.9 | R43: HAND TOOLS-NOT CLASSIFIED | S43: ROAD SUPPLIES | T43: PUBLIC WORKS | U43: R&B - ADMIN | V43: HAND TOOLS-NOT CLASSIFIED
N45: =SUM(hList_Frame_1!B29:B29) -> 279.9
A47: 447897 | D47: 42710 | E47: BEN E KEITH DFW | G47: 5109.28 | R47: EDIBLE FOODS, STAPLE | S47: FOOD SUPPLIES | T47: SHERIFF'S OFFICE | U47: MINIMUM SECURITY | V47: EDIBLE FOODS, STAPLE
S48: JAIL FOOD
S49: MINIMUM SECURITY FOOD
G50: 1111.89 | R50: FOODS, PERISHABLE | S50: JAIL FOOD | V50: FOODS, PERISHABLE
S51: MINIMUM SECURITY FOOD
G52: 758.58 | R52: FOODS, READY-TO-EAT | S52: JAIL FOOD | V52: FOODS, READY-TO-EAT
S53: MINIMUM SECURITY FOOD
G54: 1454.7 | R54: FOODS:STAPLE GROCERY&GROC | S54: FOOD SUPPLIES | T54: JUVENILE PROBATION | U54: JUV DET -ADMIN | V54: FOODS:STAPLE GROCERY&GROC
A55: 448243 | D55: 42717 | G55: 6161.41 | R55: EDIBLE FOODS, STAPLE | S55: JAIL FOOD | V55: EDIBLE FOODS, STAPLE
S56: MINIMUM SECURITY FOOD
G57: 1451.33 | R57: FOODS, PERISHABLE | S57: JAIL FOOD | V57: FOODS, PERISHABLE
S58: MINIMUM SECURITY FOOD
G59: 863.87 | R59: FOODS, READY-TO-EAT | S59: JAIL FOOD | V59: FOODS, READY-TO-EAT
...

Sheet hList_Frame_1
A1: =IF(ISBLANK('December 2016'!A2),"",IF(ISTEXT('December 2016'!A2),0,'December 2016'!A2)) -> 447892 | B1: =IF(ISBLANK('December 2016'!G2),"",IF(ISTEXT('December 2016'!G2),0,'December 2016'!G2)) -> 1453.03
A2: =IF(ISBLANK('December 2016'!#REF!),"",IF(ISTEXT('December 2016'!#REF!),0,'December 2016'!#REF!)) -> #REF! | B2: =IF(ISBLANK('December 2016'!#REF!),"",IF(ISTEXT('December 2016'!#REF!),0,'December 2016'!#REF!)) -> #REF!
A3: =IF(ISBLANK('December 2016'!#REF!),"",IF(ISTEXT('December 2016'!#REF!),0,'December 2016'!#REF!)) -> #REF! | B3: =IF(ISBLANK('December 2016'!#REF!),"",IF(ISTEXT('December 2016'!#REF!),0,'December 2016'!#REF!)) -> #REF!
A4: =IF(ISBLANK('December 2016'!#REF!),"",IF(ISTEXT('December 2016'!#REF!),0,'December 2016'!#REF!)) -> #REF! | B4: =IF(ISBLANK('December 2016'!#REF!),"",IF(ISTEXT('December 2016'!#REF!),0,'December 2016'!#REF!)) -> #REF!
A5: =IF(ISBLANK('December 2016'!#REF!),"",IF(ISTEXT('December 2016'!#REF!),0,'December 2016'!#REF!)) -> #REF! | B5: =IF(ISBLANK('December 2016'!#REF!),"",IF(ISTEXT('December 2016'!#REF!),0,'December 2016'!#REF!)) -> #REF!
A6: =IF(ISBLANK('December 2016'!#REF!),"",IF(ISTEXT('December 2016'!#REF!),0,'December 2016'!#REF!)) -> #REF! | B6: =IF(ISBLANK('December 2016'!#REF!),"",IF(ISTEXT('December 2016'!#REF!),0,'December 2016'!#REF!)) -> #REF!
A7: =IF(ISBLANK('December 2016'!#REF!),"",IF(ISTEXT('December 2016'!#REF!),0,'December 2016'!#REF!)) -> #REF! | B7: =IF(ISBLANK('December 2016'!#REF!),"",IF(ISTEXT('December 2016'!#REF!),0,'December 2016'!#REF!)) -> #REF!
A8: =IF(ISBLANK('December 2016'!#REF!),"",IF(ISTEXT('December 2016'!#REF!),0,'December 2016'!#REF!)) -> #REF! | B8: =IF(ISBLANK('December 2016'!#REF!),"",IF(ISTEXT('December 2016'!#REF!),0,'December 2016'!#REF!)) -> #REF!
A9: =IF(ISBLANK('December 2016'!#REF!),"",IF(ISTEXT('December 2016'!#REF!),0,'December 2016'!#REF!)) -> #REF! | B9: =IF(ISBLANK('December 2016'!#REF!),"",IF(ISTEXT('December 2016'!#REF!),0,'December 2016'!#REF!)) -> #REF!
A10: =IF(ISBLANK('December 2016'!A3),"",IF(ISTEXT('December 2016'!A3),0,'December 2016'!A3)) -> 448633 | B10: =IF(ISBLANK('December 2016'!G3),"",IF(ISTEXT('December 2016'!G3),0,'December 2016'!G3)) -> 922.34
A11: =IF(ISBLANK('December 2016'!A4),"",IF(ISTEXT('December 2016'!A4),0,'December 2016'!A4)) | B11: =IF(ISBLANK('December 2016'!G4),"",IF(ISTEXT('December 2016'!G4),0,'December 2016'!G4)) -> -84.86
A12: =IF(ISBLANK('December 2016'!A5),"",IF(ISTEXT('December 2016'!A5),0,'December 2016'!A5)) | B12: =IF(ISBLANK('December 2016'!G5),"",IF(ISTEXT('December 2016'!G5),0,'December 2016'!G5)) -> -83.16
A13: =IF(ISBLANK('December 2016'!A6),"",IF(ISTEXT('December 2016'!A6),0,'December 2016'!A6)) | B13: =IF(ISBLANK('December 2016'!G6),"",IF(ISTEXT('December 2016'!G6),0,'December 2016'!G6)) -> -83.16
A14: =IF(ISBLANK('December 2016'!A7),"",IF(ISTEXT('December 2016'!A7),0,'December 2016'!A7)) | B14: =IF(ISBLANK('December 2016'!G7),"",IF(ISTEXT('December 2016'!G7),0,'December 2016'!G7)) -> -50
A15: =IF(ISBLANK('December 2016'!A11),"",IF(ISTEXT('December 2016'!A11),0,'December 2016'!A11)) -> 448237 | B15: =IF(ISBLANK('December 2016'!G11),"",IF(ISTEXT('December 2016'!G11),0,'December 2016'!G11)) -> 960
A16: =IF(ISBLANK('December 2016'!A15),"",IF(ISTEXT('December 2016'!A15),0,'December 2016'!A15)) -> 448238 | B16: =IF(ISBLANK('December 2016'!G15),"",IF(ISTEXT('December 2016'!G15),0,'December 2016'!G15)) -> 450
A17: =IF(ISBLANK('December 2016'!A19),"",IF(ISTEXT('December 2016'!A19),0,'December 2016'!A19)) -> 447893 | B17: =IF(ISBLANK('December 2016'!G19),"",IF(ISTEXT('December 2016'!G19),0,'December 2016'!G19)) -> 468
A18: =IF(ISBLANK('December 2016'!A23),"",IF(ISTEXT('December 2016'!A23),0,'December 2016'!A23)) -> 448239 | B18: =IF(ISBLANK('December 2016'!G23),"",IF(ISTEXT('December 2016'!G23),0,'December 2016'!G23)) -> 4990.5
A19: =IF(ISBLANK('December 2016'!A27),"",IF(ISTEXT('December 2016'!A27),0,'December 2016'!A27)) -> 448240 | B19: =IF(ISBLANK('December 2016'!G27),"",IF(ISTEXT('December 2016'!G27),0,'December 2016'!G27)) -> 388.5
A20: =IF(ISBLANK('December 2016'!#REF!),"",IF(ISTEXT('December 2016'!#REF!),0,'December 2016'!#REF!)) -> #REF! | B20: =IF(ISBLANK('December 2016'!#REF!),"",IF(ISTEXT('December 2016'!#REF!),0,'December 2016'!#REF!)) -> #REF!
A21: =IF(ISBLANK('December 2016'!#REF!),"",IF(ISTEXT('December 2016'!#REF!),0,'December 2016'!#REF!)) -> #REF! | B21: =IF(ISBLANK('December 2016'!#REF!),"",IF(ISTEXT('December 2016'!#REF!),0,'December 2016'!#REF!)) -> #REF!
A22: =IF(ISBLANK('December 2016'!A28),"",IF(ISTEXT('December 2016'!A28),0,'December 2016'!A28)) -> 448634 | B22: =IF(ISBLANK('December 2016'!G28),"",IF(ISTEXT('December 2016'!G28),0,'December 2016'!G28)) -> 101
A23: =IF(ISBLANK('December 2016'!A33),"",IF(ISTEXT('December 2016'!A33),0,'December 2016'!A33)) -> 447894 | B23: =IF(ISBLANK('December 2016'!G33),"",IF(ISTEXT('December 2016'!G33),0,'December 2016'!G33)) -> 349.04
A24: =IF(ISBLANK('December 2016'!#REF!),"",IF(ISTEXT('December 2016'!#REF!),0,'December 2016'!#REF!)) -> #REF! | B24: =IF(ISBLANK('December 2016'!#REF!),"",IF(ISTEXT('December 2016'!#REF!),0,'December 2016'!#REF!)) -> #REF!
A25: =IF(ISBLANK('December 2016'!A34),"",IF(ISTEXT('December 2016'!A34),0,'December 2016'!A34)) -> 448215 | B25: =IF(ISBLANK('December 2016'!G34),"",IF(ISTEXT('December 2016'!G34),0,'December 2016'!G34)) -> 655
A26: =IF(ISBLANK('December 2016'!A35),"",IF(ISTEXT('December 2016'!A35),0,'December 2016'!A35)) -> 448242 | B26: =IF(ISBLANK('December 2016'!G35),"",IF(ISTEXT('December 2016'!G35),0,'December 2016'!G35)) -> 3628.96
A27: =IF(ISBLANK('December 2016'!#REF!),"",IF(ISTEXT('December 2016'!#REF!),0,'December 2016'!#REF!)) -> #REF! | B27: =IF(ISBLANK('December 2016'!#REF!),"",IF(ISTEXT('December 2016'!#REF!),0,'December 2016'!#REF!)) -> #REF!
A28: =IF(ISBLANK('December 2016'!A39),"",IF(ISTEXT('December 2016'!A39),0,'December 2016'!A39)) -> 447895 | B28: =IF(ISBLANK('December 2016'!G39),"",IF(ISTEXT('December 2016'!G39),0,'December 2016'!G39)) -> 85
A29: =IF(ISBLANK('December 2016'!A43),"",IF(ISTEXT('December 2016'!A43),0,'December 2016'!A43)) -> 447896 | B29: =IF(ISBLANK('December 2016'!G43),"",IF(ISTEXT('December 2016'!G43),0,'December 2016'!G43)) -> 279.9
A30: =IF(ISBLANK('December 2016'!A47),"",IF(ISTEXT('December 2016'!A47),0,'December 2016'!A47)) -> 447897 | B30: =IF(ISBLANK('December 2016'!G47),"",IF(ISTEXT('December 2016'!G47),0,'December 2016'!G47)) -> 5109.28
A31: =IF(ISBLANK('December 2016'!A48),"",IF(ISTEXT('December 2016'!A48),0,'December 2016'!A48)) | B31: =IF(ISBLANK('December 2016'!G48),"",IF(ISTEXT('December 2016'!G48),0,'December 2016'!G48))
A32: =IF(ISBLANK('December 2016'!A49),"",IF(ISTEXT('December 2016'!A49),0,'December 2016'!A49)) | B32: =IF(ISBLANK('December 2016'!G49),"",IF(ISTEXT('December 2016'!G49),0,'December 2016'!G49))
A33: =IF(ISBLANK('December 2016'!A50),"",IF(ISTEXT('December 2016'!A50),0,'December 2016'!A50)) | B33: =IF(ISBLANK('December 2016'!G50),"",IF(ISTEXT('December 2016'!G50),0,'December 2016'!G50)) -> 1111.89
A34: =IF(ISBLANK('December 2016'!A51),"",IF(ISTEXT('December 2016'!A51),0,'December 2016'!A51)) | B34: =IF(ISBLANK('December 2016'!G51),"",IF(ISTEXT('December 2016'!G51),0,'December 2016'!G51))
A35: =IF(ISBLANK('December 2016'!A52),"",IF(ISTEXT('December 2016'!A52),0,'December 2016'!A52)) | B35: =IF(ISBLANK('December 2016'!G52),"",IF(ISTEXT('December 2016'!G52),0,'December 2016'!G52)) -> 758.58
A36: =IF(ISBLANK('December 2016'!A53),"",IF(ISTEXT('December 2016'!A53),0,'December 2016'!A53)) | B36: =IF(ISBLANK('December 2016'!G53),"",IF(ISTEXT('December 2016'!G53),0,'December 2016'!G53))
A37: =IF(ISBLANK('December 2016'!A54),"",IF(ISTEXT('December 2016'!A54),0,'December 2016'!A54)) | B37: =IF(ISBLANK('December 2016'!G54),"",IF(ISTEXT('December 2016'!G54),0,'December 2016'!G54)) -> 1454.7
A38: =IF(ISBLANK('December 2016'!A55),"",IF(ISTEXT('December 2016'!A55),0,'December 2016'!A55)) -> 448243 | B38: =IF(ISBLANK('December 2016'!G55),"",IF(ISTEXT('December 2016'!G55),0,'December 2016'!G55)) -> 6161.41
A39: =IF(ISBLANK('December 2016'!A56),"",IF(ISTEXT('December 2016'!A56),0,'December 2016'!A56)) | B39: =IF(ISBLANK('December 2016'!G56),"",IF(ISTEXT('December 2016'!G56),0,'December 2016'!G56))
A40: =IF(ISBLANK('December 2016'!A57),"",IF(ISTEXT('December 2016'!A57),0,'December 2016'!A57)) | B40: =IF(ISBLANK('December 2016'!G57),"",IF(ISTEXT('December 2016'!G57),0,'December 2016'!G57)) -> 1451.33
...
