Workbook

Sheet December 2017
A1: Check Number | D1: Check Date | E1: Vendor Name | G1: Transaction Amount | T1: Description | U1: Account Name | V1: Department | W1: Division | X1: Project Number
A2: 467588 | D2: 43074 | E2: BOB TOMES FORD | G2: 267.86 | T2: BLANKET PURCHASE ORDER | U2: AUTO MAINTENANCE | V2: EQUIPMENT SERVICES | W2: EQUIP SERV-SHARED
G8: -30.6 | T8: INV# 53449 | U8: AUTO MAINTENANCE | V8: EQUIPMENT SERVICES | W8: EQUIP SERV-SHARED
A9: 467967 | D9: 43081 | G9: 18.82 | T9: BLANKET PURCHASE ORDER | U9: AUTO MAINTENANCE | V9: EQUIPMENT SERVICES | W9: EQUIP SERV-SHARED
O11: =SUM(hList_Frame_1!B1:B8) -> 256.08
A13: 467968 | D13: 43081 | E13: BOB BARKER COMPANY INC | G13: 284.4 | T13: FURNITURE, NON-OFFICE | U13: BUILDING MAINTENANCE | V13: FACILITIES & PARKS | W13: BUILD SUP-SHARED | X13: B03001
O15: =SUM(hList_Frame_1!B9:B9) -> 284.4
A17: 467969 | D17: 43081 | E17: MATTHEW BENDER & CO INC | G17: 738.46 | T17: BLANKET PURCHASE ORDER | U17: LIBRARY UPDATES | V17: BUDGET | W17: LAW LIBRARY-ADMIN
O19: =SUM(hList_Frame_1!B10:B10) -> 738.46
A21: 467469 | D21: 43074 | E21: HEIDENHEIMER, MARK | G21: 450 | T21: 001-85249-17 | U21: COURT APPOINTED ATTORNEY | V21: COURT APPT REPRESENTATION | W21: COURT APPT REPRESENTATION | X21: IDCL1M
G22: 600 | T22: 004-84703-16 | U22: COURT APPOINTED ATTORNEY | V22: COURT APPT REPRESENTATION | W22: COURT APPT REPRESENTATION | X22: IDCL7M
A23: 467470 | D23: 43074 | G23: 3500 | T23: 219-82024-16 | U23: COURT APPOINTED ATTORNEY | V23: COURT APPT REPRESENTATION | W23: COURT APPT REPRESENTATION | X23: ID219P
G24: 3500 | T24: 219-82025-16 | U24: COURT APPOINTED ATTORNEY | V24: COURT APPT REPRESENTATION | W24: COURT APPT REPRESENTATION | X24: ID219P
A25: 467823 | D25: 43081 | G25: 500 | T25: 380-83380-17 | U25: COURT APPOINTED ATTORNEY | V25: COURT APPT REPRESENTATION | W25: COURT APPT REPRESENTATION | X25: ID380F
A26: 468329 | D26: 43088 | G26: 450 | T26: 007-87749-17 | U26: COURT APPOINTED ATTORNEY | V26: COURT APPT REPRESENTATION | W26: COURT APPT REPRESENTATION | X26: IDCL7M
A27: 468330 | D27: 43088 | G27: 900 | T27: 219-83129-16 | U27: COURT APPOINTED ATTORNEY | V27: COURT APPT REPRESENTATION | W27: COURT APPT REPRESENTATION | X27: ID219F
M29: =SUM(hList_Frame_1!B11:B17) -> 9900
A31: 467589 | D31: 43074 | E31: POLLOCK PAPER DISTRIBUTORS | G31: 82.56 | T31: JANITORIAL SUPPLIES | U31: JANITORIAL SUPPLIES | V31: JUVENILE PROBATION | W31: JUV DET -ADMIN
G32: -66.91 | T32: PO 217422 | U32: JANITORIAL SUPPLIES | V32: JUVENILE PROBATION | W32: JUV DET -ADMIN
Q34: =SUM(hList_Frame_1!B18:B19) -> 15.65
A36: 467590 | D36: 43074 | E36: TEXOMA FIRE EQUIPMENT INC | G36: 202 | T36: PW/CONSTRUCT/RELATED SERV | U36: FIRE SYSTEM CERTIFICATION | V36: FACILITIES & PARKS | W36: BUILD SUP-SHARED | X36: B03002
O38: =SUM(hList_Frame_1!B20:B20) -> 202
A40: 467970 | D40: 43081 | E40: AAI TROPHIES & AWARDS | G40: 11.5 | T40: BLANKET PURCHASE ORDER | U40: SERVICE AWARDS | V40: SHERIFF'S OFFICE | W40: SO-ADMIN
R42: =SUM(hList_Frame_1!B21:B21) -> 11.5
A45: 467971 | D45: 43081 | E45: WEST PUBLISHING CORPORATION | G45: 4038.49 | T45: BLANKET PURCHASE ORDER | U45: LIBRARY BOOKS | V45: DISTRICT ATTORNEY | W45: DA-ADMIN
M48: =SUM(hList_Frame_1!B22:B23) -> 4038.49
A50: 467591 | D50: 43074 | E50: PLANO POWER EQUIPMENT | G50: 35.52 | T50: AUTO/TRUCK MAINT. ITEMS | U50: PARTS
G51: 462.93 | T51: BLANKET PURCHASE ORDER | U51: HEAVY EQUIPMENT REPAIR | V51: EQUIPMENT SERVICES | W51: EQUIP SERV-SHARED
A54: 467972 | D54: 43081 | G54: 8.92 | T54: BLANKET PURCHASE ORDER | U54: HEAVY EQUIPMENT REPAIR | V54: EQUIPMENT SERVICES | W54: EQUIP SERV-SHARED
O56: =SUM(hList_Frame_1!B24:B28) -> 507.37
A58: 467592 | D58: 43074 | E58: BEN E KEITH DFW | G58: 5139.97 | T58: EDIBLE FOODS, STAPLE | U58: FOOD SUPPLIES | V58: JUVENILE PROBATION | W58: JUV DET -ADMIN
U59: JAIL FOOD
U61: MINIMUM SECURITY FOOD
G63: 4202.62 | T63: FOODS, PERISHABLE | U63: JAIL FOOD
U65: MINIMUM SECURITY FOOD
G67: 1180.79 | T67: FOODS, READY-TO-EAT | U67: JAIL FOOD
U68: MINIMUM SECURITY FOOD
A69: 467973 | D69: 43081 | G69: 1488.64 | T69: EDIBLE FOODS, STAPLE | U69: FOOD SUPPLIES | V69: SHERIFF'S OFFICE | W69: MINIMUM SECURITY
U71: JAIL FOOD
G72: 1268.62 | T72: FOODS, PERISHABLE | U72: FOOD SUPPLIES | V72: JUVENILE PROBATION | W72: JUV DET -ADMIN
...

Sheet hList_Frame_1
A1: =IF(ISBLANK('December 2017'!A2),"",IF(ISTEXT('December 2017'!A2),0,'December 2017'!A2)) -> 467588 | B1: =IF(ISBLANK('December 2017'!G2),"",IF(ISTEXT('December 2017'!G2),0,'December 2017'!G2)) -> 267.86
A2: =IF(ISBLANK('December 2017'!A3),"",IF(ISTEXT('December 2017'!A3),0,'December 2017'!A3)) | B2: =IF(ISBLANK('December 2017'!G3),"",IF(ISTEXT('December 2017'!G3),0,'December 2017'!G3))
A3: =IF(ISBLANK('December 2017'!A4),"",IF(ISTEXT('December 2017'!A4),0,'December 2017'!A4)) | B3: =IF(ISBLANK('December 2017'!G4),"",IF(ISTEXT('December 2017'!G4),0,'December 2017'!G4))
A4: =IF(ISBLANK('December 2017'!A5),"",IF(ISTEXT('December 2017'!A5),0,'December 2017'!A5)) | B4: =IF(ISBLANK('December 2017'!G5),"",IF(ISTEXT('December 2017'!G5),0,'December 2017'!G5))
A5: =IF(ISBLANK('December 2017'!A6),"",IF(ISTEXT('December 2017'!A6),0,'December 2017'!A6)) | B5: =IF(ISBLANK('December 2017'!G6),"",IF(ISTEXT('December 2017'!G6),0,'December 2017'!G6))
A6: =IF(ISBLANK('December 2017'!A7),"",IF(ISTEXT('December 2017'!A7),0,'December 2017'!A7)) | B6: =IF(ISBLANK('December 2017'!G7),"",IF(ISTEXT('December 2017'!G7),0,'December 2017'!G7))
A7: =IF(ISBLANK('December 2017'!A8),"",IF(ISTEXT('December 2017'!A8),0,'December 2017'!A8)) | B7: =IF(ISBLANK('December 2017'!G8),"",IF(ISTEXT('December 2017'!G8),0,'December 2017'!G8)) -> -30.6
A8: =IF(ISBLANK('December 2017'!A9),"",IF(ISTEXT('December 2017'!A9),0,'December 2017'!A9)) -> 467967 | B8: =IF(ISBLANK('December 2017'!G9),"",IF(ISTEXT('December 2017'!G9),0,'December 2017'!G9)) -> 18.82
A9: =IF(ISBLANK('December 2017'!A13),"",IF(ISTEXT('December 2017'!A13),0,'December 2017'!A13)) -> 467968 | B9: =IF(ISBLANK('December 2017'!G13),"",IF(ISTEXT('December 2017'!G13),0,'December 2017'!G13)) -> 284.4
A10: =IF(ISBLANK('December 2017'!A17),"",IF(ISTEXT('December 2017'!A17),0,'December 2017'!A17)) -> 467969 | B10: =IF(ISBLANK('December 2017'!G17),"",IF(ISTEXT('December 2017'!G17),0,'December 2017'!G17)) -> 738.46
A11: =IF(ISBLANK('December 2017'!A21),"",IF(ISTEXT('December 2017'!A21),0,'December 2017'!A21)) -> 467469 | B11: =IF(ISBLANK('December 2017'!G21),"",IF(ISTEXT('December 2017'!G21),0,'December 2017'!G21)) -> 450
A12: =IF(ISBLANK('December 2017'!A22),"",IF(ISTEXT('December 2017'!A22),0,'December 2017'!A22)) | B12: =IF(ISBLANK('December 2017'!G22),"",IF(ISTEXT('December 2017'!G22),0,'December 2017'!G22)) -> 600
A13: =IF(ISBLANK('December 2017'!A23),"",IF(ISTEXT('December 2017'!A23),0,'December 2017'!A23)) -> 467470 | B13: =IF(ISBLANK('December 2017'!G23),"",IF(ISTEXT('December 2017'!G23),0,'December 2017'!G23)) -> 3500
A14: =IF(ISBLANK('December 2017'!A24),"",IF(ISTEXT('December 2017'!A24),0,'December 2017'!A24)) | B14: =IF(ISBLANK('December 2017'!G24),"",IF(ISTEXT('December 2017'!G24),0,'December 2017'!G24)) -> 3500
A15: =IF(ISBLANK('December 2017'!A25),"",IF(ISTEXT('December 2017'!A25),0,'December 2017'!A25)) -> 467823 | B15: =IF(ISBLANK('December 2017'!G25),"",IF(ISTEXT('December 2017'!G25),0,'December 2017'!G25)) -> 500
A16: =IF(ISBLANK('December 2017'!A26),"",IF(ISTEXT('December 2017'!A26),0,'December 2017'!A26)) -> 468329 | B16: =IF(ISBLANK('December 2017'!G26),"",IF(ISTEXT('December 2017'!G26),0,'December 2017'!G26)) -> 450
A17: =IF(ISBLANK('December 2017'!A27),"",IF(ISTEXT('December 2017'!A27),0,'December 2017'!A27)) -> 468330 | B17: =IF(ISBLANK('December 2017'!G27),"",IF(ISTEXT('December 2017'!G27),0,'December 2017'!G27)) -> 900
A18: =IF(ISBLANK('December 2017'!A31),"",IF(ISTEXT('December 2017'!A31),0,'December 2017'!A31)) -> 467589 | B18: =IF(ISBLANK('December 2017'!G31),"",IF(ISTEXT('December 2017'!G31),0,'December 2017'!G31)) -> 82.56
A19: =IF(ISBLANK('December 2017'!A32),"",IF(ISTEXT('December 2017'!A32),0,'December 2017'!A32)) | B19: =IF(ISBLANK('December 2017'!G32),"",IF(ISTEXT('December 2017'!G32),0,'December 2017'!G32)) -> -66.91
A20: =IF(ISBLANK('December 2017'!A36),"",IF(ISTEXT('December 2017'!A36),0,'December 2017'!A36)) -> 467590 | B20: =IF(ISBLANK('December 2017'!G36),"",IF(ISTEXT('December 2017'!G36),0,'December 2017'!G36)) -> 202
A21: =IF(ISBLANK('December 2017'!A40),"",IF(ISTEXT('December 2017'!A40),0,'December 2017'!A40)) -> 467970 | B21: =IF(ISBLANK('December 2017'!G40),"",IF(ISTEXT('December 2017'!G40),0,'December 2017'!G40)) -> 11.5
A22: =IF(ISBLANK('December 2017'!A45),"",IF(ISTEXT('December 2017'!A45),0,'December 2017'!A45)) -> 467971 | B22: =IF(ISBLANK('December 2017'!G45),"",IF(ISTEXT('December 2017'!G45),0,'December 2017'!G45)) -> 4038.49
A23: =IF(ISBLANK('December 2017'!A46),"",IF(ISTEXT('December 2017'!A46),0,'December 2017'!A46)) | B23: =IF(ISBLANK('December 2017'!G46),"",IF(ISTEXT('December 2017'!G46),0,'December 2017'!G46))
A24: =IF(ISBLANK('December 2017'!A50),"",IF(ISTEXT('December 2017'!A50),0,'December 2017'!A50)) -> 467591 | B24: =IF(ISBLANK('December 2017'!G50),"",IF(ISTEXT('December 2017'!G50),0,'December 2017'!G50)) -> 35.52
A25: =IF(ISBLANK('December 2017'!A51),"",IF(ISTEXT('December 2017'!A51),0,'December 2017'!A51)) | B25: =IF(ISBLANK('December 2017'!G51),"",IF(ISTEXT('December 2017'!G51),0,'December 2017'!G51)) -> 462.93
A26: =IF(ISBLANK('December 2017'!A52),"",IF(ISTEXT('December 2017'!A52),0,'December 2017'!A52)) | B26: =IF(ISBLANK('December 2017'!G52),"",IF(ISTEXT('December 2017'!G52),0,'December 2017'!G52))
A27: =IF(ISBLANK('December 2017'!A53),"",IF(ISTEXT('December 2017'!A53),0,'December 2017'!A53)) | B27: =IF(ISBLANK('December 2017'!G53),"",IF(ISTEXT('December 2017'!G53),0,'December 2017'!G53))
A28: =IF(ISBLANK('December 2017'!A54),"",IF(ISTEXT('December 2017'!A54),0,'December 2017'!A54)) -> 467972 | B28: =IF(ISBLANK('December 2017'!G54),"",IF(ISTEXT('December 2017'!G54),0,'December 2017'!G54)) -> 8.92
A29: =IF(ISBLANK('December 2017'!A58),"",IF(ISTEXT('December 2017'!A58),0,'December 2017'!A58)) -> 467592 | B29: =IF(ISBLANK('December 2017'!G58),"",IF(ISTEXT('December 2017'!G58),0,'December 2017'!G58)) -> 5139.97
A30: =IF(ISBLANK('December 2017'!A59),"",IF(ISTEXT('December 2017'!A59),0,'December 2017'!A59)) | B30: =IF(ISBLANK('December 2017'!G59),"",IF(ISTEXT('December 2017'!G59),0,'December 2017'!G59))
A31: =IF(ISBLANK('December 2017'!A60),"",IF(ISTEXT('December 2017'!A60),0,'December 2017'!A60)) | B31: =IF(ISBLANK('December 2017'!G60),"",IF(ISTEXT('December 2017'!G60),0,'December 2017'!G60))
A32: =IF(ISBLANK('December 2017'!A61),"",IF(ISTEXT('December 2017'!A61),0,'December 2017'!A61)) | B32: =IF(ISBLANK('December 2017'!G61),"",IF(ISTEXT('December 2017'!G61),0,'December 2017'!G61))
A33: =IF(ISBLANK('December 2017'!A62),"",IF(ISTEXT('December 2017'!A62),0,'December 2017'!A62)) | B33: =IF(ISBLANK('December 2017'!G62),"",IF(ISTEXT('December 2017'!G62),0,'December 2017'!G62))
A34: =IF(ISBLANK('December 2017'!A63),"",IF(ISTEXT('December 2017'!A63),0,'December 2017'!A63)) | B34: =IF(ISBLANK('December 2017'!G63),"",IF(ISTEXT('December 2017'!G63),0,'December 2017'!G63)) -> 4202.62
A35: =IF(ISBLANK('December 2017'!A64),"",IF(ISTEXT('December 2017'!A64),0,'December 2017'!A64)) | B35: =IF(ISBLANK('December 2017'!G64),"",IF(ISTEXT('December 2017'!G64),0,'December 2017'!G64))
A36: =IF(ISBLANK('December 2017'!A65),"",IF(ISTEXT('December 2017'!A65),0,'December 2017'!A65)) | B36: =IF(ISBLANK('December 2017'!G65),"",IF(ISTEXT('December 2017'!G65),0,'December 2017'!G65))
A37: =IF(ISBLANK('December 2017'!A66),"",IF(ISTEXT('December 2017'!A66),0,'December 2017'!A66)) | B37: =IF(ISBLANK('December 2017'!G66),"",IF(ISTEXT('December 2017'!G66),0,'December 2017'!G66))
A38: =IF(ISBLANK('December 2017'!A67),"",IF(ISTEXT('December 2017'!A67),0,'December 2017'!A67)) | B38: =IF(ISBLANK('December 2017'!G67),"",IF(ISTEXT('December 2017'!G67),0,'December 2017'!G67)) -> 1180.79
A39: =IF(ISBLANK('December 2017'!A68),"",IF(ISTEXT('December 2017'!A68),0,'December 2017'!A68)) | B39: =IF(ISBLANK('December 2017'!G68),"",IF(ISTEXT('December 2017'!G68),0,'December 2017'!G68))
A40: =IF(ISBLANK('December 2017'!A69),"",IF(ISTEXT('December 2017'!A69),0,'December 2017'!A69)) -> 467973 | B40: =IF(ISBLANK('December 2017'!G69),"",IF(ISTEXT('December 2017'!G69),0,'December 2017'!G69)) -> 1488.64
...
