Workbook

Sheet January 2015
A1: Check Number | C1: Check Date | D1: Vendor Name | F1: Transaction Amount | S1: Description | T1: Account Name | U1: Department | V1: Division | W1: Object of Expenditure | X1: Project Number
A2: 412316 | C2: 42010 | D2: BOB TOMES FORD | F2: 730.09 | S2: BLANKET PURCHASE ORDER | T2: AUTO MAINTENANCE | U2: EQUIPMENT SERVICES | V2: EQUIP SERV-SHARED | W2: BLANKET PURCHASE ORDER
F8: -14.73 | S8: INV# 5401180 | T8: AUTO MAINTENANCE | U8: EQUIPMENT SERVICES | V8: EQUIP SERV-SHARED | W8: INV# 5401180
A9: 412604 | C9: 42024 | F9: 357.39 | S9: AUTO/TRUCK MAINT. ITEMS | T9: PARTS | W9: AUTO/TRUCK MAINT. ITEMS
F10: 924.69 | S10: BLANKET PURCHASE ORDER | T10: AUTO MAINTENANCE | U10: EQUIPMENT SERVICES | V10: EQUIP SERV-SHARED | W10: BLANKET PURCHASE ORDER
F18: -27.03 | S18: INV# 5406053 | T18: AUTO MAINTENANCE | U18: EQUIPMENT SERVICES | V18: EQUIP SERV-SHARED | W18: INV# 5406053
A19: 413243 | C19: 42031 | F19: 1178.46 | S19: BLANKET PURCHASE ORDER | T19: AUTO MAINTENANCE | U19: EQUIPMENT SERVICES | V19: EQUIP SERV-SHARED | W19: BLANKET PURCHASE ORDER
L28: =SUM(hList_Frame_1!B1:B25) -> 3148.87
A30: 412605 | C30: 42024 | D30: BOB BARKER CO | F30: 522 | S30: CLOTHING AND APPAREL | T30: DETENTION SUPPLIES | U30: SHERIFF'S OFFICE | V30: JAIL OPS-ADMIN | W30: CLOTHING AND APPAREL
N32: =SUM(hList_Frame_1!B26:B26) -> 522
A34: 412606 | C34: 42024 | D34: ECOLAB INC | F34: 1882.5 | S34: JANITORIAL SUPPLIES-GEN. | T34: DETENTION SUPPLIES | U34: SHERIFF'S OFFICE | V34: JAIL OPS-ADMIN | W34: JANITORIAL SUPPLIES-GEN.
A35: 413244 | C35: 42031 | F35: 502 | S35: JANITORIAL SUPPLIES-GEN. | T35: JANITORIAL SUPPLIES | U35: JUVENILE PROBATION | V35: JUV DET -ADMIN | W35: JANITORIAL SUPPLIES-GEN.
L37: =SUM(hList_Frame_1!B27:B28) -> 2384.5
A39: 412317 | C39: 42010 | D39: MCKINNEY TIRE & APPLIANCE | F39: 158.5 | S39: CAFETERIA/KITCHEN EQUIP. | T39: ONE-TIME BUDGET NON-CAP | U39: UNALLOCATED | V39: CAPITAL REPLACEMENT | W39: CAFETERIA/KITCHEN EQUIP.
A40: 412607 | C40: 42024 | F40: 158.5 | S40: CAFETERIA/KITCHEN EQUIP. | T40: ONE-TIME BUDGET NON-CAP | U40: UNALLOCATED | V40: CAPITAL REPLACEMENT | W40: CAFETERIA/KITCHEN EQUIP.
A41: 413245 | C41: 42031 | F41: 158.5 | S41: CAFETERIA/KITCHEN EQUIP. | T41: ONE-TIME BUDGET NON-CAP | U41: UNALLOCATED | V41: CAPITAL REPLACEMENT | W41: CAFETERIA/KITCHEN EQUIP.
N43: =SUM(hList_Frame_1!B29:B31) -> 475.5
A45: 412608 | C45: 42024 | D45: MATTHEW BENDER & CO | F45: 288.31 | S45: PUBLICATIONS/AUDIOVISUALS | T45: DUES & SUBSCRIPTIONS | U45: VETERAN SERVICES | V45: VETERAN - ADMIN | W45: PUBLICATIONS/AUDIOVISUALS
N47: =SUM(hList_Frame_1!B32:B32) -> 288.31
A49: 413246 | C49: 42031 | D49: HEIDENHEIMER, MARK | F49: 450 | S49: 001-86956-14 | T49: COURT APPOINTED ATTORNEY | U49: INDIGENT DEFENSE | V49: INDIGENT DEFENSE | W49: 001-86956-14 | X49: IDCL1M
N51: =SUM(hList_Frame_1!B33:B33) -> 450
A53: 413247 | C53: 42031 | D53: POLLOCK PAPER DISTRIBUTORS | F53: 1247.22 | S53: PAPER/PLASTIC, DISPOSABLE | T53: JANITORIAL SUPPLIES | W53: PAPER/PLASTIC, DISPOSABLE
F54: 383.76 | S54: SUPPLIES | T54: JANITORIAL SUPPLIES | U54: JUVENILE PROBATION | V54: JUV DET -ADMIN | W54: SUPPLIES
L56: =SUM(hList_Frame_1!B34:B35) -> 1630.98
A58: 412609 | C58: 42024 | D58: RODENBAUGH'S INC | F58: 61.24 | S58: EQUIP MAINT-GENERAL EQUIP | T58: EQUIPMENT MAINTENANCE | U58: FACILITIES & PARKS | V58: BUILD SUP-SHARED | W58: EQUIP MAINT-GENERAL EQUIP | X58: B06002
P60: =SUM(hList_Frame_1!B36:B36) -> 61.24
A62: 412318 | C62: 42010 | D62: THOMASON TIRE INC | F62: 622.95 | S62: BLANKET PURCHASE ORDER | T62: AUTO MAINTENANCE | U62: EQUIPMENT SERVICES | V62: EQUIP SERV-SHARED | W62: BLANKET PURCHASE ORDER
A68: 412610 | C68: 42024 | F68: 1736.84 | S68: TIRES AND TUBES | T68: PARTS | W68: TIRES AND TUBES
A69: 413248 | C69: 42031 | F69: 450 | S69: TIRES AND TUBES | T69: PARTS | W69: TIRES AND TUBES
L71: =SUM(hList_Frame_1!B37:B44) -> 2809.79
A73: 412319 | C73: 42010 | D73: WEST PUBLISHING CORPORATION | F73: 55 | S73: PUBLICATIONS/AUDIOVISUALS | T73: DUES & SUBSCRIPTIONS | U73: UNALLOCATED | V73: NON-DEPARTMENTAL | W73: PUBLICATIONS/AUDIOVISUALS
A74: 412611 | C74: 42024 | F74: 13321.15 | S74: MISC PROFESSIONAL SERVICE | T74: COMMUNICATION LINE LEASE | U74: BUDGET | V74: LAW LIBRARY-ADMIN | W74: MISC PROFESSIONAL SERVICE
T75: LIBRARY BOOKS | U75: DISTRICT ATTORNEY | V75: DA-ADMIN
T76: LIBRARY UPDATES | U76: BUDGET | V76: LAW LIBRARY-ADMIN
F77: 233 | S77: PUBLICATIONS/AUDIOVISUALS | T77: DUES & SUBSCRIPTIONS | U77: UNALLOCATED | V77: NON-DEPARTMENTAL | W77: PUBLICATIONS/AUDIOVISUALS
J83: =SUM(hList_Frame_1!B45:B53) -> 13609.15
A85: 412612 | C85: 42024 | D85: HOUSTON LAW REVIEW INC | F85: 40 | S85: MISC PROFESSIONAL SERVICE | T85: LIBRARY UPDATES | U85: BUDGET | V85: LAW LIBRARY-ADMIN | W85: MISC PROFESSIONAL SERVICE
P87: =SUM(hList_Frame_1!B54:B54) -> 40
A89: 412613 | C89: 42024 | D89: CULLEOKA WATER SUPPLY | F89: 6554.87 | S89: PUBLIC WORK | T89: UTILITY CONSTRUCTION | U89: PUBLIC WORKS | V89: R&B - ADMIN | W89: PUBLIC WORK
L91: =SUM(hList_Frame_1!B55:B55) -> 6554.87
...

Sheet hList_Frame_1
A1: =IF(ISBLANK('January 2015'!A2),"",IF(ISTEXT('January 2015'!A2),0,'January 2015'!A2)) -> 412316 | B1: =IF(ISBLANK('January 2015'!F2),"",IF(ISTEXT('January 2015'!F2),0,'January 2015'!F2)) -> 730.09
A2: =IF(ISBLANK('January 2015'!A3),"",IF(ISTEXT('January 2015'!A3),0,'January 2015'!A3)) | B2: =IF(ISBLANK('January 2015'!F3),"",IF(ISTEXT('January 2015'!F3),0,'January 2015'!F3))
A3: =IF(ISBLANK('January 2015'!A4),"",IF(ISTEXT('January 2015'!A4),0,'January 2015'!A4)) | B3: =IF(ISBLANK('January 2015'!F4),"",IF(ISTEXT('January 2015'!F4),0,'January 2015'!F4))
A4: =IF(ISBLANK('January 2015'!A5),"",IF(ISTEXT('January 2015'!A5),0,'January 2015'!A5)) | B4: =IF(ISBLANK('January 2015'!F5),"",IF(ISTEXT('January 2015'!F5),0,'January 2015'!F5))
A5: =IF(ISBLANK('January 2015'!A6),"",IF(ISTEXT('January 2015'!A6),0,'January 2015'!A6)) | B5: =IF(ISBLANK('January 2015'!F6),"",IF(ISTEXT('January 2015'!F6),0,'January 2015'!F6))
A6: =IF(ISBLANK('January 2015'!A7),"",IF(ISTEXT('January 2015'!A7),0,'January 2015'!A7)) | B6: =IF(ISBLANK('January 2015'!F7),"",IF(ISTEXT('January 2015'!F7),0,'January 2015'!F7))
A7: =IF(ISBLANK('January 2015'!A8),"",IF(ISTEXT('January 2015'!A8),0,'January 2015'!A8)) | B7: =IF(ISBLANK('January 2015'!F8),"",IF(ISTEXT('January 2015'!F8),0,'January 2015'!F8)) -> -14.73
A8: =IF(ISBLANK('January 2015'!A9),"",IF(ISTEXT('January 2015'!A9),0,'January 2015'!A9)) -> 412604 | B8: =IF(ISBLANK('January 2015'!F9),"",IF(ISTEXT('January 2015'!F9),0,'January 2015'!F9)) -> 357.39
A9: =IF(ISBLANK('January 2015'!A10),"",IF(ISTEXT('January 2015'!A10),0,'January 2015'!A10)) | B9: =IF(ISBLANK('January 2015'!F10),"",IF(ISTEXT('January 2015'!F10),0,'January 2015'!F10)) -> 924.69
A10: =IF(ISBLANK('January 2015'!A11),"",IF(ISTEXT('January 2015'!A11),0,'January 2015'!A11)) | B10: =IF(ISBLANK('January 2015'!F11),"",IF(ISTEXT('January 2015'!F11),0,'January 2015'!F11))
A11: =IF(ISBLANK('January 2015'!A12),"",IF(ISTEXT('January 2015'!A12),0,'January 2015'!A12)) | B11: =IF(ISBLANK('January 2015'!F12),"",IF(ISTEXT('January 2015'!F12),0,'January 2015'!F12))
A12: =IF(ISBLANK('January 2015'!A13),"",IF(ISTEXT('January 2015'!A13),0,'January 2015'!A13)) | B12: =IF(ISBLANK('January 2015'!F13),"",IF(ISTEXT('January 2015'!F13),0,'January 2015'!F13))
... A25: =IF(ISBLANK('January 2015'!A26),"",IF(ISTEXT('January 2015'!A26),0,'January 2015'!A26)) | B25: =IF(ISBLANK('January 2015'!F26),"",IF(ISTEXT('January 2015'!F26),0,'January 2015'!F26))
A26: =IF(ISBLANK('January 2015'!A30),"",IF(ISTEXT('January 2015'!A30),0,'January 2015'!A30)) -> 412605 | B26: =IF(ISBLANK('January 2015'!F30),"",IF(ISTEXT('January 2015'!F30),0,'January 2015'!F30)) -> 522
A27: =IF(ISBLANK('January 2015'!A34),"",IF(ISTEXT('January 2015'!A34),0,'January 2015'!A34)) -> 412606 | B27: =IF(ISBLANK('January 2015'!F34),"",IF(ISTEXT('January 2015'!F34),0,'January 2015'!F34)) -> 1882.5
A28: =IF(ISBLANK('January 2015'!A35),"",IF(ISTEXT('January 2015'!A35),0,'January 2015'!A35)) -> 413244 | B28: =IF(ISBLANK('January 2015'!F35),"",IF(ISTEXT('January 2015'!F35),0,'January 2015'!F35)) -> 502
A29: =IF(ISBLANK('January 2015'!A39),"",IF(ISTEXT('January 2015'!A39),0,'January 2015'!A39)) -> 412317 | B29: =IF(ISBLANK('January 2015'!F39),"",IF(ISTEXT('January 2015'!F39),0,'January 2015'!F39)) -> 158.5
A30: =IF(ISBLANK('January 2015'!A40),"",IF(ISTEXT('January 2015'!A40),0,'January 2015'!A40)) -> 412607 | B30: =IF(ISBLANK('January 2015'!F40),"",IF(ISTEXT('January 2015'!F40),0,'January 2015'!F40)) -> 158.5
A31: =IF(ISBLANK('January 2015'!A41),"",IF(ISTEXT('January 2015'!A41),0,'January 2015'!A41)) -> 413245 | B31: =IF(ISBLANK('January 2015'!F41),"",IF(ISTEXT('January 2015'!F41),0,'January 2015'!F41)) -> 158.5
A32: =IF(ISBLANK('January 2015'!A45),"",IF(ISTEXT('January 2015'!A45),0,'January 2015'!A45)) -> 412608 | B32: =IF(ISBLANK('January 2015'!F45),"",IF(ISTEXT('January 2015'!F45),0,'January 2015'!F45)) -> 288.31
A33: =IF(ISBLANK('January 2015'!A49),"",IF(ISTEXT('January 2015'!A49),0,'January 2015'!A49)) -> 413246 | B33: =IF(ISBLANK('January 2015'!F49),"",IF(ISTEXT('January 2015'!F49),0,'January 2015'!F49)) -> 450
A34: =IF(ISBLANK('January 2015'!A53),"",IF(ISTEXT('January 2015'!A53),0,'January 2015'!A53)) -> 413247 | B34: =IF(ISBLANK('January 2015'!F53),"",IF(ISTEXT('January 2015'!F53),0,'January 2015'!F53)) -> 1247.22
A35: =IF(ISBLANK('January 2015'!A54),"",IF(ISTEXT('January 2015'!A54),0,'January 2015'!A54)) | B35: =IF(ISBLANK('January 2015'!F54),"",IF(ISTEXT('January 2015'!F54),0,'January 2015'!F54)) -> 383.76
A36: =IF(ISBLANK('January 2015'!A58),"",IF(ISTEXT('January 2015'!A58),0,'January 2015'!A58)) -> 412609 | B36: =IF(ISBLANK('January 2015'!F58),"",IF(ISTEXT('January 2015'!F58),0,'January 2015'!F58)) -> 61.24
A37: =IF(ISBLANK('January 2015'!A62),"",IF(ISTEXT('January 2015'!A62),0,'January 2015'!A62)) -> 412318 | B37: =IF(ISBLANK('January 2015'!F62),"",IF(ISTEXT('January 2015'!F62),0,'January 2015'!F62)) -> 622.95
A38: =IF(ISBLANK('January 2015'!A63),"",IF(ISTEXT('January 2015'!A63),0,'January 2015'!A63)) | B38: =IF(ISBLANK('January 2015'!F63),"",IF(ISTEXT('January 2015'!F63),0,'January 2015'!F63))
A39: =IF(ISBLANK('January 2015'!A64),"",IF(ISTEXT('January 2015'!A64),0,'January 2015'!A64)) | B39: =IF(ISBLANK('January 2015'!F64),"",IF(ISTEXT('January 2015'!F64),0,'January 2015'!F64))
A40: =IF(ISBLANK('January 2015'!A65),"",IF(ISTEXT('January 2015'!A65),0,'January 2015'!A65)) | B40: =IF(ISBLANK('January 2015'!F65),"",IF(ISTEXT('January 2015'!F65),0,'January 2015'!F65))
A41: =IF(ISBLANK('January 2015'!A66),"",IF(ISTEXT('January 2015'!A66),0,'January 2015'!A66)) | B41: =IF(ISBLANK('January 2015'!F66),"",IF(ISTEXT('January 2015'!F66),0,'January 2015'!F66))
A42: =IF(ISBLANK('January 2015'!A67),"",IF(ISTEXT('January 2015'!A67),0,'January 2015'!A67)) | B42: =IF(ISBLANK('January 2015'!F67),"",IF(ISTEXT('January 2015'!F67),0,'January 2015'!F67))
A43: =IF(ISBLANK('January 2015'!A68),"",IF(ISTEXT('January 2015'!A68),0,'January 2015'!A68)) -> 412610 | B43: =IF(ISBLANK('January 2015'!F68),"",IF(ISTEXT('January 2015'!F68),0,'January 2015'!F68)) -> 1736.84
A44: =IF(ISBLANK('January 2015'!A69),"",IF(ISTEXT('January 2015'!A69),0,'January 2015'!A69)) -> 413248 | B44: =IF(ISBLANK('January 2015'!F69),"",IF(ISTEXT('January 2015'!F69),0,'January 2015'!F69)) -> 450
A45: =IF(ISBLANK('January 2015'!A73),"",IF(ISTEXT('January 2015'!A73),0,'January 2015'!A73)) -> 412319 | B45: =IF(ISBLANK('January 2015'!F73),"",IF(ISTEXT('January 2015'!F73),0,'January 2015'!F73)) -> 55
A46: =IF(ISBLANK('January 2015'!A74),"",IF(ISTEXT('January 2015'!A74),0,'January 2015'!A74)) -> 412611 | B46: =IF(ISBLANK('January 2015'!F74),"",IF(ISTEXT('January 2015'!F74),0,'January 2015'!F74)) -> 13321.15
A47: =IF(ISBLANK('January 2015'!A75),"",IF(ISTEXT('January 2015'!A75),0,'January 2015'!A75)) | B47: =IF(ISBLANK('January 2015'!F75),"",IF(ISTEXT('January 2015'!F75),0,'January 2015'!F75))
A48: =IF(ISBLANK('January 2015'!A76),"",IF(ISTEXT('January 2015'!A76),0,'January 2015'!A76)) | B48: =IF(ISBLANK('January 2015'!F76),"",IF(ISTEXT('January 2015'!F76),0,'January 2015'!F76))
A49: =IF(ISBLANK('January 2015'!A77),"",IF(ISTEXT('January 2015'!A77),0,'January 2015'!A77)) | B49: =IF(ISBLANK('January 2015'!F77),"",IF(ISTEXT('January 2015'!F77),0,'January 2015'!F77)) -> 233
A50: =IF(ISBLANK('January 2015'!A78),"",IF(ISTEXT('January 2015'!A78),0,'January 2015'!A78)) | B50: =IF(ISBLANK('January 2015'!F78),"",IF(ISTEXT('January 2015'!F78),0,'January 2015'!F78))
A51: =IF(ISBLANK('January 2015'!A79),"",IF(ISTEXT('January 2015'!A79),0,'January 2015'!A79)) | B51: =IF(ISBLANK('January 2015'!F79),"",IF(ISTEXT('January 2015'!F79),0,'January 2015'!F79))
A52: =IF(ISBLANK('January 2015'!A80),"",IF(ISTEXT('January 2015'!A80),0,'January 2015'!A80)) | B52: =IF(ISBLANK('January 2015'!F80),"",IF(ISTEXT('January 2015'!F80),0,'January 2015'!F80))
...
