Workbook

Sheet January 2016
A1: Check Number | C1: Check Date | D1: Vendor Name | F1: Transaction Amount | T1: Description | U1: Account Name | V1: Department | W1: Division | X1: Object of Expenditure | Y1: Project Number
A2: 430692 | C2: 42374 | D2: BOB TOMES FORD | F2: 58.36 | T2: BLANKET PURCHASE ORDER | U2: AUTO MAINTENANCE | V2: EQUIPMENT SERVICES | W2: EQUIP SERV-SHARED | X2: BLANKET PURCHASE ORDER
F4: 975.87 | T4: EQUIP MAINT-AGRI/AUTO/IND | U4: AUTO MAINTENANCE | V4: EQUIPMENT SERVICES | W4: EQUIP SERV-SHARED | X4: EQUIP MAINT-AGRI/AUTO/IND
F5: -150 | T5: INV# 5458320 | U5: AUTO MAINTENANCE | V5: EQUIPMENT SERVICES | W5: EQUIP SERV-SHARED | X5: INV# 5458320
A6: 430980 | C6: 42388 | F6: 94.22 | T6: AUTO/TRUCK MAINT. ITEMS | U6: PARTS | X6: AUTO/TRUCK MAINT. ITEMS
F7: 190.52 | T7: BLANKET PURCHASE ORDER | U7: AUTO MAINTENANCE | V7: EQUIPMENT SERVICES | W7: EQUIP SERV-SHARED | X7: BLANKET PURCHASE ORDER
F11: -70.72 | T11: INV# 5460003 | U11: AUTO MAINTENANCE | V11: EQUIPMENT SERVICES | W11: EQUIP SERV-SHARED | X11: INV# 5460003
F12: 70.72 | T12: INV# 5460140 | U12: AUTO MAINTENANCE | V12: EQUIPMENT SERVICES | W12: EQUIP SERV-SHARED | X12: INV# 5460140
A13: 431556 | C13: 42395 | F13: 382.31 | T13: BLANKET PURCHASE ORDER | U13: AUTO MAINTENANCE | V13: EQUIPMENT SERVICES | W13: EQUIP SERV-SHARED | X13: BLANKET PURCHASE ORDER
L20: =SUM(hList_Frame_1!B1:B17) -> 1551.28
A22: 430693 | C22: 42374 | D22: BOB BARKER COMPANY, INC | F22: 669.6 | T22: HOSPITAL SUNDRIES | U22: DETENTION SUPPLIES | V22: JUVENILE PROBATION | W22: JUV DET -ADMIN | X22: HOSPITAL SUNDRIES
A23: 430981 | C23: 42388 | F23: 609.27 | T23: CLOTHING AND APPAREL | U23: DETENTION SUPPLIES | V23: JUVENILE PROBATION | W23: JUV DET -ADMIN | X23: CLOTHING AND APPAREL
F24: 682.61 | T24: PERSONAL HYGIENE&GROOMING | U24: DETENTION SUPPLIES | V24: JUVENILE PROBATION | W24: JUV DET -ADMIN | X24: PERSONAL HYGIENE&GROOMING
F25: 563.25 | T25: TEXTILES/FIBERS/LINENS | U25: DETENTION SUPPLIES | V25: JUVENILE PROBATION | W25: JUV DET -ADMIN | X25: TEXTILES/FIBERS/LINENS
A26: 431557 | C26: 42395 | F26: 4500 | T26: HOSPITAL SUNDRIES | U26: KITCHEN SUPPLIES | V26: SHERIFF'S OFFICE | W26: JAIL OPS-ADMIN | X26: HOSPITAL SUNDRIES
L28: =SUM(hList_Frame_1!B18:B22) -> 7024.73
A30: 430982 | C30: 42388 | D30: ECOLAB INC | F30: 1039.8 | T30: BUTCHER/MEAT PROC. EQUIP. | U30: DETENTION SUPPLIES | V30: SHERIFF'S OFFICE | W30: JAIL OPS-ADMIN | X30: BUTCHER/MEAT PROC. EQUIP.
F31: 805.5 | T31: JANITORIAL SUPPLIES-GEN. | U31: DETENTION SUPPLIES | V31: SHERIFF'S OFFICE | W31: JAIL OPS-ADMIN | X31: JANITORIAL SUPPLIES-GEN.
W32: MINIMUM SECURITY
A33: 431558 | C33: 42395 | F33: 2510 | T33: JANITORIAL SUPPLIES-GEN. | U33: DETENTION SUPPLIES | V33: SHERIFF'S OFFICE | W33: JAIL OPS-ADMIN | X33: JANITORIAL SUPPLIES-GEN.
L35: =SUM(hList_Frame_1!B23:B26) -> 4355.3
A37: 430694 | C37: 42374 | D37: MATTHEW BENDER & CO INC | F37: 51.44 | T37: PUBLICATIONS/AUDIOVISUALS | U37: LIBRARY BOOKS | V37: JUSTICES OF THE PEACE | W37: JP4-ADMIN | X37: PUBLICATIONS/AUDIOVISUALS
Q39: =SUM(hList_Frame_1!B27:B27) -> 51.44
A41: 430695 | C41: 42374 | D41: GIBBS, GREGG M PC | F41: 1200 | T41: 469-54511-07 | U41: COURT APPOINTED ATTORNEY | V41: COURT APPT REPRESENTATION | W41: COURT APPT REPRESENTATION | X41: 469-54511-07 | Y41: ID469O
A42: 430983 | C42: 42388 | F42: 975 | T42: 417-56421-13 | U42: COURT APPOINTED ATTORNEY | V42: COURT APPT REPRESENTATION | W42: COURT APPT REPRESENTATION | X42: 417-56421-13 | Y42: ID417A
L44: =SUM(hList_Frame_1!B28:B29) -> 2175
A46: 430984 | C46: 42388 | D46: POLLOCK PAPER DISTRIBUTORS | F46: 1169.4 | T46: JANITORIAL SUPPLIES-GEN. | U46: JANITORIAL SUPPLIES | V46: SHERIFF'S OFFICE | W46: JAIL OPS-ADMIN | X46: JANITORIAL SUPPLIES-GEN.
A47: 431559 | C47: 42395 | F47: 145 | T47: JANITORIAL SUPPLIES-GEN. | U47: JANITORIAL SUPPLIES | X47: JANITORIAL SUPPLIES-GEN.
L49: =SUM(hList_Frame_1!B30:B31) -> 1314.4
A51: 430985 | C51: 42388 | D51: RODENBAUGH'S INC | F51: 428.54 | T51: EQUIP MAINT-GENERAL EQUIP | U51: EQUIPMENT MAINTENANCE | V51: FACILITIES & PARKS | W51: BUILD SUP-SHARED | X51: EQUIP MAINT-GENERAL EQUIP | Y51: B03001
U52: HVAC MAINTENANCE | V52: FACILITIES & PARKS | W52: BUILD SUP-SHARED | Y52: B17001
N54: =SUM(hList_Frame_1!B32:B33) -> 428.54
A56: 430696 | C56: 42374 | D56: THOMASON TIRE INC | F56: 2295 | T56: EQUIP MAINT-AGRI/AUTO/IND | U56: HEAVY EQUIPMENT REPAIR | V56: EQUIPMENT SERVICES | W56: EQUIP SERV-SHARED | X56: EQUIP MAINT-AGRI/AUTO/IND
A57: 430986 | C57: 42388 | F57: 440 | T57: BLANKET PURCHASE ORDER | U57: HEAVY EQUIPMENT REPAIR | V57: EQUIPMENT SERVICES | W57: EQUIP SERV-SHARED | X57: BLANKET PURCHASE ORDER
L61: =SUM(hList_Frame_1!B34:B37) -> 2735
A63: 430987 | C63: 42388 | D63: TX STATE DIRECTORY | F63: 88.4 | T63: PUBLICATIONS/AUDIOVISUALS | U63: DUES & SUBSCRIPTIONS | V63: TAX ASSESSOR/COLLECTOR | W63: TAX A/C - ADMIN | X63: PUBLICATIONS/AUDIOVISUALS
Q65: =SUM(hList_Frame_1!B38:B38) -> 88.4
A67: 430697 | C67: 42374 | D67: WEST PUBLISHING CORPORATION | F67: 64 | T67: PUBLICATIONS/AUDIOVISUALS | U67: LIBRARY BOOKS | V67: JUSTICES OF THE PEACE | W67: JP4-ADMIN | X67: PUBLICATIONS/AUDIOVISUALS
A68: 430698 | C68: 42374 | F68: 235 | T68: PUBLICATIONS/AUDIOVISUALS | U68: DUES & SUBSCRIPTIONS | V68: COUNTY CLERK | W68: COUNTY CLERK-ADMIN | X68: PUBLICATIONS/AUDIOVISUALS
A69: 430699 | C69: 42374 | F69: 45 | T69: PUBLICATIONS/AUDIOVISUALS | U69: DUES & SUBSCRIPTIONS | V69: UNALLOCATED | W69: NON-DEPARTMENTAL | X69: PUBLICATIONS/AUDIOVISUALS
...

Sheet hList_Frame_1
A1: =IF(ISBLANK('January 2016'!A2),"",IF(ISTEXT('January 2016'!A2),0,'January 2016'!A2)) -> 430692 | B1: =IF(ISBLANK('January 2016'!F2),"",IF(ISTEXT('January 2016'!F2),0,'January 2016'!F2)) -> 58.36
A2: =IF(ISBLANK('January 2016'!A3),"",IF(ISTEXT('January 2016'!A3),0,'January 2016'!A3)) | B2: =IF(ISBLANK('January 2016'!F3),"",IF(ISTEXT('January 2016'!F3),0,'January 2016'!F3))
A3: =IF(ISBLANK('January 2016'!A4),"",IF(ISTEXT('January 2016'!A4),0,'January 2016'!A4)) | B3: =IF(ISBLANK('January 2016'!F4),"",IF(ISTEXT('January 2016'!F4),0,'January 2016'!F4)) -> 975.87
A4: =IF(ISBLANK('January 2016'!A5),"",IF(ISTEXT('January 2016'!A5),0,'January 2016'!A5)) | B4: =IF(ISBLANK('January 2016'!F5),"",IF(ISTEXT('January 2016'!F5),0,'January 2016'!F5)) -> -150
A5: =IF(ISBLANK('January 2016'!A6),"",IF(ISTEXT('January 2016'!A6),0,'January 2016'!A6)) -> 430980 | B5: =IF(ISBLANK('January 2016'!F6),"",IF(ISTEXT('January 2016'!F6),0,'January 2016'!F6)) -> 94.22
A6: =IF(ISBLANK('January 2016'!A7),"",IF(ISTEXT('January 2016'!A7),0,'January 2016'!A7)) | B6: =IF(ISBLANK('January 2016'!F7),"",IF(ISTEXT('January 2016'!F7),0,'January 2016'!F7)) -> 190.52
A7: =IF(ISBLANK('January 2016'!A8),"",IF(ISTEXT('January 2016'!A8),0,'January 2016'!A8)) | B7: =IF(ISBLANK('January 2016'!F8),"",IF(ISTEXT('January 2016'!F8),0,'January 2016'!F8))
A8: =IF(ISBLANK('January 2016'!A9),"",IF(ISTEXT('January 2016'!A9),0,'January 2016'!A9)) | B8: =IF(ISBLANK('January 2016'!F9),"",IF(ISTEXT('January 2016'!F9),0,'January 2016'!F9))
A9: =IF(ISBLANK('January 2016'!A10),"",IF(ISTEXT('January 2016'!A10),0,'January 2016'!A10)) | B9: =IF(ISBLANK('January 2016'!F10),"",IF(ISTEXT('January 2016'!F10),0,'January 2016'!F10))
A10: =IF(ISBLANK('January 2016'!A11),"",IF(ISTEXT('January 2016'!A11),0,'January 2016'!A11)) | B10: =IF(ISBLANK('January 2016'!F11),"",IF(ISTEXT('January 2016'!F11),0,'January 2016'!F11)) -> -70.72
A11: =IF(ISBLANK('January 2016'!A12),"",IF(ISTEXT('January 2016'!A12),0,'January 2016'!A12)) | B11: =IF(ISBLANK('January 2016'!F12),"",IF(ISTEXT('January 2016'!F12),0,'January 2016'!F12)) -> 70.72
A12: =IF(ISBLANK('January 2016'!A13),"",IF(ISTEXT('January 2016'!A13),0,'January 2016'!A13)) -> 431556 | B12: =IF(ISBLANK('January 2016'!F13),"",IF(ISTEXT('January 2016'!F13),0,'January 2016'!F13)) -> 382.31
... A17: =IF(ISBLANK('January 2016'!A18),"",IF(ISTEXT('January 2016'!A18),0,'January 2016'!A18)) | B17: =IF(ISBLANK('January 2016'!F18),"",IF(ISTEXT('January 2016'!F18),0,'January 2016'!F18))
A18: =IF(ISBLANK('January 2016'!A22),"",IF(ISTEXT('January 2016'!A22),0,'January 2016'!A22)) -> 430693 | B18: =IF(ISBLANK('January 2016'!F22),"",IF(ISTEXT('January 2016'!F22),0,'January 2016'!F22)) -> 669.6
A19: =IF(ISBLANK('January 2016'!A23),"",IF(ISTEXT('January 2016'!A23),0,'January 2016'!A23)) -> 430981 | B19: =IF(ISBLANK('January 2016'!F23),"",IF(ISTEXT('January 2016'!F23),0,'January 2016'!F23)) -> 609.27
A20: =IF(ISBLANK('January 2016'!A24),"",IF(ISTEXT('January 2016'!A24),0,'January 2016'!A24)) | B20: =IF(ISBLANK('January 2016'!F24),"",IF(ISTEXT('January 2016'!F24),0,'January 2016'!F24)) -> 682.61
A21: =IF(ISBLANK('January 2016'!A25),"",IF(ISTEXT('January 2016'!A25),0,'January 2016'!A25)) | B21: =IF(ISBLANK('January 2016'!F25),"",IF(ISTEXT('January 2016'!F25),0,'January 2016'!F25)) -> 563.25
A22: =IF(ISBLANK('January 2016'!A26),"",IF(ISTEXT('January 2016'!A26),0,'January 2016'!A26)) -> 431557 | B22: =IF(ISBLANK('January 2016'!F26),"",IF(ISTEXT('January 2016'!F26),0,'January 2016'!F26)) -> 4500
A23: =IF(ISBLANK('January 2016'!A30),"",IF(ISTEXT('January 2016'!A30),0,'January 2016'!A30)) -> 430982 | B23: =IF(ISBLANK('January 2016'!F30),"",IF(ISTEXT('January 2016'!F30),0,'January 2016'!F30)) -> 1039.8
A24: =IF(ISBLANK('January 2016'!A31),"",IF(ISTEXT('January 2016'!A31),0,'January 2016'!A31)) | B24: =IF(ISBLANK('January 2016'!F31),"",IF(ISTEXT('January 2016'!F31),0,'January 2016'!F31)) -> 805.5
A25: =IF(ISBLANK('January 2016'!A32),"",IF(ISTEXT('January 2016'!A32),0,'January 2016'!A32)) | B25: =IF(ISBLANK('January 2016'!F32),"",IF(ISTEXT('January 2016'!F32),0,'January 2016'!F32))
A26: =IF(ISBLANK('January 2016'!A33),"",IF(ISTEXT('January 2016'!A33),0,'January 2016'!A33)) -> 431558 | B26: =IF(ISBLANK('January 2016'!F33),"",IF(ISTEXT('January 2016'!F33),0,'January 2016'!F33)) -> 2510
A27: =IF(ISBLANK('January 2016'!A37),"",IF(ISTEXT('January 2016'!A37),0,'January 2016'!A37)) -> 430694 | B27: =IF(ISBLANK('January 2016'!F37),"",IF(ISTEXT('January 2016'!F37),0,'January 2016'!F37)) -> 51.44
A28: =IF(ISBLANK('January 2016'!A41),"",IF(ISTEXT('January 2016'!A41),0,'January 2016'!A41)) -> 430695 | B28: =IF(ISBLANK('January 2016'!F41),"",IF(ISTEXT('January 2016'!F41),0,'January 2016'!F41)) -> 1200
A29: =IF(ISBLANK('January 2016'!A42),"",IF(ISTEXT('January 2016'!A42),0,'January 2016'!A42)) -> 430983 | B29: =IF(ISBLANK('January 2016'!F42),"",IF(ISTEXT('January 2016'!F42),0,'January 2016'!F42)) -> 975
A30: =IF(ISBLANK('January 2016'!A46),"",IF(ISTEXT('January 2016'!A46),0,'January 2016'!A46)) -> 430984 | B30: =IF(ISBLANK('January 2016'!F46),"",IF(ISTEXT('January 2016'!F46),0,'January 2016'!F46)) -> 1169.4
A31: =IF(ISBLANK('January 2016'!A47),"",IF(ISTEXT('January 2016'!A47),0,'January 2016'!A47)) -> 431559 | B31: =IF(ISBLANK('January 2016'!F47),"",IF(ISTEXT('January 2016'!F47),0,'January 2016'!F47)) -> 145
A32: =IF(ISBLANK('January 2016'!A51),"",IF(ISTEXT('January 2016'!A51),0,'January 2016'!A51)) -> 430985 | B32: =IF(ISBLANK('January 2016'!F51),"",IF(ISTEXT('January 2016'!F51),0,'January 2016'!F51)) -> 428.54
A33: =IF(ISBLANK('January 2016'!A52),"",IF(ISTEXT('January 2016'!A52),0,'January 2016'!A52)) | B33: =IF(ISBLANK('January 2016'!F52),"",IF(ISTEXT('January 2016'!F52),0,'January 2016'!F52))
A34: =IF(ISBLANK('January 2016'!A56),"",IF(ISTEXT('January 2016'!A56),0,'January 2016'!A56)) -> 430696 | B34: =IF(ISBLANK('January 2016'!F56),"",IF(ISTEXT('January 2016'!F56),0,'January 2016'!F56)) -> 2295
A35: =IF(ISBLANK('January 2016'!A57),"",IF(ISTEXT('January 2016'!A57),0,'January 2016'!A57)) -> 430986 | B35: =IF(ISBLANK('January 2016'!F57),"",IF(ISTEXT('January 2016'!F57),0,'January 2016'!F57)) -> 440
A36: =IF(ISBLANK('January 2016'!A58),"",IF(ISTEXT('January 2016'!A58),0,'January 2016'!A58)) | B36: =IF(ISBLANK('January 2016'!F58),"",IF(ISTEXT('January 2016'!F58),0,'January 2016'!F58))
A37: =IF(ISBLANK('January 2016'!A59),"",IF(ISTEXT('January 2016'!A59),0,'January 2016'!A59)) | B37: =IF(ISBLANK('January 2016'!F59),"",IF(ISTEXT('January 2016'!F59),0,'January 2016'!F59))
A38: =IF(ISBLANK('January 2016'!A63),"",IF(ISTEXT('January 2016'!A63),0,'January 2016'!A63)) -> 430987 | B38: =IF(ISBLANK('January 2016'!F63),"",IF(ISTEXT('January 2016'!F63),0,'January 2016'!F63)) -> 88.4
A39: =IF(ISBLANK('January 2016'!A67),"",IF(ISTEXT('January 2016'!A67),0,'January 2016'!A67)) -> 430697 | B39: =IF(ISBLANK('January 2016'!F67),"",IF(ISTEXT('January 2016'!F67),0,'January 2016'!F67)) -> 64
A40: =IF(ISBLANK('January 2016'!A68),"",IF(ISTEXT('January 2016'!A68),0,'January 2016'!A68)) -> 430698 | B40: =IF(ISBLANK('January 2016'!F68),"",IF(ISTEXT('January 2016'!F68),0,'January 2016'!F68)) -> 235
A41: =IF(ISBLANK('January 2016'!A69),"",IF(ISTEXT('January 2016'!A69),0,'January 2016'!A69)) -> 430699 | B41: =IF(ISBLANK('January 2016'!F69),"",IF(ISTEXT('January 2016'!F69),0,'January 2016'!F69)) -> 45
A42: =IF(ISBLANK('January 2016'!A70),"",IF(ISTEXT('January 2016'!A70),0,'January 2016'!A70)) -> 430700 | B42: =IF(ISBLANK('January 2016'!F70),"",IF(ISTEXT('January 2016'!F70),0,'January 2016'!F70)) -> 9932.5
A43: =IF(ISBLANK('January 2016'!A71),"",IF(ISTEXT('January 2016'!A71),0,'January 2016'!A71)) -> 430988 | B43: =IF(ISBLANK('January 2016'!F71),"",IF(ISTEXT('January 2016'!F71),0,'January 2016'!F71)) -> 3107.04
A44: =IF(ISBLANK('January 2016'!A72),"",IF(ISTEXT('January 2016'!A72),0,'January 2016'!A72)) | B44: =IF(ISBLANK('January 2016'!F72),"",IF(ISTEXT('January 2016'!F72),0,'January 2016'!F72)) -> 103
...
