Workbook

Sheet List_Frame_1
A1: Check Number | C1: Check Date | D1: Vendor Name | E1: Transaction Amount | T1: Description | U1: Account Name | V1: Department | W1: Division | X1: Object of Expenditure | Y1: Project Number
A2: 395771 | C2: 41681 | D2: ALLIED ELECTRONICS INC | E2: 941.99 | T2: BUILDER'S SUPPLIES | U2: BUILDING SUPPLIES | V2: FACILITIES & PARKS | W2: BUILD SUP-SHARED | X2: BUILDER'S SUPPLIES | Y2: B03001
Y3: B03001
E4: 51.82 | T4: HAND TOOLS-NOT CLASSIFIED | U4: SMALL TOOLS | V4: FACILITIES & PARKS | W4: BUILD SUP - ADMIN | X4: HAND TOOLS-NOT CLASSIFIED
O6: =SUM(hList_Frame_1!B1:B3) -> 993.81
A8: 395772 | C8: 41681 | D8: BOB TOMES FORD | E8: 696.59 | T8: AUTO/TRUCK MAINT. ITEMS | U8: PARTS | X8: AUTO/TRUCK MAINT. ITEMS
E9: 165.88 | T9: BLANKET PURCHASE ORDER | U9: AUTO MAINTENANCE | V9: EQUIPMENT SERVICES | W9: EQUIP SERV-SHARED | X9: BLANKET PURCHASE ORDER
E14: 99 | T14: EQUIPMENT MAINTENANCE,REC | U14: AUTO MAINTENANCE | V14: EQUIPMENT SERVICES | W14: EQUIP SERV-SHARED | X14: EQUIPMENT MAINTENANCE,REC
E15: -600 | T15: INV 5357650 | U15: AUTO MAINTENANCE | V15: EQUIPMENT SERVICES | W15: EQUIP SERV-SHARED | X15: INV 5357650
E16: -121.4 | T16: INV# 5360190 | U16: AUTO MAINTENANCE | V16: EQUIPMENT SERVICES | W16: EQUIP SERV-SHARED | X16: INV# 5360190
E17: 121.4 | T17: INV# 5360435 | U17: AUTO MAINTENANCE | V17: EQUIPMENT SERVICES | W17: EQUIP SERV-SHARED | X17: INV# 5360435
A18: 396085 | C18: 41688 | E18: 2506.5 | T18: BLANKET PURCHASE ORDER | U18: AUTO MAINTENANCE | V18: EQUIPMENT SERVICES | W18: EQUIP SERV-SHARED | X18: BLANKET PURCHASE ORDER
E31: 1357.44 | T31: EQUIPMENT MAINTENANCE,REC | U31: AUTO MAINTENANCE | V31: EQUIPMENT SERVICES | W31: EQUIP SERV-SHARED | X31: EQUIPMENT MAINTENANCE,REC
E32: -75.84 | T32: INV# 5361133 | U32: AUTO MAINTENANCE | V32: EQUIPMENT SERVICES | W32: EQUIP SERV-SHARED | X32: INV# 5361133
E33: 75.84 | T33: INV# 5361954 | U33: AUTO MAINTENANCE | V33: EQUIPMENT SERVICES | W33: EQUIP SERV-SHARED | X33: INV# 5361954
A34: 396488 | C34: 41695 | E34: 179.9 | T34: BLANKET PURCHASE ORDER | U34: AUTO MAINTENANCE | V34: EQUIPMENT SERVICES | W34: EQUIP SERV-SHARED | X34: BLANKET PURCHASE ORDER
M37: =SUM(hList_Frame_1!B4:B31) -> 4405.31
A39: 395465 | C39: 41674 | D39: BOB BARKER CO | E39: 20.13 | T39: PERSONAL HYGIENE&GROOMING | U39: DETENTION SUPPLIES | V39: JUVENILE PROBATION | W39: JUV DET -ADMIN | X39: PERSONAL HYGIENE&GROOMING
A40: 395773 | C40: 41681 | E40: 2635.2 | T40: CLOTHING AND APPAREL | U40: DETENTION SUPPLIES | V40: SHERIFF'S OFFICE | W40: MINIMUM SECURITY | X40: CLOTHING AND APPAREL
M42: =SUM(hList_Frame_1!B32:B33) -> 2655.33
A44: 395466 | C44: 41674 | D44: C&W ELECTRIC SUPPLY CO | E44: 211.52 | T44: ELECTRICAL EQUIP/SUPPLIES | U44: FACILITIES WAREHOUSE | X44: ELECTRICAL EQUIP/SUPPLIES
A45: 395774 | C45: 41681 | E45: 595 | T45: BUILDER'S SUPPLIES | U45: BUILDING MAINTENANCE | V45: FACILITIES & PARKS | W45: BUILD SUP-SHARED | X45: BUILDER'S SUPPLIES | Y45: B11001
E46: 388.2 | T46: ELECTRICAL EQUIP/SUPPLIES | U46: BUILDING SUPPLIES | V46: FACILITIES & PARKS | W46: BUILD SUP-SHARED | X46: ELECTRICAL EQUIP/SUPPLIES | Y46: B03001
Y47: B03001
E48: 493 | T48: HVAC EQUIP/PART/ACCESSORY | U48: HVAC MAINTENANCE | V48: FACILITIES & PARKS | W48: BUILD SUP-SHARED | X48: HVAC EQUIP/PART/ACCESSORY | Y48: B10001
A49: 396086 | C49: 41688 | E49: 1400.1 | T49: ELECTRICAL EQUIP/SUPPLIES | U49: BUILDING MAINTENANCE | V49: FACILITIES & PARKS | W49: BUILD SUP-SHARED | X49: ELECTRICAL EQUIP/SUPPLIES | Y49: B06002
U50: FACILITIES WAREHOUSE
E52: 149.18 | T52: JANITORIAL SUPPLIES-GEN. | U52: BUILDING MAINTENANCE | V52: FACILITIES & PARKS | W52: BUILD SUP-SHARED | X52: JANITORIAL SUPPLIES-GEN. | Y52: B03001
A53: 396489 | C53: 41695 | E53: 744.68 | T53: BUILDER'S SUPPLIES | U53: BUILDING MAINTENANCE | V53: FACILITIES & PARKS | W53: BUILD SUP-SHARED | X53: BUILDER'S SUPPLIES | Y53: B03001
Y54: B03002
E55: 529.98 | T55: ELECTRICAL CABLES & WIRES | U55: FACILITIES WAREHOUSE | X55: ELECTRICAL CABLES & WIRES
E56: 3896.92 | T56: ELECTRICAL EQUIP/SUPPLIES | U56: BUILDING MAINTENANCE | V56: FACILITIES & PARKS | W56: FAC-JJAEP FACILITY | X56: ELECTRICAL EQUIP/SUPPLIES | Y56: U41018
Y57: U41018
U58: FACILITIES WAREHOUSE
M60: =SUM(hList_Frame_1!B34:B48) -> 8408.58
A62: 396490 | C62: 41695 | D62: ECOLAB INC | E62: 1703.9 | T62: JANITORIAL SUPPLIES-GEN. | U62: ANIMAL CARE | V62: ANIMAL SHELTER | W62: ANIMAL SHELTER-ADMIN | X62: JANITORIAL SUPPLIES-GEN.
M64: =SUM(hList_Frame_1!B49:B49) -> 1703.9
A66: 396491 | C66: 41695 | D66: MICO INDUSTRIAL CORP | E66: 134.4 | T66: BUILDER'S SUPPLIES | U66: ANIMAL CARE | V66: ANIMAL SHELTER | W66: ANIMAL SHELTER-ADMIN | X66: BUILDER'S SUPPLIES
O68: =SUM(hList_Frame_1!B50:B50) -> 134.4
A70: 395775 | C70: 41681 | D70: GIBBS, GREGG M PC | E70: 500 | T70: 417-70223-13 | U70: COURT APPOINTED ATTORNEY | V70: INDIGENT DEFENSE | W70: JUVENILE COURT-IND DEF | X70: 417-70223-13 | Y70: ID417J
...

Sheet hList_Frame_1
A1: =IF(ISBLANK(List_Frame_1!A2),"",IF(ISTEXT(List_Frame_1!A2),0,List_Frame_1!A2)) -> 395771 | B1: =IF(ISBLANK(List_Frame_1!E2),"",IF(ISTEXT(List_Frame_1!E2),0,List_Frame_1!E2)) -> 941.99
A2: =IF(ISBLANK(List_Frame_1!A3),"",IF(ISTEXT(List_Frame_1!A3),0,List_Frame_1!A3)) | B2: =IF(ISBLANK(List_Frame_1!E3),"",IF(ISTEXT(List_Frame_1!E3),0,List_Frame_1!E3))
A3: =IF(ISBLANK(List_Frame_1!A4),"",IF(ISTEXT(List_Frame_1!A4),0,List_Frame_1!A4)) | B3: =IF(ISBLANK(List_Frame_1!E4),"",IF(ISTEXT(List_Frame_1!E4),0,List_Frame_1!E4)) -> 51.82
A4: =IF(ISBLANK(List_Frame_1!A8),"",IF(ISTEXT(List_Frame_1!A8),0,List_Frame_1!A8)) -> 395772 | B4: =IF(ISBLANK(List_Frame_1!E8),"",IF(ISTEXT(List_Frame_1!E8),0,List_Frame_1!E8)) -> 696.59
A5: =IF(ISBLANK(List_Frame_1!A9),"",IF(ISTEXT(List_Frame_1!A9),0,List_Frame_1!A9)) | B5: =IF(ISBLANK(List_Frame_1!E9),"",IF(ISTEXT(List_Frame_1!E9),0,List_Frame_1!E9)) -> 165.88
A6: =IF(ISBLANK(List_Frame_1!A10),"",IF(ISTEXT(List_Frame_1!A10),0,List_Frame_1!A10)) | B6: =IF(ISBLANK(List_Frame_1!E10),"",IF(ISTEXT(List_Frame_1!E10),0,List_Frame_1!E10))
A7: =IF(ISBLANK(List_Frame_1!A11),"",IF(ISTEXT(List_Frame_1!A11),0,List_Frame_1!A11)) | B7: =IF(ISBLANK(List_Frame_1!E11),"",IF(ISTEXT(List_Frame_1!E11),0,List_Frame_1!E11))
A8: =IF(ISBLANK(List_Frame_1!A12),"",IF(ISTEXT(List_Frame_1!A12),0,List_Frame_1!A12)) | B8: =IF(ISBLANK(List_Frame_1!E12),"",IF(ISTEXT(List_Frame_1!E12),0,List_Frame_1!E12))
A9: =IF(ISBLANK(List_Frame_1!A13),"",IF(ISTEXT(List_Frame_1!A13),0,List_Frame_1!A13)) | B9: =IF(ISBLANK(List_Frame_1!E13),"",IF(ISTEXT(List_Frame_1!E13),0,List_Frame_1!E13))
A10: =IF(ISBLANK(List_Frame_1!A14),"",IF(ISTEXT(List_Frame_1!A14),0,List_Frame_1!A14)) | B10: =IF(ISBLANK(List_Frame_1!E14),"",IF(ISTEXT(List_Frame_1!E14),0,List_Frame_1!E14)) -> 99
A11: =IF(ISBLANK(List_Frame_1!A15),"",IF(ISTEXT(List_Frame_1!A15),0,List_Frame_1!A15)) | B11: =IF(ISBLANK(List_Frame_1!E15),"",IF(ISTEXT(List_Frame_1!E15),0,List_Frame_1!E15)) -> -600
A12: =IF(ISBLANK(List_Frame_1!A16),"",IF(ISTEXT(List_Frame_1!A16),0,List_Frame_1!A16)) | B12: =IF(ISBLANK(List_Frame_1!E16),"",IF(ISTEXT(List_Frame_1!E16),0,List_Frame_1!E16)) -> -121.4
A13: =IF(ISBLANK(List_Frame_1!A17),"",IF(ISTEXT(List_Frame_1!A17),0,List_Frame_1!A17)) | B13: =IF(ISBLANK(List_Frame_1!E17),"",IF(ISTEXT(List_Frame_1!E17),0,List_Frame_1!E17)) -> 121.4
A14: =IF(ISBLANK(List_Frame_1!A18),"",IF(ISTEXT(List_Frame_1!A18),0,List_Frame_1!A18)) -> 396085 | B14: =IF(ISBLANK(List_Frame_1!E18),"",IF(ISTEXT(List_Frame_1!E18),0,List_Frame_1!E18)) -> 2506.5
A15: =IF(ISBLANK(List_Frame_1!A19),"",IF(ISTEXT(List_Frame_1!A19),0,List_Frame_1!A19)) | B15: =IF(ISBLANK(List_Frame_1!E19),"",IF(ISTEXT(List_Frame_1!E19),0,List_Frame_1!E19))
... A31: =IF(ISBLANK(List_Frame_1!A35),"",IF(ISTEXT(List_Frame_1!A35),0,List_Frame_1!A35)) | B31: =IF(ISBLANK(List_Frame_1!E35),"",IF(ISTEXT(List_Frame_1!E35),0,List_Frame_1!E35))
A32: =IF(ISBLANK(List_Frame_1!A39),"",IF(ISTEXT(List_Frame_1!A39),0,List_Frame_1!A39)) -> 395465 | B32: =IF(ISBLANK(List_Frame_1!E39),"",IF(ISTEXT(List_Frame_1!E39),0,List_Frame_1!E39)) -> 20.13
A33: =IF(ISBLANK(List_Frame_1!A40),"",IF(ISTEXT(List_Frame_1!A40),0,List_Frame_1!A40)) -> 395773 | B33: =IF(ISBLANK(List_Frame_1!E40),"",IF(ISTEXT(List_Frame_1!E40),0,List_Frame_1!E40)) -> 2635.2
A34: =IF(ISBLANK(List_Frame_1!A44),"",IF(ISTEXT(List_Frame_1!A44),0,List_Frame_1!A44)) -> 395466 | B34: =IF(ISBLANK(List_Frame_1!E44),"",IF(ISTEXT(List_Frame_1!E44),0,List_Frame_1!E44)) -> 211.52
A35: =IF(ISBLANK(List_Frame_1!A45),"",IF(ISTEXT(List_Frame_1!A45),0,List_Frame_1!A45)) -> 395774 | B35: =IF(ISBLANK(List_Frame_1!E45),"",IF(ISTEXT(List_Frame_1!E45),0,List_Frame_1!E45)) -> 595
A36: =IF(ISBLANK(List_Frame_1!A46),"",IF(ISTEXT(List_Frame_1!A46),0,List_Frame_1!A46)) | B36: =IF(ISBLANK(List_Frame_1!E46),"",IF(ISTEXT(List_Frame_1!E46),0,List_Frame_1!E46)) -> 388.2
A37: =IF(ISBLANK(List_Frame_1!A47),"",IF(ISTEXT(List_Frame_1!A47),0,List_Frame_1!A47)) | B37: =IF(ISBLANK(List_Frame_1!E47),"",IF(ISTEXT(List_Frame_1!E47),0,List_Frame_1!E47))
A38: =IF(ISBLANK(List_Frame_1!A48),"",IF(ISTEXT(List_Frame_1!A48),0,List_Frame_1!A48)) | B38: =IF(ISBLANK(List_Frame_1!E48),"",IF(ISTEXT(List_Frame_1!E48),0,List_Frame_1!E48)) -> 493
A39: =IF(ISBLANK(List_Frame_1!A49),"",IF(ISTEXT(List_Frame_1!A49),0,List_Frame_1!A49)) -> 396086 | B39: =IF(ISBLANK(List_Frame_1!E49),"",IF(ISTEXT(List_Frame_1!E49),0,List_Frame_1!E49)) -> 1400.1
A40: =IF(ISBLANK(List_Frame_1!A50),"",IF(ISTEXT(List_Frame_1!A50),0,List_Frame_1!A50)) | B40: =IF(ISBLANK(List_Frame_1!E50),"",IF(ISTEXT(List_Frame_1!E50),0,List_Frame_1!E50))
A41: =IF(ISBLANK(List_Frame_1!A51),"",IF(ISTEXT(List_Frame_1!A51),0,List_Frame_1!A51)) | B41: =IF(ISBLANK(List_Frame_1!E51),"",IF(ISTEXT(List_Frame_1!E51),0,List_Frame_1!E51))
A42: =IF(ISBLANK(List_Frame_1!A52),"",IF(ISTEXT(List_Frame_1!A52),0,List_Frame_1!A52)) | B42: =IF(ISBLANK(List_Frame_1!E52),"",IF(ISTEXT(List_Frame_1!E52),0,List_Frame_1!E52)) -> 149.18
A43: =IF(ISBLANK(List_Frame_1!A53),"",IF(ISTEXT(List_Frame_1!A53),0,List_Frame_1!A53)) -> 396489 | B43: =IF(ISBLANK(List_Frame_1!E53),"",IF(ISTEXT(List_Frame_1!E53),0,List_Frame_1!E53)) -> 744.68
A44: =IF(ISBLANK(List_Frame_1!A54),"",IF(ISTEXT(List_Frame_1!A54),0,List_Frame_1!A54)) | B44: =IF(ISBLANK(List_Frame_1!E54),"",IF(ISTEXT(List_Frame_1!E54),0,List_Frame_1!E54))
A45: =IF(ISBLANK(List_Frame_1!A55),"",IF(ISTEXT(List_Frame_1!A55),0,List_Frame_1!A55)) | B45: =IF(ISBLANK(List_Frame_1!E55),"",IF(ISTEXT(List_Frame_1!E55),0,List_Frame_1!E55)) -> 529.98
... A48: =IF(ISBLANK(List_Frame_1!A58),"",IF(ISTEXT(List_Frame_1!A58),0,List_Frame_1!A58)) | B48: =IF(ISBLANK(List_Frame_1!E58),"",IF(ISTEXT(List_Frame_1!E58),0,List_Frame_1!E58))
A49: =IF(ISBLANK(List_Frame_1!A62),"",IF(ISTEXT(List_Frame_1!A62),0,List_Frame_1!A62)) -> 396490 | B49: =IF(ISBLANK(List_Frame_1!E62),"",IF(ISTEXT(List_Frame_1!E62),0,List_Frame_1!E62)) -> 1703.9
A50: =IF(ISBLANK(List_Frame_1!A66),"",IF(ISTEXT(List_Frame_1!A66),0,List_Frame_1!A66)) -> 396491 | B50: =IF(ISBLANK(List_Frame_1!E66),"",IF(ISTEXT(List_Frame_1!E66),0,List_Frame_1!E66)) -> 134.4
A51: =IF(ISBLANK(List_Frame_1!A70),"",IF(ISTEXT(List_Frame_1!A70),0,List_Frame_1!A70)) -> 395775 | B51: =IF(ISBLANK(List_Frame_1!E70),"",IF(ISTEXT(List_Frame_1!E70),0,List_Frame_1!E70)) -> 500
A52: =IF(ISBLANK(List_Frame_1!A71),"",IF(ISTEXT(List_Frame_1!A71),0,List_Frame_1!A71)) -> 396087 | B52: =IF(ISBLANK(List_Frame_1!E71),"",IF(ISTEXT(List_Frame_1!E71),0,List_Frame_1!E71)) -> 1462.5
A53: =IF(ISBLANK(List_Frame_1!A72),"",IF(ISTEXT(List_Frame_1!A72),0,List_Frame_1!A72)) | B53: =IF(ISBLANK(List_Frame_1!E72),"",IF(ISTEXT(List_Frame_1!E72),0,List_Frame_1!E72)) -> 1616
A54: =IF(ISBLANK(List_Frame_1!A73),"",IF(ISTEXT(List_Frame_1!A73),0,List_Frame_1!A73)) -> 396492 | B54: =IF(ISBLANK(List_Frame_1!E73),"",IF(ISTEXT(List_Frame_1!E73),0,List_Frame_1!E73)) -> 675
A55: =IF(ISBLANK(List_Frame_1!A74),"",IF(ISTEXT(List_Frame_1!A74),0,List_Frame_1!A74)) | B55: =IF(ISBLANK(List_Frame_1!E74),"",IF(ISTEXT(List_Frame_1!E74),0,List_Frame_1!E74)) -> 400
A56: =IF(ISBLANK(List_Frame_1!A75),"",IF(ISTEXT(List_Frame_1!A75),0,List_Frame_1!A75)) | B56: =IF(ISBLANK(List_Frame_1!E75),"",IF(ISTEXT(List_Frame_1!E75),0,List_Frame_1!E75)) -> 450
A57: =IF(ISBLANK(List_Frame_1!A76),"",IF(ISTEXT(List_Frame_1!A76),0,List_Frame_1!A76)) | B57: =IF(ISBLANK(List_Frame_1!E76),"",IF(ISTEXT(List_Frame_1!E76),0,List_Frame_1!E76)) -> 868.75
...
