Workbook

Sheet February 2015
A1: Check Number | C1: Check Date | D1: Vendor Name | F1: Transaction Amount | R1: Description | S1: Account Name | T1: Department | U1: Division | V1: Object of Expenditure | W1: Project Number
A2: 413605 | C2: 42038 | D2: BOB TOMES FORD | F2: 112.01 | R2: BLANKET PURCHASE ORDER | S2: AUTO MAINTENANCE | T2: EQUIPMENT SERVICES | U2: EQUIP SERV-SHARED | V2: BLANKET PURCHASE ORDER
F5: -81.81 | R5: INV# 5409553 | S5: AUTO MAINTENANCE | T5: EQUIPMENT SERVICES | U5: EQUIP SERV-SHARED | V5: INV# 5409553
F6: -404.43 | R6: INV# 5409660 | S6: AUTO MAINTENANCE | T6: EQUIPMENT SERVICES | U6: EQUIP SERV-SHARED | V6: INV# 5409660
F7: 404.43 | R7: INV# 5409685 | S7: AUTO MAINTENANCE | T7: EQUIPMENT SERVICES | U7: EQUIP SERV-SHARED | V7: INV# 5409685
F8: -214.71 | R8: INV# 5410494 | S8: AUTO MAINTENANCE | T8: EQUIPMENT SERVICES | U8: EQUIP SERV-SHARED | V8: INV# 5410494
F9: 214.71 | R9: INV# 5410967 | S9: AUTO MAINTENANCE | T9: EQUIPMENT SERVICES | U9: EQUIP SERV-SHARED | V9: INV# 5410967
F10: -263.32 | R10: INV# 5410999 | S10: AUTO MAINTENANCE | T10: EQUIPMENT SERVICES | U10: EQUIP SERV-SHARED | V10: INV# 5410999
F11: 263.32 | R11: INV# 5411016 | S11: AUTO MAINTENANCE | T11: EQUIPMENT SERVICES | U11: EQUIP SERV-SHARED | V11: INV# 5411016
A12: 413948 | C12: 42045 | F12: 65.51 | R12: BLANKET PURCHASE ORDER | S12: AUTO MAINTENANCE | T12: EQUIPMENT SERVICES | U12: EQUIP SERV-SHARED | V12: BLANKET PURCHASE ORDER
A13: 414286 | C13: 42052 | F13: 665.97 | R13: AUTO/TRUCK MAINT. ITEMS | S13: PARTS | V13: AUTO/TRUCK MAINT. ITEMS
F14: 233 | R14: BLANKET PURCHASE ORDER | S14: AUTO MAINTENANCE | T14: EQUIPMENT SERVICES | U14: EQUIP SERV-SHARED | V14: BLANKET PURCHASE ORDER
N19: =SUM(hList_Frame_1!B1:B16) -> 994.68
A21: 413949 | C21: 42045 | D21: BOB BARKER CO | F21: 228.54 | R21: CLOTHING AND APPAREL | S21: DETENTION SUPPLIES | T21: SHERIFF'S OFFICE | U21: JAIL OPS-ADMIN | V21: CLOTHING AND APPAREL
F22: -110.3 | R22: UT1000328535. | S22: DETENTION SUPPLIES | T22: SHERIFF'S OFFICE | U22: JAIL OPS-ADMIN | V22: UT1000328535.
F23: 110.3 | R23: UT1000335226 | S23: DETENTION SUPPLIES | T23: SHERIFF'S OFFICE | U23: JAIL OPS-ADMIN | V23: UT1000335226
A24: 414287 | C24: 42052 | F24: 81.6 | R24: CLOTHING AND APPAREL | S24: DETENTION SUPPLIES | T24: JUVENILE PROBATION | U24: JUV DET -ADMIN | V24: CLOTHING AND APPAREL
F25: 112.06 | R25: PERSONAL HYGIENE&GROOMING | S25: DETENTION SUPPLIES | T25: JUVENILE PROBATION | U25: JUV DET -ADMIN | V25: PERSONAL HYGIENE&GROOMING
N27: =SUM(hList_Frame_1!B17:B21) -> 422.2
A29: 413606 | C29: 42038 | D29: ECOLAB INC | F29: 1039.8 | R29: BUTCHER/MEAT PROC. EQUIP. | S29: DETENTION SUPPLIES | T29: SHERIFF'S OFFICE | U29: JAIL OPS-ADMIN | V29: BUTCHER/MEAT PROC. EQUIP.
F30: 2448.9 | R30: JANITORIAL SUPPLIES-GEN. | S30: ANIMAL CARE | T30: ANIMAL SHELTER | U30: ANIMAL SHELTER-ADMIN | V30: JANITORIAL SUPPLIES-GEN.
S31: DETENTION SUPPLIES | T31: SHERIFF'S OFFICE | U31: JAIL OPS-ADMIN
L33: =SUM(hList_Frame_1!B22:B24) -> 3488.7
A35: 414288 | C35: 42052 | D35: MATTHEW BENDER & CO | F35: 55.44 | R35: PUBLICATIONS/AUDIOVISUALS | S35: DUES & SUBSCRIPTIONS | T35: HEALTHCARE SERVICES | U35: INDIGENT HC-ADMIN | V35: PUBLICATIONS/AUDIOVISUALS
P37: =SUM(hList_Frame_1!B25:B25) -> 55.44
A39: 413950 | C39: 42045 | D39: GIBBS, GREGG M PC | F39: 950 | R39: 417-30136-14 | S39: MISCELLANEOUS | T39: INDIGENT DEFENSE | U39: INDIGENT DEFENSE | V39: 417-30136-14 | W39: ID417O
F40: 625 | R40: 429-51132-14 | S40: COURT APPOINTED ATTORNEY | T40: INDIGENT DEFENSE | U40: INDIGENT DEFENSE | V40: 429-51132-14 | W40: ID429O
A41: 414289 | C41: 42052 | F41: 975 | R41: 380-54469-07 | S41: COURT APPOINTED ATTORNEY | T41: INDIGENT DEFENSE | U41: INDIGENT DEFENSE | V41: 380-54469-07 | W41: ID380A
L43: =SUM(hList_Frame_1!B26:B28) -> 2550
A45: 413951 | C45: 42045 | D45: POLLOCK PAPER DISTRIBUTORS | F45: 509.71 | R45: JANITORIAL SUPPLIES-GEN. | S45: JANITORIAL SUPPLIES | T45: SHERIFF'S OFFICE | U45: JAIL OPS-ADMIN | V45: JANITORIAL SUPPLIES-GEN.
F46: 7990.29 | R46: PAPER/PLASTIC, DISPOSABLE | S46: JANITORIAL SUPPLIES | T46: SHERIFF'S OFFICE | U46: JAIL OPS-ADMIN | V46: PAPER/PLASTIC, DISPOSABLE
A47: 414290 | C47: 42052 | F47: 1949.16 | R47: PAPER/PLASTIC, DISPOSABLE | S47: CENTRAL SUPPLY | V47: PAPER/PLASTIC, DISPOSABLE
S48: JANITORIAL SUPPLIES
J50: =SUM(hList_Frame_1!B29:B32) -> 10449.16
A52: 413952 | C52: 42045 | D52: THOMASON TIRE INC | F52: 838.8 | R52: BLANKET PURCHASE ORDER | S52: AUTO MAINTENANCE | T52: EQUIPMENT SERVICES | U52: EQUIP SERV-SHARED | V52: BLANKET PURCHASE ORDER
F58: 900 | R58: TIRES AND TUBES | S58: PARTS | V58: TIRES AND TUBES
L60: =SUM(hList_Frame_1!B33:B39) -> 1738.8
A62: 413607 | C62: 42038 | D62: TX STATE DIRECTORY | F62: 129.35 | R62: MISC PROFESSIONAL SERVICE | S62: OFFICE SUPPLIES | T62: ADMINISTRATIVE SERVICES | U62: ADMINISTRATIVE SERV-ADMIN | V62: MISC PROFESSIONAL SERVICE
N64: =SUM(hList_Frame_1!B40:B40) -> 129.35
A66: 413953 | C66: 42045 | D66: WEST PUBLISHING CORPORATION | F66: 41 | R66: PUBLICATIONS/AUDIOVISUALS | S66: DUES & SUBSCRIPTIONS | T66: UNALLOCATED | U66: NON-DEPARTMENTAL | V66: PUBLICATIONS/AUDIOVISUALS
...

Sheet hList_Frame_1
A1: =IF(ISBLANK('February 2015'!A2),"",IF(ISTEXT('February 2015'!A2),0,'February 2015'!A2)) -> 413605 | B1: =IF(ISBLANK('February 2015'!F2),"",IF(ISTEXT('February 2015'!F2),0,'February 2015'!F2)) -> 112.01
A2: =IF(ISBLANK('February 2015'!A3),"",IF(ISTEXT('February 2015'!A3),0,'February 2015'!A3)) | B2: =IF(ISBLANK('February 2015'!F3),"",IF(ISTEXT('February 2015'!F3),0,'February 2015'!F3))
A3: =IF(ISBLANK('February 2015'!A4),"",IF(ISTEXT('February 2015'!A4),0,'February 2015'!A4)) | B3: =IF(ISBLANK('February 2015'!F4),"",IF(ISTEXT('February 2015'!F4),0,'February 2015'!F4))
A4: =IF(ISBLANK('February 2015'!A5),"",IF(ISTEXT('February 2015'!A5),0,'February 2015'!A5)) | B4: =IF(ISBLANK('February 2015'!F5),"",IF(ISTEXT('February 2015'!F5),0,'February 2015'!F5)) -> -81.81
A5: =IF(ISBLANK('February 2015'!A6),"",IF(ISTEXT('February 2015'!A6),0,'February 2015'!A6)) | B5: =IF(ISBLANK('February 2015'!F6),"",IF(ISTEXT('February 2015'!F6),0,'February 2015'!F6)) -> -404.43
A6: =IF(ISBLANK('February 2015'!A7),"",IF(ISTEXT('February 2015'!A7),0,'February 2015'!A7)) | B6: =IF(ISBLANK('February 2015'!F7),"",IF(ISTEXT('February 2015'!F7),0,'February 2015'!F7)) -> 404.43
A7: =IF(ISBLANK('February 2015'!A8),"",IF(ISTEXT('February 2015'!A8),0,'February 2015'!A8)) | B7: =IF(ISBLANK('February 2015'!F8),"",IF(ISTEXT('February 2015'!F8),0,'February 2015'!F8)) -> -214.71
A8: =IF(ISBLANK('February 2015'!A9),"",IF(ISTEXT('February 2015'!A9),0,'February 2015'!A9)) | B8: =IF(ISBLANK('February 2015'!F9),"",IF(ISTEXT('February 2015'!F9),0,'February 2015'!F9)) -> 214.71
A9: =IF(ISBLANK('February 2015'!A10),"",IF(ISTEXT('February 2015'!A10),0,'February 2015'!A10)) | B9: =IF(ISBLANK('February 2015'!F10),"",IF(ISTEXT('February 2015'!F10),0,'February 2015'!F10)) -> -263.32
A10: =IF(ISBLANK('February 2015'!A11),"",IF(ISTEXT('February 2015'!A11),0,'February 2015'!A11)) | B10: =IF(ISBLANK('February 2015'!F11),"",IF(ISTEXT('February 2015'!F11),0,'February 2015'!F11)) -> 263.32
A11: =IF(ISBLANK('February 2015'!A12),"",IF(ISTEXT('February 2015'!A12),0,'February 2015'!A12)) -> 413948 | B11: =IF(ISBLANK('February 2015'!F12),"",IF(ISTEXT('February 2015'!F12),0,'February 2015'!F12)) -> 65.51
A12: =IF(ISBLANK('February 2015'!A13),"",IF(ISTEXT('February 2015'!A13),0,'February 2015'!A13)) -> 414286 | B12: =IF(ISBLANK('February 2015'!F13),"",IF(ISTEXT('February 2015'!F13),0,'February 2015'!F13)) -> 665.97
... A16: =IF(ISBLANK('February 2015'!A17),"",IF(ISTEXT('February 2015'!A17),0,'February 2015'!A17)) | B16: =IF(ISBLANK('February 2015'!F17),"",IF(ISTEXT('February 2015'!F17),0,'February 2015'!F17))
A17: =IF(ISBLANK('February 2015'!A21),"",IF(ISTEXT('February 2015'!A21),0,'February 2015'!A21)) -> 413949 | B17: =IF(ISBLANK('February 2015'!F21),"",IF(ISTEXT('February 2015'!F21),0,'February 2015'!F21)) -> 228.54
A18: =IF(ISBLANK('February 2015'!A22),"",IF(ISTEXT('February 2015'!A22),0,'February 2015'!A22)) | B18: =IF(ISBLANK('February 2015'!F22),"",IF(ISTEXT('February 2015'!F22),0,'February 2015'!F22)) -> -110.3
A19: =IF(ISBLANK('February 2015'!A23),"",IF(ISTEXT('February 2015'!A23),0,'February 2015'!A23)) | B19: =IF(ISBLANK('February 2015'!F23),"",IF(ISTEXT('February 2015'!F23),0,'February 2015'!F23)) -> 110.3
A20: =IF(ISBLANK('February 2015'!A24),"",IF(ISTEXT('February 2015'!A24),0,'February 2015'!A24)) -> 414287 | B20: =IF(ISBLANK('February 2015'!F24),"",IF(ISTEXT('February 2015'!F24),0,'February 2015'!F24)) -> 81.6
A21: =IF(ISBLANK('February 2015'!A25),"",IF(ISTEXT('February 2015'!A25),0,'February 2015'!A25)) | B21: =IF(ISBLANK('February 2015'!F25),"",IF(ISTEXT('February 2015'!F25),0,'February 2015'!F25)) -> 112.06
A22: =IF(ISBLANK('February 2015'!A29),"",IF(ISTEXT('February 2015'!A29),0,'February 2015'!A29)) -> 413606 | B22: =IF(ISBLANK('February 2015'!F29),"",IF(ISTEXT('February 2015'!F29),0,'February 2015'!F29)) -> 1039.8
A23: =IF(ISBLANK('February 2015'!A30),"",IF(ISTEXT('February 2015'!A30),0,'February 2015'!A30)) | B23: =IF(ISBLANK('February 2015'!F30),"",IF(ISTEXT('February 2015'!F30),0,'February 2015'!F30)) -> 2448.9
A24: =IF(ISBLANK('February 2015'!A31),"",IF(ISTEXT('February 2015'!A31),0,'February 2015'!A31)) | B24: =IF(ISBLANK('February 2015'!F31),"",IF(ISTEXT('February 2015'!F31),0,'February 2015'!F31))
A25: =IF(ISBLANK('February 2015'!A35),"",IF(ISTEXT('February 2015'!A35),0,'February 2015'!A35)) -> 414288 | B25: =IF(ISBLANK('February 2015'!F35),"",IF(ISTEXT('February 2015'!F35),0,'February 2015'!F35)) -> 55.44
A26: =IF(ISBLANK('February 2015'!A39),"",IF(ISTEXT('February 2015'!A39),0,'February 2015'!A39)) -> 413950 | B26: =IF(ISBLANK('February 2015'!F39),"",IF(ISTEXT('February 2015'!F39),0,'February 2015'!F39)) -> 950
A27: =IF(ISBLANK('February 2015'!A40),"",IF(ISTEXT('February 2015'!A40),0,'February 2015'!A40)) | B27: =IF(ISBLANK('February 2015'!F40),"",IF(ISTEXT('February 2015'!F40),0,'February 2015'!F40)) -> 625
A28: =IF(ISBLANK('February 2015'!A41),"",IF(ISTEXT('February 2015'!A41),0,'February 2015'!A41)) -> 414289 | B28: =IF(ISBLANK('February 2015'!F41),"",IF(ISTEXT('February 2015'!F41),0,'February 2015'!F41)) -> 975
A29: =IF(ISBLANK('February 2015'!A45),"",IF(ISTEXT('February 2015'!A45),0,'February 2015'!A45)) -> 413951 | B29: =IF(ISBLANK('February 2015'!F45),"",IF(ISTEXT('February 2015'!F45),0,'February 2015'!F45)) -> 509.71
A30: =IF(ISBLANK('February 2015'!A46),"",IF(ISTEXT('February 2015'!A46),0,'February 2015'!A46)) | B30: =IF(ISBLANK('February 2015'!F46),"",IF(ISTEXT('February 2015'!F46),0,'February 2015'!F46)) -> 7990.29
A31: =IF(ISBLANK('February 2015'!A47),"",IF(ISTEXT('February 2015'!A47),0,'February 2015'!A47)) -> 414290 | B31: =IF(ISBLANK('February 2015'!F47),"",IF(ISTEXT('February 2015'!F47),0,'February 2015'!F47)) -> 1949.16
A32: =IF(ISBLANK('February 2015'!A48),"",IF(ISTEXT('February 2015'!A48),0,'February 2015'!A48)) | B32: =IF(ISBLANK('February 2015'!F48),"",IF(ISTEXT('February 2015'!F48),0,'February 2015'!F48))
A33: =IF(ISBLANK('February 2015'!A52),"",IF(ISTEXT('February 2015'!A52),0,'February 2015'!A52)) -> 413952 | B33: =IF(ISBLANK('February 2015'!F52),"",IF(ISTEXT('February 2015'!F52),0,'February 2015'!F52)) -> 838.8
A34: =IF(ISBLANK('February 2015'!A53),"",IF(ISTEXT('February 2015'!A53),0,'February 2015'!A53)) | B34: =IF(ISBLANK('February 2015'!F53),"",IF(ISTEXT('February 2015'!F53),0,'February 2015'!F53))
A35: =IF(ISBLANK('February 2015'!A54),"",IF(ISTEXT('February 2015'!A54),0,'February 2015'!A54)) | B35: =IF(ISBLANK('February 2015'!F54),"",IF(ISTEXT('February 2015'!F54),0,'February 2015'!F54))
A36: =IF(ISBLANK('February 2015'!A55),"",IF(ISTEXT('February 2015'!A55),0,'February 2015'!A55)) | B36: =IF(ISBLANK('February 2015'!F55),"",IF(ISTEXT('February 2015'!F55),0,'February 2015'!F55))
A37: =IF(ISBLANK('February 2015'!A56),"",IF(ISTEXT('February 2015'!A56),0,'February 2015'!A56)) | B37: =IF(ISBLANK('February 2015'!F56),"",IF(ISTEXT('February 2015'!F56),0,'February 2015'!F56))
A38: =IF(ISBLANK('February 2015'!A57),"",IF(ISTEXT('February 2015'!A57),0,'February 2015'!A57)) | B38: =IF(ISBLANK('February 2015'!F57),"",IF(ISTEXT('February 2015'!F57),0,'February 2015'!F57))
A39: =IF(ISBLANK('February 2015'!A58),"",IF(ISTEXT('February 2015'!A58),0,'February 2015'!A58)) | B39: =IF(ISBLANK('February 2015'!F58),"",IF(ISTEXT('February 2015'!F58),0,'February 2015'!F58)) -> 900
A40: =IF(ISBLANK('February 2015'!A62),"",IF(ISTEXT('February 2015'!A62),0,'February 2015'!A62)) -> 413607 | B40: =IF(ISBLANK('February 2015'!F62),"",IF(ISTEXT('February 2015'!F62),0,'February 2015'!F62)) -> 129.35
A41: =IF(ISBLANK('February 2015'!A66),"",IF(ISTEXT('February 2015'!A66),0,'February 2015'!A66)) -> 413953 | B41: =IF(ISBLANK('February 2015'!F66),"",IF(ISTEXT('February 2015'!F66),0,'February 2015'!F66)) -> 41
A42: =IF(ISBLANK('February 2015'!A67),"",IF(ISTEXT('February 2015'!A67),0,'February 2015'!A67)) -> 414291 | B42: =IF(ISBLANK('February 2015'!F67),"",IF(ISTEXT('February 2015'!F67),0,'February 2015'!F67)) -> 96
A43: =IF(ISBLANK('February 2015'!A68),"",IF(ISTEXT('February 2015'!A68),0,'February 2015'!A68)) | B43: =IF(ISBLANK('February 2015'!F68),"",IF(ISTEXT('February 2015'!F68),0,'February 2015'!F68))
...
