Workbook

Sheet February 2016
A1: Check Number | C1: Check Date | D1: Vendor Name | F1: Transaction Amount | R1: Description | S1: Account Name | T1: Department | U1: Division | V1: Object of Expenditure | W1: Project Number
A2: 431905 | C2: 42402 | D2: BOB TOMES FORD | F2: 709.64 | R2: BLANKET PURCHASE ORDER | S2: AUTO MAINTENANCE | T2: EQUIPMENT SERVICES | U2: EQUIP SERV-SHARED | V2: BLANKET PURCHASE ORDER
A3: 432333 | C3: 42409 | F3: 388.45 | R3: BLANKET PURCHASE ORDER | S3: AUTO MAINTENANCE | T3: EQUIPMENT SERVICES | U3: EQUIP SERV-SHARED | V3: BLANKET PURCHASE ORDER
A4: 432727 | C4: 42416 | F4: 547.6 | R4: BLANKET PURCHASE ORDER | S4: AUTO MAINTENANCE | T4: EQUIPMENT SERVICES | U4: EQUIP SERV-SHARED | V4: BLANKET PURCHASE ORDER
F5: -95.4 | R5: INV# 5466410 | S5: AUTO MAINTENANCE | T5: EQUIPMENT SERVICES | U5: EQUIP SERV-SHARED | V5: INV# 5466410
F6: 95.4 | R6: INV# 5466464 | S6: AUTO MAINTENANCE | T6: EQUIPMENT SERVICES | U6: EQUIP SERV-SHARED | V6: INV# 5466464
K8: =SUM(F2:Q6) -> 1645.69
A10: 431906 | C10: 42402 | D10: BOB BARKER COMPANY, INC | F10: 309.6 | R10: LAUNDRY TEXTILES/SUPPLIES | S10: DETENTION SUPPLIES | T10: SHERIFF'S OFFICE | U10: JAIL OPS-ADMIN | V10: LAUNDRY TEXTILES/SUPPLIES
M12: =SUM(hList_Frame_1!B20:B20) -> 309.6
A14: 431907 | C14: 42402 | D14: ECOLAB INC | F14: 412.8 | R14: GERMICIDES-HOSP./SANITARY | S14: ANIMAL CARE | T14: ANIMAL SHELTER | U14: ANIMAL SHELTER-ADMIN | V14: GERMICIDES-HOSP./SANITARY
A15: 432728 | C15: 42416 | F15: 2914.5 | R15: JANITORIAL SUPPLIES-GEN. | S15: DETENTION SUPPLIES | T15: SHERIFF'S OFFICE | U15: JAIL OPS-ADMIN | V15: JANITORIAL SUPPLIES-GEN.
F16: 472 | R16: LAUNDRY/DRY CLEAN SUPPLY | S16: DETENTION SUPPLIES | T16: SHERIFF'S OFFICE | U16: JAIL OPS-ADMIN | V16: LAUNDRY/DRY CLEAN SUPPLY
K18: =SUM(hList_Frame_1!B21:B23) -> 3799.3
A20: 432334 | C20: 42409 | D20: MCKINNEY TIRE & APPLIANCE | F20: 3887 | R20: APPLIANCES/EQUIP. & PARTS | S20: ONE-TIME BUDGET NON-CAP | T20: UNALLOCATED | U20: CAPITAL REPLACEMENT | V20: APPLIANCES/EQUIP. & PARTS
U21: NON-DEPARTMENTAL
A22: 432729 | C22: 42416 | F22: 158.5 | R22: CAFETERIA/KITCHEN EQUIP. | S22: ONE-TIME BUDGET NON-CAP | T22: UNALLOCATED | U22: CAPITAL REPLACEMENT | V22: CAFETERIA/KITCHEN EQUIP.
K24: =SUM(F20:Q22) -> 4045.5
A26: 431908 | C26: 42402 | D26: MCKINNEY OFFICE SUPPLY | F26: 391.92 | R26: OFFICE SUPPLIES (GENERAL) | S26: OFFICE SUPPLIES | T26: INFORMATION TECHNOLOGY | U26: GIS-ADMIN | V26: OFFICE SUPPLIES (GENERAL)
M28: =SUM(hList_Frame_1!B30:B30) -> 391.92
A30: 432730 | C30: 42416 | D30: MATTHEW BENDER & CO INC | F30: 90.98 | R30: PUBLICATIONS/AUDIOVISUALS | S30: PATROL SUPPLIES | T30: SHERIFF'S OFFICE | U30: SO-ADMIN | V30: PUBLICATIONS/AUDIOVISUALS
O32: =SUM(hList_Frame_1!B31:B31) -> 90.98
A34: 431909 | C34: 42402 | D34: GIBBS, GREGG M PC | F34: 1250 | R34: 416-30011-15 | S34: COURT APPOINTED ATTORNEY | T34: COURT APPT REPRESENTATION | U34: COURT APPT REPRESENTATION | V34: 416-30011-15 | W34: ID416A
S35: MEDIATOR COSTS | T35: DISTRICT COURTS | U35: DIST CT-SHARED | W35: 416MC
K37: =SUM(hList_Frame_1!B32:B33) -> 1250
A39: 432731 | C39: 42416 | D39: HEIDENHEIMER, MARK | F39: 450 | R39: 001-84697-15 | S39: COURT APPOINTED ATTORNEY | T39: COURT APPT REPRESENTATION | U39: COURT APPT REPRESENTATION | V39: 001-84697-15 | W39: IDCL1M
F40: 550 | R40: 003-80658-16 | S40: COURT APPOINTED ATTORNEY | T40: COURT APPT REPRESENTATION | U40: COURT APPT REPRESENTATION | V40: 003-80658-16 | W40: IDCL3M
K42: =SUM(hList_Frame_1!B34:B35) -> 1000
A44: 432732 | C44: 42416 | D44: PENGAD INC | F44: 30.3 | R44: OFFICE SUPPLIES (GENERAL) | S44: OFFICE SUPPLIES | T44: DISTRICT COURTS | U44: 429TH DC-ADMIN | V44: OFFICE SUPPLIES (GENERAL)
O46: =SUM(hList_Frame_1!B36:B36) -> 30.3
A48: 432335 | C48: 42409 | D48: THOMASON TIRE INC | F48: 280 | R48: BLANKET PURCHASE ORDER | S48: HEAVY EQUIPMENT REPAIR | T48: EQUIPMENT SERVICES | U48: EQUIP SERV-SHARED | V48: BLANKET PURCHASE ORDER
M51: =SUM(hList_Frame_1!B37:B38) -> 280
A53: 431910 | C53: 42402 | D53: WEST PUBLISHING CORPORATION | F53: 153 | R53: MISC PROFESSIONAL SERVICE | S53: LIBRARY BOOKS | T53: BUDGET | U53: LAW LIBRARY-ADMIN | V53: MISC PROFESSIONAL SERVICE
A54: 432336 | C54: 42409 | F54: 957 | R54: PUBLICATIONS/AUDIOVISUALS | S54: DUES & SUBSCRIPTIONS | T54: UNALLOCATED | U54: NON-DEPARTMENTAL | V54: PUBLICATIONS/AUDIOVISUALS
S55: LIBRARY BOOKS | T55: COUNTY COURTS | U55: CCL1-ADMIN
A56: 432733 | C56: 42416 | F56: 3091.04 | R56: BLANKET PURCHASE ORDER | S56: LIBRARY BOOKS | T56: DISTRICT ATTORNEY | U56: DA-ADMIN | V56: BLANKET PURCHASE ORDER
F57: 126 | R57: PUBLICATIONS/AUDIOVISUALS | S57: DUES & SUBSCRIPTIONS | T57: UNALLOCATED | U57: NON-DEPARTMENTAL | V57: PUBLICATIONS/AUDIOVISUALS
S58: LIBRARY BOOKS | T58: COUNTY COURTS | U58: CCL4-ADMIN
A59: 432734 | C59: 42416 | F59: 4988.24 | R59: BLANKET PURCHASE ORDER | S59: COMMUNICATION LINE LEASE | T59: BUDGET | U59: LAW LIBRARY-ADMIN | V59: BLANKET PURCHASE ORDER
K61: =SUM(F53:Q59) -> 9315.28
A63: 431911 | C63: 42402 | D63: PLANO POWER EQUIPMENT | F63: 8.8 | R63: BLANKET PURCHASE ORDER | S63: GROUNDS EQUIPMENT MAINT | T63: EQUIPMENT SERVICES | U63: EQUIP SERV-SHARED | V63: BLANKET PURCHASE ORDER
...

Sheet hList_Frame_1
A1: =IF(ISBLANK('February 2016'!A2),"",IF(ISTEXT('February 2016'!A2),0,'February 2016'!A2)) -> 431905 | B1: =IF(ISBLANK('February 2016'!F2),"",IF(ISTEXT('February 2016'!F2),0,'February 2016'!F2)) -> 709.64
A2: =IF(ISBLANK('February 2016'!#REF!),"",IF(ISTEXT('February 2016'!#REF!),0,'February 2016'!#REF!)) -> #REF! | B2: =IF(ISBLANK('February 2016'!#REF!),"",IF(ISTEXT('February 2016'!#REF!),0,'February 2016'!#REF!)) -> #REF!
A3: =IF(ISBLANK('February 2016'!#REF!),"",IF(ISTEXT('February 2016'!#REF!),0,'February 2016'!#REF!)) -> #REF! | B3: =IF(ISBLANK('February 2016'!#REF!),"",IF(ISTEXT('February 2016'!#REF!),0,'February 2016'!#REF!)) -> #REF!
A4: =IF(ISBLANK('February 2016'!#REF!),"",IF(ISTEXT('February 2016'!#REF!),0,'February 2016'!#REF!)) -> #REF! | B4: =IF(ISBLANK('February 2016'!#REF!),"",IF(ISTEXT('February 2016'!#REF!),0,'February 2016'!#REF!)) -> #REF!
A5: =IF(ISBLANK('February 2016'!#REF!),"",IF(ISTEXT('February 2016'!#REF!),0,'February 2016'!#REF!)) -> #REF! | B5: =IF(ISBLANK('February 2016'!#REF!),"",IF(ISTEXT('February 2016'!#REF!),0,'February 2016'!#REF!)) -> #REF!
A6: =IF(ISBLANK('February 2016'!#REF!),"",IF(ISTEXT('February 2016'!#REF!),0,'February 2016'!#REF!)) -> #REF! | B6: =IF(ISBLANK('February 2016'!#REF!),"",IF(ISTEXT('February 2016'!#REF!),0,'February 2016'!#REF!)) -> #REF!
A7: =IF(ISBLANK('February 2016'!A3),"",IF(ISTEXT('February 2016'!A3),0,'February 2016'!A3)) -> 432333 | B7: =IF(ISBLANK('February 2016'!F3),"",IF(ISTEXT('February 2016'!F3),0,'February 2016'!F3)) -> 388.45
A8: =IF(ISBLANK('February 2016'!#REF!),"",IF(ISTEXT('February 2016'!#REF!),0,'February 2016'!#REF!)) -> #REF! | B8: =IF(ISBLANK('February 2016'!#REF!),"",IF(ISTEXT('February 2016'!#REF!),0,'February 2016'!#REF!)) -> #REF!
A9: =IF(ISBLANK('February 2016'!#REF!),"",IF(ISTEXT('February 2016'!#REF!),0,'February 2016'!#REF!)) -> #REF! | B9: =IF(ISBLANK('February 2016'!#REF!),"",IF(ISTEXT('February 2016'!#REF!),0,'February 2016'!#REF!)) -> #REF!
A10: =IF(ISBLANK('February 2016'!#REF!),"",IF(ISTEXT('February 2016'!#REF!),0,'February 2016'!#REF!)) -> #REF! | B10: =IF(ISBLANK('February 2016'!#REF!),"",IF(ISTEXT('February 2016'!#REF!),0,'February 2016'!#REF!)) -> #REF!
A11: =IF(ISBLANK('February 2016'!A4),"",IF(ISTEXT('February 2016'!A4),0,'February 2016'!A4)) -> 432727 | B11: =IF(ISBLANK('February 2016'!F4),"",IF(ISTEXT('February 2016'!F4),0,'February 2016'!F4)) -> 547.6
A12: =IF(ISBLANK('February 2016'!#REF!),"",IF(ISTEXT('February 2016'!#REF!),0,'February 2016'!#REF!)) -> #REF! | B12: =IF(ISBLANK('February 2016'!#REF!),"",IF(ISTEXT('February 2016'!#REF!),0,'February 2016'!#REF!)) -> #REF!
A13: =IF(ISBLANK('February 2016'!#REF!),"",IF(ISTEXT('February 2016'!#REF!),0,'February 2016'!#REF!)) -> #REF! | B13: =IF(ISBLANK('February 2016'!#REF!),"",IF(ISTEXT('February 2016'!#REF!),0,'February 2016'!#REF!)) -> #REF!
A14: =IF(ISBLANK('February 2016'!#REF!),"",IF(ISTEXT('February 2016'!#REF!),0,'February 2016'!#REF!)) -> #REF! | B14: =IF(ISBLANK('February 2016'!#REF!),"",IF(ISTEXT('February 2016'!#REF!),0,'February 2016'!#REF!)) -> #REF!
A15: =IF(ISBLANK('February 2016'!#REF!),"",IF(ISTEXT('February 2016'!#REF!),0,'February 2016'!#REF!)) -> #REF! | B15: =IF(ISBLANK('February 2016'!#REF!),"",IF(ISTEXT('February 2016'!#REF!),0,'February 2016'!#REF!)) -> #REF!
A16: =IF(ISBLANK('February 2016'!#REF!),"",IF(ISTEXT('February 2016'!#REF!),0,'February 2016'!#REF!)) -> #REF! | B16: =IF(ISBLANK('February 2016'!#REF!),"",IF(ISTEXT('February 2016'!#REF!),0,'February 2016'!#REF!)) -> #REF!
A17: =IF(ISBLANK('February 2016'!#REF!),"",IF(ISTEXT('February 2016'!#REF!),0,'February 2016'!#REF!)) -> #REF! | B17: =IF(ISBLANK('February 2016'!#REF!),"",IF(ISTEXT('February 2016'!#REF!),0,'February 2016'!#REF!)) -> #REF!
A18: =IF(ISBLANK('February 2016'!A5),"",IF(ISTEXT('February 2016'!A5),0,'February 2016'!A5)) | B18: =IF(ISBLANK('February 2016'!F5),"",IF(ISTEXT('February 2016'!F5),0,'February 2016'!F5)) -> -95.4
A19: =IF(ISBLANK('February 2016'!A6),"",IF(ISTEXT('February 2016'!A6),0,'February 2016'!A6)) | B19: =IF(ISBLANK('February 2016'!F6),"",IF(ISTEXT('February 2016'!F6),0,'February 2016'!F6)) -> 95.4
A20: =IF(ISBLANK('February 2016'!A10),"",IF(ISTEXT('February 2016'!A10),0,'February 2016'!A10)) -> 431906 | B20: =IF(ISBLANK('February 2016'!F10),"",IF(ISTEXT('February 2016'!F10),0,'February 2016'!F10)) -> 309.6
A21: =IF(ISBLANK('February 2016'!A14),"",IF(ISTEXT('February 2016'!A14),0,'February 2016'!A14)) -> 431907 | B21: =IF(ISBLANK('February 2016'!F14),"",IF(ISTEXT('February 2016'!F14),0,'February 2016'!F14)) -> 412.8
A22: =IF(ISBLANK('February 2016'!A15),"",IF(ISTEXT('February 2016'!A15),0,'February 2016'!A15)) -> 432728 | B22: =IF(ISBLANK('February 2016'!F15),"",IF(ISTEXT('February 2016'!F15),0,'February 2016'!F15)) -> 2914.5
A23: =IF(ISBLANK('February 2016'!A16),"",IF(ISTEXT('February 2016'!A16),0,'February 2016'!A16)) | B23: =IF(ISBLANK('February 2016'!F16),"",IF(ISTEXT('February 2016'!F16),0,'February 2016'!F16)) -> 472
A24: =IF(ISBLANK('February 2016'!A20),"",IF(ISTEXT('February 2016'!A20),0,'February 2016'!A20)) -> 432334 | B24: =IF(ISBLANK('February 2016'!F20),"",IF(ISTEXT('February 2016'!F20),0,'February 2016'!F20)) -> 3887
A25: =IF(ISBLANK('February 2016'!A21),"",IF(ISTEXT('February 2016'!A21),0,'February 2016'!A21)) | B25: =IF(ISBLANK('February 2016'!F21),"",IF(ISTEXT('February 2016'!F21),0,'February 2016'!F21))
A26: =IF(ISBLANK('February 2016'!#REF!),"",IF(ISTEXT('February 2016'!#REF!),0,'February 2016'!#REF!)) -> #REF! | B26: =IF(ISBLANK('February 2016'!#REF!),"",IF(ISTEXT('February 2016'!#REF!),0,'February 2016'!#REF!)) -> #REF!
A27: =IF(ISBLANK('February 2016'!#REF!),"",IF(ISTEXT('February 2016'!#REF!),0,'February 2016'!#REF!)) -> #REF! | B27: =IF(ISBLANK('February 2016'!#REF!),"",IF(ISTEXT('February 2016'!#REF!),0,'February 2016'!#REF!)) -> #REF!
A28: =IF(ISBLANK('February 2016'!#REF!),"",IF(ISTEXT('February 2016'!#REF!),0,'February 2016'!#REF!)) -> #REF! | B28: =IF(ISBLANK('February 2016'!#REF!),"",IF(ISTEXT('February 2016'!#REF!),0,'February 2016'!#REF!)) -> #REF!
A29: =IF(ISBLANK('February 2016'!A22),"",IF(ISTEXT('February 2016'!A22),0,'February 2016'!A22)) -> 432729 | B29: =IF(ISBLANK('February 2016'!F22),"",IF(ISTEXT('February 2016'!F22),0,'February 2016'!F22)) -> 158.5
A30: =IF(ISBLANK('February 2016'!A26),"",IF(ISTEXT('February 2016'!A26),0,'February 2016'!A26)) -> 431908 | B30: =IF(ISBLANK('February 2016'!F26),"",IF(ISTEXT('February 2016'!F26),0,'February 2016'!F26)) -> 391.92
A31: =IF(ISBLANK('February 2016'!A30),"",IF(ISTEXT('February 2016'!A30),0,'February 2016'!A30)) -> 432730 | B31: =IF(ISBLANK('February 2016'!F30),"",IF(ISTEXT('February 2016'!F30),0,'February 2016'!F30)) -> 90.98
A32: =IF(ISBLANK('February 2016'!A34),"",IF(ISTEXT('February 2016'!A34),0,'February 2016'!A34)) -> 431909 | B32: =IF(ISBLANK('February 2016'!F34),"",IF(ISTEXT('February 2016'!F34),0,'February 2016'!F34)) -> 1250
A33: =IF(ISBLANK('February 2016'!A35),"",IF(ISTEXT('February 2016'!A35),0,'February 2016'!A35)) | B33: =IF(ISBLANK('February 2016'!F35),"",IF(ISTEXT('February 2016'!F35),0,'February 2016'!F35))
A34: =IF(ISBLANK('February 2016'!A39),"",IF(ISTEXT('February 2016'!A39),0,'February 2016'!A39)) -> 432731 | B34: =IF(ISBLANK('February 2016'!F39),"",IF(ISTEXT('February 2016'!F39),0,'February 2016'!F39)) -> 450
A35: =IF(ISBLANK('February 2016'!A40),"",IF(ISTEXT('February 2016'!A40),0,'February 2016'!A40)) | B35: =IF(ISBLANK('February 2016'!F40),"",IF(ISTEXT('February 2016'!F40),0,'February 2016'!F40)) -> 550
A36: =IF(ISBLANK('February 2016'!A44),"",IF(ISTEXT('February 2016'!A44),0,'February 2016'!A44)) -> 432732 | B36: =IF(ISBLANK('February 2016'!F44),"",IF(ISTEXT('February 2016'!F44),0,'February 2016'!F44)) -> 30.3
A37: =IF(ISBLANK('February 2016'!A48),"",IF(ISTEXT('February 2016'!A48),0,'February 2016'!A48)) -> 432335 | B37: =IF(ISBLANK('February 2016'!F48),"",IF(ISTEXT('February 2016'!F48),0,'February 2016'!F48)) -> 280
A38: =IF(ISBLANK('February 2016'!A49),"",IF(ISTEXT('February 2016'!A49),0,'February 2016'!A49)) | B38: =IF(ISBLANK('February 2016'!F49),"",IF(ISTEXT('February 2016'!F49),0,'February 2016'!F49))
A39: =IF(ISBLANK('February 2016'!A53),"",IF(ISTEXT('February 2016'!A53),0,'February 2016'!A53)) -> 431910 | B39: =IF(ISBLANK('February 2016'!F53),"",IF(ISTEXT('February 2016'!F53),0,'February 2016'!F53)) -> 153
A40: =IF(ISBLANK('February 2016'!A54),"",IF(ISTEXT('February 2016'!A54),0,'February 2016'!A54)) -> 432336 | B40: =IF(ISBLANK('February 2016'!F54),"",IF(ISTEXT('February 2016'!F54),0,'February 2016'!F54)) -> 957
...
