Workbook

Sheet March 2015
A1: Check Number | C1: Check Date | D1: Vendor Name | F1: Transaction Amount | T1: Description | U1: Account Name | V1: Department | W1: Division | X1: Object of Expenditure | Y1: Project Number
A2: 414735 | C2: 42066 | D2: BOB TOMES FORD | F2: 323.58 | T2: BLANKET PURCHASE ORDER | U2: AUTO MAINTENANCE | V2: EQUIPMENT SERVICES | W2: EQUIP SERV-SHARED | X2: BLANKET PURCHASE ORDER
A6: 415155 | C6: 42073 | F6: 2490.62 | T6: BLANKET PURCHASE ORDER | U6: AUTO MAINTENANCE | V6: EQUIPMENT SERVICES | W6: EQUIP SERV-SHARED | X6: BLANKET PURCHASE ORDER
A11: 415556 | C11: 42080 | F11: 1825.63 | T11: BLANKET PURCHASE ORDER | U11: AUTO MAINTENANCE | V11: EQUIPMENT SERVICES | W11: EQUIP SERV-SHARED | X11: BLANKET PURCHASE ORDER
F17: -225 | T17: INV# 5415909 | U17: AUTO MAINTENANCE | V17: EQUIPMENT SERVICES | W17: EQUIP SERV-SHARED | X17: INV# 5415909
F18: -225 | T18: INV# 5415989 | U18: AUTO MAINTENANCE | V18: EQUIPMENT SERVICES | W18: EQUIP SERV-SHARED | X18: INV# 5415989
F19: -50 | T19: INV# 5416340 | U19: AUTO MAINTENANCE | V19: EQUIPMENT SERVICES | W19: EQUIP SERV-SHARED | X19: INV# 5416340
F20: -100 | T20: INV# 5417557 | U20: AUTO MAINTENANCE | V20: EQUIPMENT SERVICES | W20: EQUIP SERV-SHARED | X20: INV# 5417557
A21: 415953 | C21: 42094 | F21: 545.09 | T21: BLANKET PURCHASE ORDER | U21: AUTO MAINTENANCE | V21: EQUIPMENT SERVICES | W21: EQUIP SERV-SHARED | X21: BLANKET PURCHASE ORDER
L32: =SUM(hList_Frame_1!B1:B29) -> 4584.92
A34: 415156 | C34: 42073 | D34: BOB BARKER CO | F34: 1233.6 | T34: CLOTHING AND APPAREL | U34: DETENTION SUPPLIES | V34: SHERIFF'S OFFICE | W34: JAIL OPS-ADMIN | X34: CLOTHING AND APPAREL
F36: 1561.24 | T36: OFFICE SUPPLIES (GENERAL) | U36: DETENTION SUPPLIES | V36: SHERIFF'S OFFICE | W36: JAIL OPS-ADMIN | X36: OFFICE SUPPLIES (GENERAL)
A37: 415557 | C37: 42080 | F37: 9218.4 | T37: CLOTHING AND APPAREL | U37: DETENTION SUPPLIES | V37: SHERIFF'S OFFICE | W37: JAIL OPS-ADMIN | X37: CLOTHING AND APPAREL
A38: 415954 | C38: 42094 | F38: 1089.84 | T38: CLOTHING AND APPAREL | U38: DETENTION SUPPLIES | V38: JUVENILE PROBATION | W38: JUV DET -ADMIN | X38: CLOTHING AND APPAREL
V40: SHERIFF'S OFFICE | W40: JAIL OPS-ADMIN
F41: 78.9 | T41: PERSONAL HYGIENE&GROOMING | U41: DETENTION SUPPLIES | V41: JUVENILE PROBATION | W41: JUV DET -ADMIN | X41: PERSONAL HYGIENE&GROOMING
F42: 246 | T42: TEXTILES/FIBERS/LINENS | U42: DETENTION SUPPLIES | V42: JUVENILE PROBATION | W42: JUV DET -ADMIN | X42: TEXTILES/FIBERS/LINENS
J44: =SUM(hList_Frame_1!B30:B38) -> 13427.98
A46: 415955 | C46: 42094 | D46: ECOLAB INC | F46: 1692 | T46: GERMICIDES-HOSP./SANITARY | U46: ANIMAL CARE | V46: ANIMAL SHELTER | W46: ANIMAL SHELTER-ADMIN | X46: GERMICIDES-HOSP./SANITARY
L48: =SUM(hList_Frame_1!B39:B39) -> 1692
A50: 415956 | C50: 42094 | D50: FARMERSVILLE AUTO SUPPLY | F50: 19.54 | T50: BLANKET PURCHASE ORDER | U50: AUTO MAINTENANCE | V50: EQUIPMENT SERVICES | W50: EQUIP SERV-SHARED | X50: BLANKET PURCHASE ORDER
Q52: =SUM(hList_Frame_1!B40:B40) -> 19.54
A54: 415957 | C54: 42094 | D54: GIBBS, GREGG M PC | F54: 2034.38 | T54: 380-51444-08 | U54: COURT APPOINTED ATTORNEY | V54: INDIGENT DEFENSE | W54: INDIGENT DEFENSE | X54: 380-51444-08 | Y54: ID380A
F55: 8908.31 | T55: 417-30128-13 | U55: COURT APPOINTED ATTORNEY | V55: INDIGENT DEFENSE | W55: INDIGENT DEFENSE | X55: 417-30128-13 | Y55: ID417A
U56: MISCELLANEOUS | V56: INDIGENT DEFENSE | W56: INDIGENT DEFENSE | Y56: ID417A
J58: =SUM(hList_Frame_1!B41:B43) -> 10942.69
A60: 415558 | C60: 42080 | D60: HEIDENHEIMER, MARK | F60: 2600 | T60: 004-87740-14 | U60: COURT APPOINTED ATTORNEY | V60: INDIGENT DEFENSE | W60: INDIGENT DEFENSE | X60: 004-87740-14 | Y60: IDCL4M
A61: 415958 | C61: 42094 | F61: 450 | T61: 001-87771-14 | U61: COURT APPOINTED ATTORNEY | V61: INDIGENT DEFENSE | W61: INDIGENT DEFENSE | X61: 001-87771-14 | Y61: IDCL1M
F62: 450 | T62: 005-87571-14 | U62: COURT APPOINTED ATTORNEY | V62: INDIGENT DEFENSE | W62: INDIGENT DEFENSE | X62: 005-87571-14 | Y62: IDCL5N
L64: =SUM(hList_Frame_1!B44:B46) -> 3500
A66: 414736 | C66: 42066 | D66: POLLOCK PAPER DISTRIBUTORS | F66: 393.6 | T66: JANITORIAL SUPPLIES-GEN. | U66: JANITORIAL SUPPLIES | V66: SHERIFF'S OFFICE | W66: JAIL OPS-ADMIN | X66: JANITORIAL SUPPLIES-GEN.
F67: 6396 | T67: PAPER/PLASTIC, DISPOSABLE | U67: JANITORIAL SUPPLIES | V67: SHERIFF'S OFFICE | W67: JAIL OPS-ADMIN | X67: PAPER/PLASTIC, DISPOSABLE
A68: 415959 | C68: 42094 | F68: 319.8 | T68: SUPPLIES | U68: JANITORIAL SUPPLIES | V68: JUVENILE PROBATION | W68: JUV DET -ADMIN | X68: SUPPLIES
L70: =SUM(hList_Frame_1!B47:B49) -> 7109.4
A72: 415960 | C72: 42094 | D72: ST MARY'S LAW JOURNAL | F72: 40 | T72: MISC PROFESSIONAL SERVICE | U72: LIBRARY UPDATES | V72: BUDGET | W72: LAW LIBRARY-ADMIN | X72: MISC PROFESSIONAL SERVICE
Q74: =SUM(hList_Frame_1!B50:B50) -> 40
A76: 415157 | C76: 42073 | D76: THOMASON TIRE INC | F76: 634.95 | T76: BLANKET PURCHASE ORDER | U76: AUTO MAINTENANCE | V76: EQUIPMENT SERVICES | W76: EQUIP SERV-SHARED | X76: BLANKET PURCHASE ORDER
F82: 450 | T82: TIRES AND TUBES | U82: PARTS | X82: TIRES AND TUBES
A83: 415961 | C83: 42094 | F83: 315 | T83: BLANKET PURCHASE ORDER | U83: HEAVY EQUIPMENT REPAIR | V83: EQUIPMENT SERVICES | W83: EQUIP SERV-SHARED | X83: BLANKET PURCHASE ORDER
L87: =SUM(hList_Frame_1!B51:B60) -> 1399.95
...

Sheet hList_Frame_1
A1: =IF(ISBLANK('March 2015'!A2),"",IF(ISTEXT('March 2015'!A2),0,'March 2015'!A2)) -> 414735 | B1: =IF(ISBLANK('March 2015'!F2),"",IF(ISTEXT('March 2015'!F2),0,'March 2015'!F2)) -> 323.58
A2: =IF(ISBLANK('March 2015'!A3),"",IF(ISTEXT('March 2015'!A3),0,'March 2015'!A3)) | B2: =IF(ISBLANK('March 2015'!F3),"",IF(ISTEXT('March 2015'!F3),0,'March 2015'!F3))
A3: =IF(ISBLANK('March 2015'!A4),"",IF(ISTEXT('March 2015'!A4),0,'March 2015'!A4)) | B3: =IF(ISBLANK('March 2015'!F4),"",IF(ISTEXT('March 2015'!F4),0,'March 2015'!F4))
A4: =IF(ISBLANK('March 2015'!A5),"",IF(ISTEXT('March 2015'!A5),0,'March 2015'!A5)) | B4: =IF(ISBLANK('March 2015'!F5),"",IF(ISTEXT('March 2015'!F5),0,'March 2015'!F5))
A5: =IF(ISBLANK('March 2015'!A6),"",IF(ISTEXT('March 2015'!A6),0,'March 2015'!A6)) -> 415155 | B5: =IF(ISBLANK('March 2015'!F6),"",IF(ISTEXT('March 2015'!F6),0,'March 2015'!F6)) -> 2490.62
A6: =IF(ISBLANK('March 2015'!A7),"",IF(ISTEXT('March 2015'!A7),0,'March 2015'!A7)) | B6: =IF(ISBLANK('March 2015'!F7),"",IF(ISTEXT('March 2015'!F7),0,'March 2015'!F7))
A7: =IF(ISBLANK('March 2015'!A8),"",IF(ISTEXT('March 2015'!A8),0,'March 2015'!A8)) | B7: =IF(ISBLANK('March 2015'!F8),"",IF(ISTEXT('March 2015'!F8),0,'March 2015'!F8))
A8: =IF(ISBLANK('March 2015'!A9),"",IF(ISTEXT('March 2015'!A9),0,'March 2015'!A9)) | B8: =IF(ISBLANK('March 2015'!F9),"",IF(ISTEXT('March 2015'!F9),0,'March 2015'!F9))
A9: =IF(ISBLANK('March 2015'!A10),"",IF(ISTEXT('March 2015'!A10),0,'March 2015'!A10)) | B9: =IF(ISBLANK('March 2015'!F10),"",IF(ISTEXT('March 2015'!F10),0,'March 2015'!F10))
A10: =IF(ISBLANK('March 2015'!A11),"",IF(ISTEXT('March 2015'!A11),0,'March 2015'!A11)) -> 415556 | B10: =IF(ISBLANK('March 2015'!F11),"",IF(ISTEXT('March 2015'!F11),0,'March 2015'!F11)) -> 1825.63
A11: =IF(ISBLANK('March 2015'!A12),"",IF(ISTEXT('March 2015'!A12),0,'March 2015'!A12)) | B11: =IF(ISBLANK('March 2015'!F12),"",IF(ISTEXT('March 2015'!F12),0,'March 2015'!F12))
A12: =IF(ISBLANK('March 2015'!A13),"",IF(ISTEXT('March 2015'!A13),0,'March 2015'!A13)) | B12: =IF(ISBLANK('March 2015'!F13),"",IF(ISTEXT('March 2015'!F13),0,'March 2015'!F13))
... A29: =IF(ISBLANK('March 2015'!A30),"",IF(ISTEXT('March 2015'!A30),0,'March 2015'!A30)) | B29: =IF(ISBLANK('March 2015'!F30),"",IF(ISTEXT('March 2015'!F30),0,'March 2015'!F30))
A30: =IF(ISBLANK('March 2015'!A34),"",IF(ISTEXT('March 2015'!A34),0,'March 2015'!A34)) -> 415156 | B30: =IF(ISBLANK('March 2015'!F34),"",IF(ISTEXT('March 2015'!F34),0,'March 2015'!F34)) -> 1233.6
A31: =IF(ISBLANK('March 2015'!A35),"",IF(ISTEXT('March 2015'!A35),0,'March 2015'!A35)) | B31: =IF(ISBLANK('March 2015'!F35),"",IF(ISTEXT('March 2015'!F35),0,'March 2015'!F35))
A32: =IF(ISBLANK('March 2015'!A36),"",IF(ISTEXT('March 2015'!A36),0,'March 2015'!A36)) | B32: =IF(ISBLANK('March 2015'!F36),"",IF(ISTEXT('March 2015'!F36),0,'March 2015'!F36)) -> 1561.24
A33: =IF(ISBLANK('March 2015'!A37),"",IF(ISTEXT('March 2015'!A37),0,'March 2015'!A37)) -> 415557 | B33: =IF(ISBLANK('March 2015'!F37),"",IF(ISTEXT('March 2015'!F37),0,'March 2015'!F37)) -> 9218.4
A34: =IF(ISBLANK('March 2015'!A38),"",IF(ISTEXT('March 2015'!A38),0,'March 2015'!A38)) -> 415954 | B34: =IF(ISBLANK('March 2015'!F38),"",IF(ISTEXT('March 2015'!F38),0,'March 2015'!F38)) -> 1089.84
A35: =IF(ISBLANK('March 2015'!A39),"",IF(ISTEXT('March 2015'!A39),0,'March 2015'!A39)) | B35: =IF(ISBLANK('March 2015'!F39),"",IF(ISTEXT('March 2015'!F39),0,'March 2015'!F39))
A36: =IF(ISBLANK('March 2015'!A40),"",IF(ISTEXT('March 2015'!A40),0,'March 2015'!A40)) | B36: =IF(ISBLANK('March 2015'!F40),"",IF(ISTEXT('March 2015'!F40),0,'March 2015'!F40))
A37: =IF(ISBLANK('March 2015'!A41),"",IF(ISTEXT('March 2015'!A41),0,'March 2015'!A41)) | B37: =IF(ISBLANK('March 2015'!F41),"",IF(ISTEXT('March 2015'!F41),0,'March 2015'!F41)) -> 78.9
A38: =IF(ISBLANK('March 2015'!A42),"",IF(ISTEXT('March 2015'!A42),0,'March 2015'!A42)) | B38: =IF(ISBLANK('March 2015'!F42),"",IF(ISTEXT('March 2015'!F42),0,'March 2015'!F42)) -> 246
A39: =IF(ISBLANK('March 2015'!A46),"",IF(ISTEXT('March 2015'!A46),0,'March 2015'!A46)) -> 415955 | B39: =IF(ISBLANK('March 2015'!F46),"",IF(ISTEXT('March 2015'!F46),0,'March 2015'!F46)) -> 1692
A40: =IF(ISBLANK('March 2015'!A50),"",IF(ISTEXT('March 2015'!A50),0,'March 2015'!A50)) -> 415956 | B40: =IF(ISBLANK('March 2015'!F50),"",IF(ISTEXT('March 2015'!F50),0,'March 2015'!F50)) -> 19.54
A41: =IF(ISBLANK('March 2015'!A54),"",IF(ISTEXT('March 2015'!A54),0,'March 2015'!A54)) -> 415957 | B41: =IF(ISBLANK('March 2015'!F54),"",IF(ISTEXT('March 2015'!F54),0,'March 2015'!F54)) -> 2034.38
A42: =IF(ISBLANK('March 2015'!A55),"",IF(ISTEXT('March 2015'!A55),0,'March 2015'!A55)) | B42: =IF(ISBLANK('March 2015'!F55),"",IF(ISTEXT('March 2015'!F55),0,'March 2015'!F55)) -> 8908.31
A43: =IF(ISBLANK('March 2015'!A56),"",IF(ISTEXT('March 2015'!A56),0,'March 2015'!A56)) | B43: =IF(ISBLANK('March 2015'!F56),"",IF(ISTEXT('March 2015'!F56),0,'March 2015'!F56))
A44: =IF(ISBLANK('March 2015'!A60),"",IF(ISTEXT('March 2015'!A60),0,'March 2015'!A60)) -> 415558 | B44: =IF(ISBLANK('March 2015'!F60),"",IF(ISTEXT('March 2015'!F60),0,'March 2015'!F60)) -> 2600
A45: =IF(ISBLANK('March 2015'!A61),"",IF(ISTEXT('March 2015'!A61),0,'March 2015'!A61)) -> 415958 | B45: =IF(ISBLANK('March 2015'!F61),"",IF(ISTEXT('March 2015'!F61),0,'March 2015'!F61)) -> 450
A46: =IF(ISBLANK('March 2015'!A62),"",IF(ISTEXT('March 2015'!A62),0,'March 2015'!A62)) | B46: =IF(ISBLANK('March 2015'!F62),"",IF(ISTEXT('March 2015'!F62),0,'March 2015'!F62)) -> 450
A47: =IF(ISBLANK('March 2015'!A66),"",IF(ISTEXT('March 2015'!A66),0,'March 2015'!A66)) -> 414736 | B47: =IF(ISBLANK('March 2015'!F66),"",IF(ISTEXT('March 2015'!F66),0,'March 2015'!F66)) -> 393.6
A48: =IF(ISBLANK('March 2015'!A67),"",IF(ISTEXT('March 2015'!A67),0,'March 2015'!A67)) | B48: =IF(ISBLANK('March 2015'!F67),"",IF(ISTEXT('March 2015'!F67),0,'March 2015'!F67)) -> 6396
A49: =IF(ISBLANK('March 2015'!A68),"",IF(ISTEXT('March 2015'!A68),0,'March 2015'!A68)) -> 415959 | B49: =IF(ISBLANK('March 2015'!F68),"",IF(ISTEXT('March 2015'!F68),0,'March 2015'!F68)) -> 319.8
A50: =IF(ISBLANK('March 2015'!A72),"",IF(ISTEXT('March 2015'!A72),0,'March 2015'!A72)) -> 415960 | B50: =IF(ISBLANK('March 2015'!F72),"",IF(ISTEXT('March 2015'!F72),0,'March 2015'!F72)) -> 40
A51: =IF(ISBLANK('March 2015'!A76),"",IF(ISTEXT('March 2015'!A76),0,'March 2015'!A76)) -> 415157 | B51: =IF(ISBLANK('March 2015'!F76),"",IF(ISTEXT('March 2015'!F76),0,'March 2015'!F76)) -> 634.95
A52: =IF(ISBLANK('March 2015'!A77),"",IF(ISTEXT('March 2015'!A77),0,'March 2015'!A77)) | B52: =IF(ISBLANK('March 2015'!F77),"",IF(ISTEXT('March 2015'!F77),0,'March 2015'!F77))
A53: =IF(ISBLANK('March 2015'!A78),"",IF(ISTEXT('March 2015'!A78),0,'March 2015'!A78)) | B53: =IF(ISBLANK('March 2015'!F78),"",IF(ISTEXT('March 2015'!F78),0,'March 2015'!F78))
A54: =IF(ISBLANK('March 2015'!A79),"",IF(ISTEXT('March 2015'!A79),0,'March 2015'!A79)) | B54: =IF(ISBLANK('March 2015'!F79),"",IF(ISTEXT('March 2015'!F79),0,'March 2015'!F79))
A55: =IF(ISBLANK('March 2015'!A80),"",IF(ISTEXT('March 2015'!A80),0,'March 2015'!A80)) | B55: =IF(ISBLANK('March 2015'!F80),"",IF(ISTEXT('March 2015'!F80),0,'March 2015'!F80))
A56: =IF(ISBLANK('March 2015'!A81),"",IF(ISTEXT('March 2015'!A81),0,'March 2015'!A81)) | B56: =IF(ISBLANK('March 2015'!F81),"",IF(ISTEXT('March 2015'!F81),0,'March 2015'!F81))
...
