Workbook

Sheet March 2017
A1: Check Number | D1: Check Date | E1: Vendor Name | G1: Transaction Amount | U1: Description | V1: Account Name | W1: Department | X1: Division | Y1: Project Number
A2: 452603 | D2: 42808 | E2: BOB TOMES FORD | G2: 998.79 | U2: BLANKET PURCHASE ORDER | V2: AUTO MAINTENANCE | W2: EQUIPMENT SERVICES | X2: EQUIP SERV-SHARED
A12: 452973 | D12: 42815 | G12: 370.49 | U12: BLANKET PURCHASE ORDER | V12: AUTO MAINTENANCE | W12: EQUIPMENT SERVICES | X12: EQUIP SERV-SHARED
G16: -75 | U16: INV# 24591 | V16: AUTO MAINTENANCE | W16: EQUIPMENT SERVICES | X16: EQUIP SERV-SHARED
M18: =SUM(hList_Frame_1!B1:B15) -> 1294.28
A20: 452112 | D20: 42801 | E20: BOB BARKER COMPANY INC | G20: 597.79 | U20: PERSONAL HYGIENE&GROOMING | V20: DETENTION SUPPLIES | W20: JUVENILE PROBATION | X20: JUV DET -ADMIN
G21: 37.2 | U21: TEXTILES/FIBERS/LINENS | V21: DETENTION SUPPLIES | W21: JUVENILE PROBATION | X21: JUV DET -ADMIN
A22: 452604 | D22: 42808 | G22: 605.88 | U22: CLOTHING AND APPAREL | V22: DETENTION SUPPLIES | W22: SHERIFF'S OFFICE | X22: JAIL OPS-ADMIN
M24: =SUM(hList_Frame_1!B16:B18) -> 1240.87
A26: 452605 | D26: 42808 | E26: ECOLAB INC | G26: 3472.65 | U26: JANITORIAL SUPPLIES-GEN. | V26: ANIMAL CARE | W26: ANIMAL SHELTER | X26: ANIMAL SHELTER-ADMIN
M28: =SUM(hList_Frame_1!B19:B19) -> 3472.65
A30: 452113 | D30: 42801 | E30: MATTHEW BENDER & CO INC | G30: 196.18 | U30: BLANKET PURCHASE ORDER | V30: LIBRARY UPDATES | W30: BUDGET | X30: LAW LIBRARY-ADMIN
O32: =SUM(hList_Frame_1!B20:B20) -> 196.18
A34: 452463 | D34: 42808 | E34: GIBBS, GREGG M PC | G34: 5000 | U34: 366-82284-14 | V34: COURT APPOINTED ATTORNEY | W34: COURT APPT REPRESENTATION | X34: COURT APPT REPRESENTATION | Y34: ID199N
A35: 452464 | D35: 42808 | G35: 4316.96 | U35: 417-30067-14 | V35: COURT APPOINTED ATTORNEY | W35: COURT APPT REPRESENTATION | X35: COURT APPT REPRESENTATION | Y35: ID417A
V36: MISCELLANEOUS | W36: COURT APPT REPRESENTATION | X36: COURT APPT REPRESENTATION | Y36: ID417A
M38: =SUM(hList_Frame_1!B21:B23) -> 9316.96
A40: 452005 | D40: 42801 | E40: HEIDENHEIMER, MARK | G40: 450 | V40: COURT APPOINTED ATTORNEY | W40: COURT APPT REPRESENTATION | X40: COURT APPT REPRESENTATION | Y40: IDCL6M
G42: 500 | V42: COURT APPOINTED ATTORNEY | W42: COURT APPT REPRESENTATION | X42: COURT APPT REPRESENTATION | Y42: ID296F
A43: 452465 | D43: 42808 | G43: 450 | V43: COURT APPOINTED ATTORNEY | W43: COURT APPT REPRESENTATION | X43: COURT APPT REPRESENTATION | Y43: IDCL5M
G44: 450 | V44: COURT APPOINTED ATTORNEY | W44: COURT APPT REPRESENTATION | X44: COURT APPT REPRESENTATION | Y44: IDCL7N
A45: 452876 | D45: 42815 | G45: 100 | V45: COURT APPOINTED ATTORNEY | W45: COURT APPT REPRESENTATION | X45: JUVENILE COURT-IND DEF | Y45: ID417J
G46: 100 | V46: COURT APPOINTED ATTORNEY | W46: COURT APPT REPRESENTATION | X46: JUVENILE COURT-IND DEF | Y46: ID417J
G47: 100 | V47: COURT APPOINTED ATTORNEY | W47: COURT APPT REPRESENTATION | X47: JUVENILE COURT-IND DEF | Y47: ID417J
G48: 100 | V48: COURT APPOINTED ATTORNEY | W48: COURT APPT REPRESENTATION | X48: JUVENILE COURT-IND DEF | Y48: ID417J
G49: 100 | V49: COURT APPOINTED ATTORNEY | W49: COURT APPT REPRESENTATION | X49: JUVENILE COURT-IND DEF | Y49: ID417J
G50: 100 | V50: COURT APPOINTED ATTORNEY | W50: COURT APPT REPRESENTATION | X50: JUVENILE COURT-IND DEF | Y50: ID417J
M52: =SUM(hList_Frame_1!B24:B33) -> 2450
A54: 452114 | D54: 42801 | E54: POLLOCK PAPER DISTRIBUTORS | G54: 33.6 | U54: HOSPITAL SUNDRIES | V54: JANITORIAL SUPPLIES | W54: JUVENILE PROBATION | X54: JUV DET -ADMIN
A55: 452606 | D55: 42808 | G55: 1918.6 | U55: JANITORIAL SUPPLIES | V55: JANITORIAL SUPPLIES | W55: SHERIFF'S OFFICE | X55: JAIL OPS-ADMIN
M57: =SUM(hList_Frame_1!B34:B35) -> 1952.2
A59: 452115 | D59: 42801 | E59: THOMASON TIRE INC | G59: 2084.46 | U59: AUTO/TRUCK MAINT. ITEMS | V59: AUTO MAINTENANCE | W59: EQUIPMENT SERVICES | X59: EQUIP SERV-SHARED
A61: 453357 | D61: 42822 | G61: 519.8 | U61: BLANKET PURCHASE ORDER | V61: AUTO MAINTENANCE | W61: EQUIPMENT SERVICES | X61: EQUIP SERV-SHARED
M63: =SUM(hList_Frame_1!B36:B38) -> 2604.26
A65: 452607 | D65: 42808 | E65: WEST PUBLISHING CORPORATION | G65: 538 | U65: BLANKET PURCHASE ORDER | V65: LIBRARY BOOKS | W65: DISTRICT ATTORNEY | X65: DA-ADMIN
A66: 452608 | D66: 42808 | G66: 2950.18 | U66: BLANKET PURCHASE ORDER | V66: COMMUNICATION LINE LEASE | W66: BUDGET | X66: LAW LIBRARY-ADMIN
A67: 452609 | D67: 42808 | G67: 6551 | U67: BLANKET PURCHASE ORDER | V67: LIBRARY UPDATES | W67: BUDGET | X67: LAW LIBRARY-ADMIN
A68: 452974 | D68: 42815 | G68: 291.04 | U68: PUBLICATIONS/AUDIOVISUALS | V68: DUES & SUBSCRIPTIONS | W68: UNALLOCATED | X68: NON-DEPARTMENTAL
A69: 453358 | D69: 42822 | G69: 3550.96 | U69: BLANKET PURCHASE ORDER | V69: LIBRARY BOOKS | W69: DISTRICT ATTORNEY | X69: DA-ADMIN
A70: 453359 | D70: 42822 | G70: 58 | U70: PUBLICATIONS/AUDIOVISUALS | V70: DUES & SUBSCRIPTIONS | W70: UNALLOCATED | X70: NON-DEPARTMENTAL
...

Sheet hList_Frame_1
A1: =IF(ISBLANK('March 2017'!A2),"",IF(ISTEXT('March 2017'!A2),0,'March 2017'!A2)) -> 452603 | B1: =IF(ISBLANK('March 2017'!G2),"",IF(ISTEXT('March 2017'!G2),0,'March 2017'!G2)) -> 998.79
A2: =IF(ISBLANK('March 2017'!A3),"",IF(ISTEXT('March 2017'!A3),0,'March 2017'!A3)) | B2: =IF(ISBLANK('March 2017'!G3),"",IF(ISTEXT('March 2017'!G3),0,'March 2017'!G3))
A3: =IF(ISBLANK('March 2017'!A4),"",IF(ISTEXT('March 2017'!A4),0,'March 2017'!A4)) | B3: =IF(ISBLANK('March 2017'!G4),"",IF(ISTEXT('March 2017'!G4),0,'March 2017'!G4))
A4: =IF(ISBLANK('March 2017'!A5),"",IF(ISTEXT('March 2017'!A5),0,'March 2017'!A5)) | B4: =IF(ISBLANK('March 2017'!G5),"",IF(ISTEXT('March 2017'!G5),0,'March 2017'!G5))
A5: =IF(ISBLANK('March 2017'!A6),"",IF(ISTEXT('March 2017'!A6),0,'March 2017'!A6)) | B5: =IF(ISBLANK('March 2017'!G6),"",IF(ISTEXT('March 2017'!G6),0,'March 2017'!G6))
A6: =IF(ISBLANK('March 2017'!A7),"",IF(ISTEXT('March 2017'!A7),0,'March 2017'!A7)) | B6: =IF(ISBLANK('March 2017'!G7),"",IF(ISTEXT('March 2017'!G7),0,'March 2017'!G7))
A7: =IF(ISBLANK('March 2017'!A8),"",IF(ISTEXT('March 2017'!A8),0,'March 2017'!A8)) | B7: =IF(ISBLANK('March 2017'!G8),"",IF(ISTEXT('March 2017'!G8),0,'March 2017'!G8))
A8: =IF(ISBLANK('March 2017'!A9),"",IF(ISTEXT('March 2017'!A9),0,'March 2017'!A9)) | B8: =IF(ISBLANK('March 2017'!G9),"",IF(ISTEXT('March 2017'!G9),0,'March 2017'!G9))
A9: =IF(ISBLANK('March 2017'!A10),"",IF(ISTEXT('March 2017'!A10),0,'March 2017'!A10)) | B9: =IF(ISBLANK('March 2017'!G10),"",IF(ISTEXT('March 2017'!G10),0,'March 2017'!G10))
A10: =IF(ISBLANK('March 2017'!A11),"",IF(ISTEXT('March 2017'!A11),0,'March 2017'!A11)) | B10: =IF(ISBLANK('March 2017'!G11),"",IF(ISTEXT('March 2017'!G11),0,'March 2017'!G11))
A11: =IF(ISBLANK('March 2017'!A12),"",IF(ISTEXT('March 2017'!A12),0,'March 2017'!A12)) -> 452973 | B11: =IF(ISBLANK('March 2017'!G12),"",IF(ISTEXT('March 2017'!G12),0,'March 2017'!G12)) -> 370.49
A12: =IF(ISBLANK('March 2017'!A13),"",IF(ISTEXT('March 2017'!A13),0,'March 2017'!A13)) | B12: =IF(ISBLANK('March 2017'!G13),"",IF(ISTEXT('March 2017'!G13),0,'March 2017'!G13))
... A15: =IF(ISBLANK('March 2017'!A16),"",IF(ISTEXT('March 2017'!A16),0,'March 2017'!A16)) | B15: =IF(ISBLANK('March 2017'!G16),"",IF(ISTEXT('March 2017'!G16),0,'March 2017'!G16)) -> -75
A16: =IF(ISBLANK('March 2017'!A20),"",IF(ISTEXT('March 2017'!A20),0,'March 2017'!A20)) -> 452112 | B16: =IF(ISBLANK('March 2017'!G20),"",IF(ISTEXT('March 2017'!G20),0,'March 2017'!G20)) -> 597.79
A17: =IF(ISBLANK('March 2017'!A21),"",IF(ISTEXT('March 2017'!A21),0,'March 2017'!A21)) | B17: =IF(ISBLANK('March 2017'!G21),"",IF(ISTEXT('March 2017'!G21),0,'March 2017'!G21)) -> 37.2
A18: =IF(ISBLANK('March 2017'!A22),"",IF(ISTEXT('March 2017'!A22),0,'March 2017'!A22)) -> 452604 | B18: =IF(ISBLANK('March 2017'!G22),"",IF(ISTEXT('March 2017'!G22),0,'March 2017'!G22)) -> 605.88
A19: =IF(ISBLANK('March 2017'!A26),"",IF(ISTEXT('March 2017'!A26),0,'March 2017'!A26)) -> 452605 | B19: =IF(ISBLANK('March 2017'!G26),"",IF(ISTEXT('March 2017'!G26),0,'March 2017'!G26)) -> 3472.65
A20: =IF(ISBLANK('March 2017'!A30),"",IF(ISTEXT('March 2017'!A30),0,'March 2017'!A30)) -> 452113 | B20: =IF(ISBLANK('March 2017'!G30),"",IF(ISTEXT('March 2017'!G30),0,'March 2017'!G30)) -> 196.18
A21: =IF(ISBLANK('March 2017'!A34),"",IF(ISTEXT('March 2017'!A34),0,'March 2017'!A34)) -> 452463 | B21: =IF(ISBLANK('March 2017'!G34),"",IF(ISTEXT('March 2017'!G34),0,'March 2017'!G34)) -> 5000
A22: =IF(ISBLANK('March 2017'!A35),"",IF(ISTEXT('March 2017'!A35),0,'March 2017'!A35)) -> 452464 | B22: =IF(ISBLANK('March 2017'!G35),"",IF(ISTEXT('March 2017'!G35),0,'March 2017'!G35)) -> 4316.96
A23: =IF(ISBLANK('March 2017'!A36),"",IF(ISTEXT('March 2017'!A36),0,'March 2017'!A36)) | B23: =IF(ISBLANK('March 2017'!G36),"",IF(ISTEXT('March 2017'!G36),0,'March 2017'!G36))
A24: =IF(ISBLANK('March 2017'!A40),"",IF(ISTEXT('March 2017'!A40),0,'March 2017'!A40)) -> 452005 | B24: =IF(ISBLANK('March 2017'!G40),"",IF(ISTEXT('March 2017'!G40),0,'March 2017'!G40)) -> 450
A25: =IF(ISBLANK('March 2017'!A42),"",IF(ISTEXT('March 2017'!A42),0,'March 2017'!A42)) | B25: =IF(ISBLANK('March 2017'!G42),"",IF(ISTEXT('March 2017'!G42),0,'March 2017'!G42)) -> 500
A26: =IF(ISBLANK('March 2017'!A43),"",IF(ISTEXT('March 2017'!A43),0,'March 2017'!A43)) -> 452465 | B26: =IF(ISBLANK('March 2017'!G43),"",IF(ISTEXT('March 2017'!G43),0,'March 2017'!G43)) -> 450
A27: =IF(ISBLANK('March 2017'!A44),"",IF(ISTEXT('March 2017'!A44),0,'March 2017'!A44)) | B27: =IF(ISBLANK('March 2017'!G44),"",IF(ISTEXT('March 2017'!G44),0,'March 2017'!G44)) -> 450
A28: =IF(ISBLANK('March 2017'!A45),"",IF(ISTEXT('March 2017'!A45),0,'March 2017'!A45)) -> 452876 | B28: =IF(ISBLANK('March 2017'!G45),"",IF(ISTEXT('March 2017'!G45),0,'March 2017'!G45)) -> 100
A29: =IF(ISBLANK('March 2017'!A46),"",IF(ISTEXT('March 2017'!A46),0,'March 2017'!A46)) | B29: =IF(ISBLANK('March 2017'!G46),"",IF(ISTEXT('March 2017'!G46),0,'March 2017'!G46)) -> 100
A30: =IF(ISBLANK('March 2017'!A47),"",IF(ISTEXT('March 2017'!A47),0,'March 2017'!A47)) | B30: =IF(ISBLANK('March 2017'!G47),"",IF(ISTEXT('March 2017'!G47),0,'March 2017'!G47)) -> 100
A31: =IF(ISBLANK('March 2017'!A48),"",IF(ISTEXT('March 2017'!A48),0,'March 2017'!A48)) | B31: =IF(ISBLANK('March 2017'!G48),"",IF(ISTEXT('March 2017'!G48),0,'March 2017'!G48)) -> 100
A32: =IF(ISBLANK('March 2017'!A49),"",IF(ISTEXT('March 2017'!A49),0,'March 2017'!A49)) | B32: =IF(ISBLANK('March 2017'!G49),"",IF(ISTEXT('March 2017'!G49),0,'March 2017'!G49)) -> 100
A33: =IF(ISBLANK('March 2017'!A50),"",IF(ISTEXT('March 2017'!A50),0,'March 2017'!A50)) | B33: =IF(ISBLANK('March 2017'!G50),"",IF(ISTEXT('March 2017'!G50),0,'March 2017'!G50)) -> 100
A34: =IF(ISBLANK('March 2017'!A54),"",IF(ISTEXT('March 2017'!A54),0,'March 2017'!A54)) -> 452114 | B34: =IF(ISBLANK('March 2017'!G54),"",IF(ISTEXT('March 2017'!G54),0,'March 2017'!G54)) -> 33.6
A35: =IF(ISBLANK('March 2017'!A55),"",IF(ISTEXT('March 2017'!A55),0,'March 2017'!A55)) -> 452606 | B35: =IF(ISBLANK('March 2017'!G55),"",IF(ISTEXT('March 2017'!G55),0,'March 2017'!G55)) -> 1918.6
A36: =IF(ISBLANK('March 2017'!A59),"",IF(ISTEXT('March 2017'!A59),0,'March 2017'!A59)) -> 452115 | B36: =IF(ISBLANK('March 2017'!G59),"",IF(ISTEXT('March 2017'!G59),0,'March 2017'!G59)) -> 2084.46
A37: =IF(ISBLANK('March 2017'!A60),"",IF(ISTEXT('March 2017'!A60),0,'March 2017'!A60)) | B37: =IF(ISBLANK('March 2017'!G60),"",IF(ISTEXT('March 2017'!G60),0,'March 2017'!G60))
A38: =IF(ISBLANK('March 2017'!A61),"",IF(ISTEXT('March 2017'!A61),0,'March 2017'!A61)) -> 453357 | B38: =IF(ISBLANK('March 2017'!G61),"",IF(ISTEXT('March 2017'!G61),0,'March 2017'!G61)) -> 519.8
A39: =IF(ISBLANK('March 2017'!A65),"",IF(ISTEXT('March 2017'!A65),0,'March 2017'!A65)) -> 452607 | B39: =IF(ISBLANK('March 2017'!G65),"",IF(ISTEXT('March 2017'!G65),0,'March 2017'!G65)) -> 538
A40: =IF(ISBLANK('March 2017'!A66),"",IF(ISTEXT('March 2017'!A66),0,'March 2017'!A66)) -> 452608 | B40: =IF(ISBLANK('March 2017'!G66),"",IF(ISTEXT('March 2017'!G66),0,'March 2017'!G66)) -> 2950.18
A41: =IF(ISBLANK('March 2017'!A67),"",IF(ISTEXT('March 2017'!A67),0,'March 2017'!A67)) -> 452609 | B41: =IF(ISBLANK('March 2017'!G67),"",IF(ISTEXT('March 2017'!G67),0,'March 2017'!G67)) -> 6551
A42: =IF(ISBLANK('March 2017'!A68),"",IF(ISTEXT('March 2017'!A68),0,'March 2017'!A68)) -> 452974 | B42: =IF(ISBLANK('March 2017'!G68),"",IF(ISTEXT('March 2017'!G68),0,'March 2017'!G68)) -> 291.04
...
