Workbook

Sheet List_Frame_1
A1: Check Number | D1: Check Date | E1: Vendor Name | G1: Transaction Amount | U1: Description | V1: Account Name | W1: Department | X1: Division | Y1: Project Number
A2: 471976 | D2: 43165 | E2: BOB TOMES FORD | G2: 837.87 | U2: BLANKET PURCHASE ORDER | V2: AUTO MAINTENANCE | W2: EQUIPMENT SERVICES | X2: EQUIP SERV-SHARED
A8: 472340 | D8: 43172 | G8: 348.69 | U8: BLANKET PURCHASE ORDER | V8: AUTO MAINTENANCE | W8: EQUIPMENT SERVICES | X8: EQUIP SERV-SHARED
G13: -71.76 | U13: INV74431 | V13: AUTO MAINTENANCE | W13: EQUIPMENT SERVICES | X13: EQUIP SERV-SHARED
G14: -71.76 | U14: INV76792 | V14: AUTO MAINTENANCE | W14: EQUIPMENT SERVICES | X14: EQUIP SERV-SHARED
A15: 472724 | D15: 43179 | G15: 951.37 | U15: BLANKET PURCHASE ORDER | V15: AUTO MAINTENANCE | W15: EQUIPMENT SERVICES | X15: EQUIP SERV-SHARED
A19: 473054 | D19: 43186 | G19: 605.32 | U19: AUTO/TRUCK MAINT. ITEMS | V19: PARTS
G20: 3172.22 | U20: BLANKET PURCHASE ORDER | V20: AUTO MAINTENANCE | W20: EQUIPMENT SERVICES | X20: EQUIP SERV-SHARED
N34: =SUM(hList_Frame_1!B1:B31) -> 5771.95
A36: 472341 | D36: 43172 | E36: BOB BARKER COMPANY INC | G36: 522 | U36: CLOTHING AND APPAREL | V36: DETENTION SUPPLIES | W36: SHERIFF'S OFFICE | X36: JAIL OPS-ADMIN
G37: 954 | U37: TEXTILES/FIBERS/LINENS | V37: DETENTION SUPPLIES | W37: SHERIFF'S OFFICE | X37: JAIL OPS-ADMIN
A39: 473055 | D39: 43186 | G39: 400.58 | U39: PERSONAL HYGIENE&GROOMING | V39: DETENTION SUPPLIES | W39: JUVENILE PROBATION | X39: JUV DET -ADMIN
N41: =SUM(hList_Frame_1!B32:B34) -> 1876.58
A43: 473056 | D43: 43186 | E43: ECOLAB INC | G43: 3096 | U43: JANITORIAL SUPPLIES | V43: DETENTION SUPPLIES | W43: SHERIFF'S OFFICE | X43: JAIL OPS-ADMIN
N46: =SUM(hList_Frame_1!B35:B36) -> 3096
A48: 472948 | D48: 43186 | E48: GIBBS, GREGG M PC | G48: 980.21 | U48: 296-30030-16 | V48: COURT APPOINTED ATTORNEY | W48: COURT APPT REPRESENTATION | X48: COURT APPT REPRESENTATION | Y48: ID296A
V49: MISCELLANEOUS | W49: COURT APPT REPRESENTATION | X49: COURT APPT REPRESENTATION | Y49: ID296A
P51: =SUM(hList_Frame_1!B37:B38) -> 980.21
A53: 472665 | D53: 43179 | E53: HEIDENHEIMER, MARK | G53: 100 | U53: 003-85198-17 | V53: COURT APPOINTED ATTORNEY | W53: COURT APPT REPRESENTATION | X53: COURT APPT REPRESENTATION | Y53: IDCL2M
G54: 450 | U54: 003-85199-17 | V54: COURT APPOINTED ATTORNEY | W54: COURT APPT REPRESENTATION | X54: COURT APPT REPRESENTATION | Y54: IDCL2M
G55: 1250 | U55: 005-87659-17 | V55: COURT APPOINTED ATTORNEY | W55: COURT APPT REPRESENTATION | X55: COURT APPT REPRESENTATION | Y55: IDCL5M
G56: 800 | U56: 366-83925-17 | V56: COURT APPOINTED ATTORNEY | W56: COURT APPT REPRESENTATION | X56: COURT APPT REPRESENTATION | Y56: ID401N
A57: 472949 | D57: 43186 | G57: 498.68 | U57: 401-80180-18 | V57: COURT APPOINTED ATTORNEY | W57: COURT APPT REPRESENTATION | X57: COURT APPT REPRESENTATION | Y57: ID401F
G58: 498.66 | U58: 401-82005-17 | V58: COURT APPOINTED ATTORNEY | W58: COURT APPT REPRESENTATION | X58: COURT APPT REPRESENTATION | Y58: ID401F
G59: 498.66 | U59: 401-82845-17 | V59: COURT APPOINTED ATTORNEY | W59: COURT APPT REPRESENTATION | X59: COURT APPT REPRESENTATION | Y59: ID401F
N61: =SUM(hList_Frame_1!B39:B45) -> 4096
A63: 471977 | D63: 43165 | E63: POLLOCK PAPER DISTRIBUTORS | G63: 2297 | U63: HOSPITAL SUNDRIES | V63: JANITORIAL SUPPLIES | W63: SHERIFF'S OFFICE | X63: JAIL OPS-ADMIN
G64: 1423.84 | U64: JANITORIAL SUPPLIES-GEN. | V64: DETENTION SUPPLIES | W64: SHERIFF'S OFFICE | X64: JAIL OPS-ADMIN
V65: JANITORIAL SUPPLIES | W65: SHERIFF'S OFFICE | X65: JAIL OPS-ADMIN
G66: 6.36 | U66: SPRAYING EQUIPMENT | V66: JANITORIAL SUPPLIES | W66: SHERIFF'S OFFICE | X66: JAIL OPS-ADMIN
A67: 472725 | D67: 43179 | G67: 53.62 | U67: LAUNDRY TEXTILES/SUPPLIES | V67: JANITORIAL SUPPLIES | W67: SHERIFF'S OFFICE | X67: JAIL OPS-ADMIN
A68: 473057 | D68: 43186 | G68: 2297 | U68: HOSPITAL SUNDRIES | V68: DETENTION SUPPLIES | W68: SHERIFF'S OFFICE | X68: JAIL OPS-ADMIN
N70: =SUM(hList_Frame_1!B46:B51) -> 6077.82
A72: 472726 | D72: 43179 | E72: TEKNI KUT CORP | G72: 731.5 | U72: MANAGEMENT SERVICES | V72: BUILDING SUPPLIES | W72: FACILITIES & PARKS | X72: BUILD SUP-SHARED | Y72: B03002
P74: =SUM(hList_Frame_1!B52:B52) -> 731.5
A76: 471978 | D76: 43165 | E76: WEST PUBLISHING CORPORATION | G76: 24.65 | U76: BLANKET PURCHASE ORDER | V76: DUES & SUBSCRIPTIONS | W76: DISTRICT ATTORNEY | X76: DA-ADMIN
A77: 472342 | D77: 43172 | G77: 439 | V77: PATROL SUPPLIES | W77: CONSTABLES | X77: C3-ADMIN
G80: 13944.18 | U80: BLANKET PURCHASE ORDER | V80: COMMUNICATION LINE LEASE | W80: BUDGET | X80: LAW LIBRARY-ADMIN
V81: LIBRARY BOOKS | W81: DISTRICT ATTORNEY | X81: DA-ADMIN
V83: LIBRARY UPDATES | W83: BUDGET | X83: LAW LIBRARY-ADMIN
...

Sheet hList_Frame_1
A1: =IF(ISBLANK(List_Frame_1!A2),"",IF(ISTEXT(List_Frame_1!A2),0,List_Frame_1!A2)) -> 471976 | B1: =IF(ISBLANK(List_Frame_1!G2),"",IF(ISTEXT(List_Frame_1!G2),0,List_Frame_1!G2)) -> 837.87
A2: =IF(ISBLANK(List_Frame_1!A3),"",IF(ISTEXT(List_Frame_1!A3),0,List_Frame_1!A3)) | B2: =IF(ISBLANK(List_Frame_1!G3),"",IF(ISTEXT(List_Frame_1!G3),0,List_Frame_1!G3))
A3: =IF(ISBLANK(List_Frame_1!A4),"",IF(ISTEXT(List_Frame_1!A4),0,List_Frame_1!A4)) | B3: =IF(ISBLANK(List_Frame_1!G4),"",IF(ISTEXT(List_Frame_1!G4),0,List_Frame_1!G4))
A4: =IF(ISBLANK(List_Frame_1!A5),"",IF(ISTEXT(List_Frame_1!A5),0,List_Frame_1!A5)) | B4: =IF(ISBLANK(List_Frame_1!G5),"",IF(ISTEXT(List_Frame_1!G5),0,List_Frame_1!G5))
A5: =IF(ISBLANK(List_Frame_1!A6),"",IF(ISTEXT(List_Frame_1!A6),0,List_Frame_1!A6)) | B5: =IF(ISBLANK(List_Frame_1!G6),"",IF(ISTEXT(List_Frame_1!G6),0,List_Frame_1!G6))
A6: =IF(ISBLANK(List_Frame_1!A7),"",IF(ISTEXT(List_Frame_1!A7),0,List_Frame_1!A7)) | B6: =IF(ISBLANK(List_Frame_1!G7),"",IF(ISTEXT(List_Frame_1!G7),0,List_Frame_1!G7))
A7: =IF(ISBLANK(List_Frame_1!A8),"",IF(ISTEXT(List_Frame_1!A8),0,List_Frame_1!A8)) -> 472340 | B7: =IF(ISBLANK(List_Frame_1!G8),"",IF(ISTEXT(List_Frame_1!G8),0,List_Frame_1!G8)) -> 348.69
A8: =IF(ISBLANK(List_Frame_1!A9),"",IF(ISTEXT(List_Frame_1!A9),0,List_Frame_1!A9)) | B8: =IF(ISBLANK(List_Frame_1!G9),"",IF(ISTEXT(List_Frame_1!G9),0,List_Frame_1!G9))
A9: =IF(ISBLANK(List_Frame_1!A10),"",IF(ISTEXT(List_Frame_1!A10),0,List_Frame_1!A10)) | B9: =IF(ISBLANK(List_Frame_1!G10),"",IF(ISTEXT(List_Frame_1!G10),0,List_Frame_1!G10))
A10: =IF(ISBLANK(List_Frame_1!A11),"",IF(ISTEXT(List_Frame_1!A11),0,List_Frame_1!A11)) | B10: =IF(ISBLANK(List_Frame_1!G11),"",IF(ISTEXT(List_Frame_1!G11),0,List_Frame_1!G11))
A11: =IF(ISBLANK(List_Frame_1!A12),"",IF(ISTEXT(List_Frame_1!A12),0,List_Frame_1!A12)) | B11: =IF(ISBLANK(List_Frame_1!G12),"",IF(ISTEXT(List_Frame_1!G12),0,List_Frame_1!G12))
A12: =IF(ISBLANK(List_Frame_1!A13),"",IF(ISTEXT(List_Frame_1!A13),0,List_Frame_1!A13)) | B12: =IF(ISBLANK(List_Frame_1!G13),"",IF(ISTEXT(List_Frame_1!G13),0,List_Frame_1!G13)) -> -71.76
... A31: =IF(ISBLANK(List_Frame_1!A32),"",IF(ISTEXT(List_Frame_1!A32),0,List_Frame_1!A32)) | B31: =IF(ISBLANK(List_Frame_1!G32),"",IF(ISTEXT(List_Frame_1!G32),0,List_Frame_1!G32))
A32: =IF(ISBLANK(List_Frame_1!A36),"",IF(ISTEXT(List_Frame_1!A36),0,List_Frame_1!A36)) -> 472341 | B32: =IF(ISBLANK(List_Frame_1!G36),"",IF(ISTEXT(List_Frame_1!G36),0,List_Frame_1!G36)) -> 522
A33: =IF(ISBLANK(List_Frame_1!A37),"",IF(ISTEXT(List_Frame_1!A37),0,List_Frame_1!A37)) | B33: =IF(ISBLANK(List_Frame_1!G37),"",IF(ISTEXT(List_Frame_1!G37),0,List_Frame_1!G37)) -> 954
A34: =IF(ISBLANK(List_Frame_1!A39),"",IF(ISTEXT(List_Frame_1!A39),0,List_Frame_1!A39)) -> 473055 | B34: =IF(ISBLANK(List_Frame_1!G39),"",IF(ISTEXT(List_Frame_1!G39),0,List_Frame_1!G39)) -> 400.58
A35: =IF(ISBLANK(List_Frame_1!A43),"",IF(ISTEXT(List_Frame_1!A43),0,List_Frame_1!A43)) -> 473056 | B35: =IF(ISBLANK(List_Frame_1!G43),"",IF(ISTEXT(List_Frame_1!G43),0,List_Frame_1!G43)) -> 3096
A36: =IF(ISBLANK(List_Frame_1!A44),"",IF(ISTEXT(List_Frame_1!A44),0,List_Frame_1!A44)) | B36: =IF(ISBLANK(List_Frame_1!G44),"",IF(ISTEXT(List_Frame_1!G44),0,List_Frame_1!G44))
A37: =IF(ISBLANK(List_Frame_1!A48),"",IF(ISTEXT(List_Frame_1!A48),0,List_Frame_1!A48)) -> 472948 | B37: =IF(ISBLANK(List_Frame_1!G48),"",IF(ISTEXT(List_Frame_1!G48),0,List_Frame_1!G48)) -> 980.21
A38: =IF(ISBLANK(List_Frame_1!A49),"",IF(ISTEXT(List_Frame_1!A49),0,List_Frame_1!A49)) | B38: =IF(ISBLANK(List_Frame_1!G49),"",IF(ISTEXT(List_Frame_1!G49),0,List_Frame_1!G49))
A39: =IF(ISBLANK(List_Frame_1!A53),"",IF(ISTEXT(List_Frame_1!A53),0,List_Frame_1!A53)) -> 472665 | B39: =IF(ISBLANK(List_Frame_1!G53),"",IF(ISTEXT(List_Frame_1!G53),0,List_Frame_1!G53)) -> 100
A40: =IF(ISBLANK(List_Frame_1!A54),"",IF(ISTEXT(List_Frame_1!A54),0,List_Frame_1!A54)) | B40: =IF(ISBLANK(List_Frame_1!G54),"",IF(ISTEXT(List_Frame_1!G54),0,List_Frame_1!G54)) -> 450
A41: =IF(ISBLANK(List_Frame_1!A55),"",IF(ISTEXT(List_Frame_1!A55),0,List_Frame_1!A55)) | B41: =IF(ISBLANK(List_Frame_1!G55),"",IF(ISTEXT(List_Frame_1!G55),0,List_Frame_1!G55)) -> 1250
A42: =IF(ISBLANK(List_Frame_1!A56),"",IF(ISTEXT(List_Frame_1!A56),0,List_Frame_1!A56)) | B42: =IF(ISBLANK(List_Frame_1!G56),"",IF(ISTEXT(List_Frame_1!G56),0,List_Frame_1!G56)) -> 800
A43: =IF(ISBLANK(List_Frame_1!A57),"",IF(ISTEXT(List_Frame_1!A57),0,List_Frame_1!A57)) -> 472949 | B43: =IF(ISBLANK(List_Frame_1!G57),"",IF(ISTEXT(List_Frame_1!G57),0,List_Frame_1!G57)) -> 498.68
A44: =IF(ISBLANK(List_Frame_1!A58),"",IF(ISTEXT(List_Frame_1!A58),0,List_Frame_1!A58)) | B44: =IF(ISBLANK(List_Frame_1!G58),"",IF(ISTEXT(List_Frame_1!G58),0,List_Frame_1!G58)) -> 498.66
A45: =IF(ISBLANK(List_Frame_1!A59),"",IF(ISTEXT(List_Frame_1!A59),0,List_Frame_1!A59)) | B45: =IF(ISBLANK(List_Frame_1!G59),"",IF(ISTEXT(List_Frame_1!G59),0,List_Frame_1!G59)) -> 498.66
A46: =IF(ISBLANK(List_Frame_1!A63),"",IF(ISTEXT(List_Frame_1!A63),0,List_Frame_1!A63)) -> 471977 | B46: =IF(ISBLANK(List_Frame_1!G63),"",IF(ISTEXT(List_Frame_1!G63),0,List_Frame_1!G63)) -> 2297
A47: =IF(ISBLANK(List_Frame_1!A64),"",IF(ISTEXT(List_Frame_1!A64),0,List_Frame_1!A64)) | B47: =IF(ISBLANK(List_Frame_1!G64),"",IF(ISTEXT(List_Frame_1!G64),0,List_Frame_1!G64)) -> 1423.84
A48: =IF(ISBLANK(List_Frame_1!A65),"",IF(ISTEXT(List_Frame_1!A65),0,List_Frame_1!A65)) | B48: =IF(ISBLANK(List_Frame_1!G65),"",IF(ISTEXT(List_Frame_1!G65),0,List_Frame_1!G65))
A49: =IF(ISBLANK(List_Frame_1!A66),"",IF(ISTEXT(List_Frame_1!A66),0,List_Frame_1!A66)) | B49: =IF(ISBLANK(List_Frame_1!G66),"",IF(ISTEXT(List_Frame_1!G66),0,List_Frame_1!G66)) -> 6.36
A50: =IF(ISBLANK(List_Frame_1!A67),"",IF(ISTEXT(List_Frame_1!A67),0,List_Frame_1!A67)) -> 472725 | B50: =IF(ISBLANK(List_Frame_1!G67),"",IF(ISTEXT(List_Frame_1!G67),0,List_Frame_1!G67)) -> 53.62
A51: =IF(ISBLANK(List_Frame_1!A68),"",IF(ISTEXT(List_Frame_1!A68),0,List_Frame_1!A68)) -> 473057 | B51: =IF(ISBLANK(List_Frame_1!G68),"",IF(ISTEXT(List_Frame_1!G68),0,List_Frame_1!G68)) -> 2297
A52: =IF(ISBLANK(List_Frame_1!A72),"",IF(ISTEXT(List_Frame_1!A72),0,List_Frame_1!A72)) -> 472726 | B52: =IF(ISBLANK(List_Frame_1!G72),"",IF(ISTEXT(List_Frame_1!G72),0,List_Frame_1!G72)) -> 731.5
A53: =IF(ISBLANK(List_Frame_1!A76),"",IF(ISTEXT(List_Frame_1!A76),0,List_Frame_1!A76)) -> 471978 | B53: =IF(ISBLANK(List_Frame_1!G76),"",IF(ISTEXT(List_Frame_1!G76),0,List_Frame_1!G76)) -> 24.65
A54: =IF(ISBLANK(List_Frame_1!A77),"",IF(ISTEXT(List_Frame_1!A77),0,List_Frame_1!A77)) -> 472342 | B54: =IF(ISBLANK(List_Frame_1!G77),"",IF(ISTEXT(List_Frame_1!G77),0,List_Frame_1!G77)) -> 439
A55: =IF(ISBLANK(List_Frame_1!A78),"",IF(ISTEXT(List_Frame_1!A78),0,List_Frame_1!A78)) | B55: =IF(ISBLANK(List_Frame_1!G78),"",IF(ISTEXT(List_Frame_1!G78),0,List_Frame_1!G78))
A56: =IF(ISBLANK(List_Frame_1!A79),"",IF(ISTEXT(List_Frame_1!A79),0,List_Frame_1!A79)) | B56: =IF(ISBLANK(List_Frame_1!G79),"",IF(ISTEXT(List_Frame_1!G79),0,List_Frame_1!G79))
A57: =IF(ISBLANK(List_Frame_1!A80),"",IF(ISTEXT(List_Frame_1!A80),0,List_Frame_1!A80)) | B57: =IF(ISBLANK(List_Frame_1!G80),"",IF(ISTEXT(List_Frame_1!G80),0,List_Frame_1!G80)) -> 13944.18
A58: =IF(ISBLANK(List_Frame_1!A81),"",IF(ISTEXT(List_Frame_1!A81),0,List_Frame_1!A81)) | B58: =IF(ISBLANK(List_Frame_1!G81),"",IF(ISTEXT(List_Frame_1!G81),0,List_Frame_1!G81))
...
