Workbook

Sheet April 2015
A1: Check Number | C1: Check Date | D1: Vendor Name | F1: Transaction Amount | T1: Description | U1: Account Name | V1: Department | W1: Division | X1: Object of Expenditure | Y1: Project Number
A2: 416559 | C2: 42101 | D2: BOB TOMES FORD | F2: 1655.63 | T2: AUTO/TRUCK MAINT. ITEMS | U2: PARTS | X2: AUTO/TRUCK MAINT. ITEMS
F6: 250.88 | T6: BLANKET PURCHASE ORDER | U6: AUTO MAINTENANCE | V6: EQUIPMENT SERVICES | W6: EQUIP SERV-SHARED | X6: BLANKET PURCHASE ORDER
A7: 416914 | C7: 42108 | F7: 20 | T7: AUTO BODIES & ACCESSORIES | U7: AUTO MAINTENANCE | V7: EQUIPMENT SERVICES | W7: EQUIP SERV-SHARED | X7: AUTO BODIES & ACCESSORIES
F8: 27.03 | T8: AUTO/TRUCK MAINT. ITEMS | U8: PARTS | X8: AUTO/TRUCK MAINT. ITEMS
F9: 625.69 | T9: BLANKET PURCHASE ORDER | U9: AUTO MAINTENANCE | V9: EQUIPMENT SERVICES | W9: EQUIP SERV-SHARED | X9: BLANKET PURCHASE ORDER
A13: 417344 | C13: 42115 | F13: 586.28 | T13: BLANKET PURCHASE ORDER | U13: AUTO MAINTENANCE | V13: EQUIPMENT SERVICES | W13: EQUIP SERV-SHARED | X13: BLANKET PURCHASE ORDER
A17: 417746 | C17: 42122 | F17: 83.75 | T17: AUTO/TRUCK MAINT. ITEMS | U17: PARTS | X17: AUTO/TRUCK MAINT. ITEMS
F18: 357 | T18: BLANKET PURCHASE ORDER | U18: AUTO MAINTENANCE | V18: EQUIPMENT SERVICES | W18: EQUIP SERV-SHARED | X18: BLANKET PURCHASE ORDER
L24: =SUM(hList_Frame_1!B1:B21) -> 3606.26
A26: 416915 | C26: 42108 | D26: BOB BARKER CO | F26: 195.84 | T26: PERSONAL HYGIENE&GROOMING | U26: DETENTION SUPPLIES | V26: JUVENILE PROBATION | W26: JUV DET -ADMIN | X26: PERSONAL HYGIENE&GROOMING
A27: 417747 | C27: 42122 | F27: 4822.8 | T27: CLOTHING AND APPAREL | U27: DETENTION SUPPLIES | V27: JUVENILE PROBATION | W27: JUV DET -ADMIN | X27: CLOTHING AND APPAREL
V28: SHERIFF'S OFFICE | W28: JAIL OPS-ADMIN
F29: 289.14 | T29: PERSONAL HYGIENE&GROOMING | U29: DETENTION SUPPLIES | V29: JUVENILE PROBATION | W29: JUV DET -ADMIN | X29: PERSONAL HYGIENE&GROOMING
L31: =SUM(hList_Frame_1!B22:B25) -> 5307.78
A33: 417345 | C33: 42115 | D33: ECOLAB INC | F33: 1039.8 | T33: BUTCHER/MEAT PROC. EQUIP. | U33: DETENTION SUPPLIES | V33: SHERIFF'S OFFICE | W33: JAIL OPS-ADMIN | X33: BUTCHER/MEAT PROC. EQUIP.
F34: 1142.4 | T34: JANITORIAL SUPPLIES-GEN. | U34: DETENTION SUPPLIES | V34: SHERIFF'S OFFICE | W34: JAIL OPS-ADMIN | X34: JANITORIAL SUPPLIES-GEN.
A36: 417748 | C36: 42122 | F36: 5525.5 | T36: JANITORIAL SUPPLIES-GEN. | U36: DETENTION SUPPLIES | V36: SHERIFF'S OFFICE | W36: JAIL OPS-ADMIN | X36: JANITORIAL SUPPLIES-GEN.
W37: MINIMUM SECURITY
L39: =SUM(hList_Frame_1!B26:B30) -> 7707.7
A41: 416560 | C41: 42101 | D41: MCKINNEY TIRE & APPLIANCE | F41: 618.5 | T41: APPLIANCES/EQUIP. & PARTS | U41: ONE-TIME BUDGET NON-CAP | V41: UNALLOCATED | W41: CAPITAL REPLACEMENT | X41: APPLIANCES/EQUIP. & PARTS
N43: =SUM(hList_Frame_1!B31:B31) -> 618.5
A45: 417749 | C45: 42122 | D45: GIBBS, GREGG M PC | F45: 1800 | T45: 366-50956-11 | U45: COURT APPOINTED ATTORNEY | V45: INDIGENT DEFENSE | W45: INDIGENT DEFENSE | X45: 366-50956-11 | Y45: ID366O
F46: 750 | T46: 416-51182-08 | U46: COURT APPOINTED ATTORNEY | V46: INDIGENT DEFENSE | W46: INDIGENT DEFENSE | X46: 416-51182-08 | Y46: ID416O
F47: 750 | T47: 417-70216-14 | U47: COURT APPOINTED ATTORNEY | V47: INDIGENT DEFENSE | W47: JUVENILE COURT-IND DEF | X47: 417-70216-14 | Y47: ID417J
L49: =SUM(hList_Frame_1!B32:B34) -> 3300
A51: 416916 | C51: 42108 | D51: XXXXXXX | F51: 10172.03 | T51: Details not available | U51: COURT APPOINTED ATTORNEY | V51: INDIGENT DEFENSE | W51: INDIGENT DEFENSE | X51: Details not available | Y51: MUR063
U52: MISCELLANEOUS | V52: INDIGENT DEFENSE | W52: INDIGENT DEFENSE | Y52: MUR063
J54: =SUM(hList_Frame_1!B35:B36) -> 10172.03
A56: 416561 | C56: 42101 | D56: POLLOCK PAPER DISTRIBUTORS | F56: 1215.24 | T56: PAPER/PLASTIC, DISPOSABLE | U56: JANITORIAL SUPPLIES | X56: PAPER/PLASTIC, DISPOSABLE
A57: 417750 | C57: 42122 | F57: 3198 | T57: PAPER/PLASTIC, DISPOSABLE | U57: JANITORIAL SUPPLIES | V57: SHERIFF'S OFFICE | W57: JAIL OPS-ADMIN | X57: PAPER/PLASTIC, DISPOSABLE
L59: =SUM(hList_Frame_1!B37:B38) -> 4413.24
A61: 416562 | C61: 42101 | D61: THOMASON TIRE INC | F61: 340 | T61: BLANKET PURCHASE ORDER | U61: HEAVY EQUIPMENT REPAIR | V61: EQUIPMENT SERVICES | W61: EQUIP SERV-SHARED | X61: BLANKET PURCHASE ORDER
N65: =SUM(hList_Frame_1!B39:B41) -> 340
A67: 416563 | C67: 42101 | D67: TEXOMA FIRE EQUIPMENT INC | F67: 175 | T67: MISC PROFESSIONAL SERVICE | U67: DIVE TEAM SUPPLIES | V67: SHERIFF'S OFFICE | W67: SO-ADMIN | X67: MISC PROFESSIONAL SERVICE
N69: =SUM(hList_Frame_1!B42:B42) -> 175
A71: 416564 | C71: 42101 | D71: TX STATE DIRECTORY | F71: 102.3 | T71: PUBLICATIONS/AUDIOVISUALS | U71: DUES & SUBSCRIPTIONS | V71: TAX ASSESSOR/COLLECTOR | W71: TAX A/C - ADMIN | X71: PUBLICATIONS/AUDIOVISUALS
A72: 416565 | C72: 42101 | F72: 54.4 | T72: PUBLICATIONS/AUDIOVISUALS | U72: DUES & SUBSCRIPTIONS | V72: ELECTIONS | W72: ELECTIONS-ADMIN | X72: PUBLICATIONS/AUDIOVISUALS
N74: =SUM(hList_Frame_1!B43:B44) -> 156.7
A76: 416566 | C76: 42101 | D76: WEST PUBLISHING CORPORATION | F76: 50 | T76: PUBLICATIONS/AUDIOVISUALS | U76: DUES & SUBSCRIPTIONS | V76: UNALLOCATED | W76: NON-DEPARTMENTAL | X76: PUBLICATIONS/AUDIOVISUALS
...

Sheet hList_Frame_1
A1: =IF(ISBLANK('April 2015'!A2),"",IF(ISTEXT('April 2015'!A2),0,'April 2015'!A2)) -> 416559 | B1: =IF(ISBLANK('April 2015'!F2),"",IF(ISTEXT('April 2015'!F2),0,'April 2015'!F2)) -> 1655.63
A2: =IF(ISBLANK('April 2015'!A3),"",IF(ISTEXT('April 2015'!A3),0,'April 2015'!A3)) | B2: =IF(ISBLANK('April 2015'!F3),"",IF(ISTEXT('April 2015'!F3),0,'April 2015'!F3))
A3: =IF(ISBLANK('April 2015'!A4),"",IF(ISTEXT('April 2015'!A4),0,'April 2015'!A4)) | B3: =IF(ISBLANK('April 2015'!F4),"",IF(ISTEXT('April 2015'!F4),0,'April 2015'!F4))
A4: =IF(ISBLANK('April 2015'!A5),"",IF(ISTEXT('April 2015'!A5),0,'April 2015'!A5)) | B4: =IF(ISBLANK('April 2015'!F5),"",IF(ISTEXT('April 2015'!F5),0,'April 2015'!F5))
A5: =IF(ISBLANK('April 2015'!A6),"",IF(ISTEXT('April 2015'!A6),0,'April 2015'!A6)) | B5: =IF(ISBLANK('April 2015'!F6),"",IF(ISTEXT('April 2015'!F6),0,'April 2015'!F6)) -> 250.88
A6: =IF(ISBLANK('April 2015'!A7),"",IF(ISTEXT('April 2015'!A7),0,'April 2015'!A7)) -> 416914 | B6: =IF(ISBLANK('April 2015'!F7),"",IF(ISTEXT('April 2015'!F7),0,'April 2015'!F7)) -> 20
A7: =IF(ISBLANK('April 2015'!A8),"",IF(ISTEXT('April 2015'!A8),0,'April 2015'!A8)) | B7: =IF(ISBLANK('April 2015'!F8),"",IF(ISTEXT('April 2015'!F8),0,'April 2015'!F8)) -> 27.03
A8: =IF(ISBLANK('April 2015'!A9),"",IF(ISTEXT('April 2015'!A9),0,'April 2015'!A9)) | B8: =IF(ISBLANK('April 2015'!F9),"",IF(ISTEXT('April 2015'!F9),0,'April 2015'!F9)) -> 625.69
A9: =IF(ISBLANK('April 2015'!A10),"",IF(ISTEXT('April 2015'!A10),0,'April 2015'!A10)) | B9: =IF(ISBLANK('April 2015'!F10),"",IF(ISTEXT('April 2015'!F10),0,'April 2015'!F10))
A10: =IF(ISBLANK('April 2015'!A11),"",IF(ISTEXT('April 2015'!A11),0,'April 2015'!A11)) | B10: =IF(ISBLANK('April 2015'!F11),"",IF(ISTEXT('April 2015'!F11),0,'April 2015'!F11))
A11: =IF(ISBLANK('April 2015'!A12),"",IF(ISTEXT('April 2015'!A12),0,'April 2015'!A12)) | B11: =IF(ISBLANK('April 2015'!F12),"",IF(ISTEXT('April 2015'!F12),0,'April 2015'!F12))
A12: =IF(ISBLANK('April 2015'!A13),"",IF(ISTEXT('April 2015'!A13),0,'April 2015'!A13)) -> 417344 | B12: =IF(ISBLANK('April 2015'!F13),"",IF(ISTEXT('April 2015'!F13),0,'April 2015'!F13)) -> 586.28
... A21: =IF(ISBLANK('April 2015'!A22),"",IF(ISTEXT('April 2015'!A22),0,'April 2015'!A22)) | B21: =IF(ISBLANK('April 2015'!F22),"",IF(ISTEXT('April 2015'!F22),0,'April 2015'!F22))
A22: =IF(ISBLANK('April 2015'!A26),"",IF(ISTEXT('April 2015'!A26),0,'April 2015'!A26)) -> 416915 | B22: =IF(ISBLANK('April 2015'!F26),"",IF(ISTEXT('April 2015'!F26),0,'April 2015'!F26)) -> 195.84
A23: =IF(ISBLANK('April 2015'!A27),"",IF(ISTEXT('April 2015'!A27),0,'April 2015'!A27)) -> 417747 | B23: =IF(ISBLANK('April 2015'!F27),"",IF(ISTEXT('April 2015'!F27),0,'April 2015'!F27)) -> 4822.8
A24: =IF(ISBLANK('April 2015'!A28),"",IF(ISTEXT('April 2015'!A28),0,'April 2015'!A28)) | B24: =IF(ISBLANK('April 2015'!F28),"",IF(ISTEXT('April 2015'!F28),0,'April 2015'!F28))
A25: =IF(ISBLANK('April 2015'!A29),"",IF(ISTEXT('April 2015'!A29),0,'April 2015'!A29)) | B25: =IF(ISBLANK('April 2015'!F29),"",IF(ISTEXT('April 2015'!F29),0,'April 2015'!F29)) -> 289.14
A26: =IF(ISBLANK('April 2015'!A33),"",IF(ISTEXT('April 2015'!A33),0,'April 2015'!A33)) -> 417345 | B26: =IF(ISBLANK('April 2015'!F33),"",IF(ISTEXT('April 2015'!F33),0,'April 2015'!F33)) -> 1039.8
A27: =IF(ISBLANK('April 2015'!A34),"",IF(ISTEXT('April 2015'!A34),0,'April 2015'!A34)) | B27: =IF(ISBLANK('April 2015'!F34),"",IF(ISTEXT('April 2015'!F34),0,'April 2015'!F34)) -> 1142.4
A28: =IF(ISBLANK('April 2015'!A35),"",IF(ISTEXT('April 2015'!A35),0,'April 2015'!A35)) | B28: =IF(ISBLANK('April 2015'!F35),"",IF(ISTEXT('April 2015'!F35),0,'April 2015'!F35))
A29: =IF(ISBLANK('April 2015'!A36),"",IF(ISTEXT('April 2015'!A36),0,'April 2015'!A36)) -> 417748 | B29: =IF(ISBLANK('April 2015'!F36),"",IF(ISTEXT('April 2015'!F36),0,'April 2015'!F36)) -> 5525.5
A30: =IF(ISBLANK('April 2015'!A37),"",IF(ISTEXT('April 2015'!A37),0,'April 2015'!A37)) | B30: =IF(ISBLANK('April 2015'!F37),"",IF(ISTEXT('April 2015'!F37),0,'April 2015'!F37))
A31: =IF(ISBLANK('April 2015'!A41),"",IF(ISTEXT('April 2015'!A41),0,'April 2015'!A41)) -> 416560 | B31: =IF(ISBLANK('April 2015'!F41),"",IF(ISTEXT('April 2015'!F41),0,'April 2015'!F41)) -> 618.5
A32: =IF(ISBLANK('April 2015'!A45),"",IF(ISTEXT('April 2015'!A45),0,'April 2015'!A45)) -> 417749 | B32: =IF(ISBLANK('April 2015'!F45),"",IF(ISTEXT('April 2015'!F45),0,'April 2015'!F45)) -> 1800
A33: =IF(ISBLANK('April 2015'!A46),"",IF(ISTEXT('April 2015'!A46),0,'April 2015'!A46)) | B33: =IF(ISBLANK('April 2015'!F46),"",IF(ISTEXT('April 2015'!F46),0,'April 2015'!F46)) -> 750
A34: =IF(ISBLANK('April 2015'!A47),"",IF(ISTEXT('April 2015'!A47),0,'April 2015'!A47)) | B34: =IF(ISBLANK('April 2015'!F47),"",IF(ISTEXT('April 2015'!F47),0,'April 2015'!F47)) -> 750
A35: =IF(ISBLANK('April 2015'!A51),"",IF(ISTEXT('April 2015'!A51),0,'April 2015'!A51)) -> 416916 | B35: =IF(ISBLANK('April 2015'!F51),"",IF(ISTEXT('April 2015'!F51),0,'April 2015'!F51)) -> 10172.03
A36: =IF(ISBLANK('April 2015'!A52),"",IF(ISTEXT('April 2015'!A52),0,'April 2015'!A52)) | B36: =IF(ISBLANK('April 2015'!F52),"",IF(ISTEXT('April 2015'!F52),0,'April 2015'!F52))
A37: =IF(ISBLANK('April 2015'!A56),"",IF(ISTEXT('April 2015'!A56),0,'April 2015'!A56)) -> 416561 | B37: =IF(ISBLANK('April 2015'!F56),"",IF(ISTEXT('April 2015'!F56),0,'April 2015'!F56)) -> 1215.24
A38: =IF(ISBLANK('April 2015'!A57),"",IF(ISTEXT('April 2015'!A57),0,'April 2015'!A57)) -> 417750 | B38: =IF(ISBLANK('April 2015'!F57),"",IF(ISTEXT('April 2015'!F57),0,'April 2015'!F57)) -> 3198
A39: =IF(ISBLANK('April 2015'!A61),"",IF(ISTEXT('April 2015'!A61),0,'April 2015'!A61)) -> 416562 | B39: =IF(ISBLANK('April 2015'!F61),"",IF(ISTEXT('April 2015'!F61),0,'April 2015'!F61)) -> 340
A40: =IF(ISBLANK('April 2015'!A62),"",IF(ISTEXT('April 2015'!A62),0,'April 2015'!A62)) | B40: =IF(ISBLANK('April 2015'!F62),"",IF(ISTEXT('April 2015'!F62),0,'April 2015'!F62))
A41: =IF(ISBLANK('April 2015'!A63),"",IF(ISTEXT('April 2015'!A63),0,'April 2015'!A63)) | B41: =IF(ISBLANK('April 2015'!F63),"",IF(ISTEXT('April 2015'!F63),0,'April 2015'!F63))
A42: =IF(ISBLANK('April 2015'!A67),"",IF(ISTEXT('April 2015'!A67),0,'April 2015'!A67)) -> 416563 | B42: =IF(ISBLANK('April 2015'!F67),"",IF(ISTEXT('April 2015'!F67),0,'April 2015'!F67)) -> 175
A43: =IF(ISBLANK('April 2015'!A71),"",IF(ISTEXT('April 2015'!A71),0,'April 2015'!A71)) -> 416564 | B43: =IF(ISBLANK('April 2015'!F71),"",IF(ISTEXT('April 2015'!F71),0,'April 2015'!F71)) -> 102.3
A44: =IF(ISBLANK('April 2015'!A72),"",IF(ISTEXT('April 2015'!A72),0,'April 2015'!A72)) -> 416565 | B44: =IF(ISBLANK('April 2015'!F72),"",IF(ISTEXT('April 2015'!F72),0,'April 2015'!F72)) -> 54.4
A45: =IF(ISBLANK('April 2015'!A76),"",IF(ISTEXT('April 2015'!A76),0,'April 2015'!A76)) -> 416566 | B45: =IF(ISBLANK('April 2015'!F76),"",IF(ISTEXT('April 2015'!F76),0,'April 2015'!F76)) -> 50
A46: =IF(ISBLANK('April 2015'!A77),"",IF(ISTEXT('April 2015'!A77),0,'April 2015'!A77)) -> 416917 | B46: =IF(ISBLANK('April 2015'!F77),"",IF(ISTEXT('April 2015'!F77),0,'April 2015'!F77)) -> 4285.01
A47: =IF(ISBLANK('April 2015'!A78),"",IF(ISTEXT('April 2015'!A78),0,'April 2015'!A78)) | B47: =IF(ISBLANK('April 2015'!F78),"",IF(ISTEXT('April 2015'!F78),0,'April 2015'!F78))
A48: =IF(ISBLANK('April 2015'!A79),"",IF(ISTEXT('April 2015'!A79),0,'April 2015'!A79)) -> 417346 | B48: =IF(ISBLANK('April 2015'!F79),"",IF(ISTEXT('April 2015'!F79),0,'April 2015'!F79)) -> 11642.39
...
