Workbook

Sheet May 2015
A1: Check Number | C1: Check Date | D1: Vendor Name | E1: Transaction Amount | S1: Description | T1: Account Name | U1: Department | V1: Division | W1: Object of Expenditure | X1: Project Number
A2: 418162 | C2: 42129 | D2: BOB TOMES FORD | E2: 667.28 | S2: BLANKET PURCHASE ORDER | T2: AUTO MAINTENANCE | U2: EQUIPMENT SERVICES | V2: EQUIP SERV-SHARED | W2: BLANKET PURCHASE ORDER
E8: -64.35 | S8: inv# 5423627 | T8: AUTO MAINTENANCE | U8: EQUIPMENT SERVICES | V8: EQUIP SERV-SHARED | W8: inv# 5423627
E9: 64.35 | S9: inv# 5424065 | T9: AUTO MAINTENANCE | U9: EQUIPMENT SERVICES | V9: EQUIP SERV-SHARED | W9: inv# 5424065
A10: 418875 | C10: 42137 | E10: 1524.61 | S10: BLANKET PURCHASE ORDER | T10: AUTO MAINTENANCE | U10: EQUIPMENT SERVICES | V10: EQUIP SERV-SHARED | W10: BLANKET PURCHASE ORDER
E21: -42.24 | S21: INV# 5424299 | T21: AUTO MAINTENANCE | U21: EQUIPMENT SERVICES | V21: EQUIP SERV-SHARED | W21: INV# 5424299
E22: -50 | S22: INV# 5424433 | T22: AUTO MAINTENANCE | U22: EQUIPMENT SERVICES | V22: EQUIP SERV-SHARED | W22: INV# 5424433
E23: -35 | S23: INV# 5424565 | T23: AUTO MAINTENANCE | U23: EQUIPMENT SERVICES | V23: EQUIP SERV-SHARED | W23: INV# 5424565
A24: 418962 | C24: 42150 | E24: 1070.68 | S24: BLANKET PURCHASE ORDER | T24: AUTO MAINTENANCE | U24: EQUIPMENT SERVICES | V24: EQUIP SERV-SHARED | W24: BLANKET PURCHASE ORDER
K31: =SUM(hList_Frame_1!B1:B28) -> 3135.33
A33: 418508 | C33: 42136 | D33: BOB BARKER CO | E33: 1044 | S33: CLOTHING AND APPAREL | T33: DETENTION SUPPLIES | U33: SHERIFF'S OFFICE | V33: JAIL OPS-ADMIN | W33: CLOTHING AND APPAREL
A34: 418963 | C34: 42150 | E34: 133.4 | S34: CLOTHING AND APPAREL | T34: DETENTION SUPPLIES | U34: JUVENILE PROBATION | V34: JUV DET -ADMIN | W34: CLOTHING AND APPAREL
E37: 1573.75 | S37: FURNITURE, NON-OFFICE | T37: JANITORIAL SUPPLIES | U37: SHERIFF'S OFFICE | V37: JAIL OPS-ADMIN | W37: FURNITURE, NON-OFFICE
K39: =SUM(hList_Frame_1!B29:B33) -> 2751.15
A41: 418163 | C41: 42129 | D41: ECOLAB INC | E41: 688 | S41: JANITORIAL SUPPLIES-GEN. | T41: JANITORIAL SUPPLIES | U41: JUVENILE PROBATION | V41: JUV DET -ADMIN | W41: JANITORIAL SUPPLIES-GEN.
M43: =SUM(hList_Frame_1!B34:B34) -> 688
A45: 418164 | C45: 42129 | D45: GIBBS, GREGG M PC | E45: 3312.5 | S45: 417-30051-14 | T45: COURT APPOINTED ATTORNEY | U45: INDIGENT DEFENSE | V45: INDIGENT DEFENSE | W45: 417-30051-14 | X45: ID417A
A46: 418881 | C46: 42138 | E46: 8823.08 | S46: 199-01329-15 | T46: COURT APPOINTED ATTORNEY | U46: INDIGENT DEFENSE | V46: INDIGENT DEFENSE | W46: 199-01329-15 | X46: ID199F
T47: MISCELLANEOUS | U47: INDIGENT DEFENSE | V47: INDIGENT DEFENSE | X47: ID199F
A48: 418964 | C48: 42150 | E48: 750 | S48: 417-70106-14 | T48: COURT APPOINTED ATTORNEY | U48: INDIGENT DEFENSE | V48: JUVENILE COURT-IND DEF | W48: 417-70106-14 | X48: ID417J
I50: =SUM(hList_Frame_1!B35:B38) -> 12885.58
A52: 418165 | C52: 42129 | D52: HEIDENHEIMER, MARK | E52: 450 | S52: 004-81490-2015 | T52: COURT APPOINTED ATTORNEY | U52: INDIGENT DEFENSE | V52: INDIGENT DEFENSE | W52: 004-81490-2015 | X52: IDCL4M
M54: =SUM(hList_Frame_1!B39:B39) -> 450
A56: 418509 | C56: 42136 | D56: POLLOCK PAPER DISTRIBUTORS | E56: 1567.02 | S56: PAPER/PLASTIC, DISPOSABLE | T56: JANITORIAL SUPPLIES | W56: PAPER/PLASTIC, DISPOSABLE
K58: =SUM(hList_Frame_1!B40:B40) -> 1567.02
A60: 418166 | C60: 42129 | D60: PENGAD INC | E60: 168.74 | S60: OFFICE SUPPLIES (GENERAL) | T60: OFFICE SUPPLIES | U60: COUNTY COURTS | V60: CCL1-ADMIN | W60: OFFICE SUPPLIES (GENERAL)
A61: 418510 | C61: 42136 | E61: 12.8 | S61: OFFICE SUPPLIES (GENERAL) | T61: OFFICE SUPPLIES | U61: DISTRICT COURTS | V61: DIST CT-SHARED | W61: OFFICE SUPPLIES (GENERAL)
M63: =SUM(hList_Frame_1!B41:B42) -> 181.54
A65: 418965 | C65: 42150 | D65: THOMASON TIRE INC | E65: 900 | S65: TIRES AND TUBES | T65: PARTS | W65: TIRES AND TUBES
M67: =SUM(hList_Frame_1!B43:B43) -> 900
A69: 418966 | C69: 42150 | D69: TEXOMA FIRE EQUIPMENT INC | E69: 474 | S69: PW/CONSTRUCT/RELATED SERV | T69: FIRE SYSTEM CERTIFICATION | U69: FACILITIES & PARKS | V69: BUILD SUP-SHARED | W69: PW/CONSTRUCT/RELATED SERV | X69: B03002
M71: =SUM(hList_Frame_1!B44:B44) -> 474
A73: 418511 | C73: 42136 | D73: WEST PUBLISHING CORPORATION | E73: 1248 | S73: MISC PROFESSIONAL SERVICE | T73: LIBRARY UPDATES | U73: BUDGET | V73: LAW LIBRARY-ADMIN | W73: MISC PROFESSIONAL SERVICE
E74: 82 | S74: PUBLICATIONS/AUDIOVISUALS | T74: DUES & SUBSCRIPTIONS | U74: UNALLOCATED | V74: NON-DEPARTMENTAL | W74: PUBLICATIONS/AUDIOVISUALS
A76: 418967 | C76: 42150 | E76: 16332.4 | S76: MISC PROFESSIONAL SERVICE | T76: COMMUNICATION LINE LEASE | U76: BUDGET | V76: LAW LIBRARY-ADMIN | W76: MISC PROFESSIONAL SERVICE
T77: DUES & SUBSCRIPTIONS | U77: CONSTABLES | V77: C3-ADMIN
T78: LIBRARY BOOKS | U78: COUNTY COURTS | V78: CCL1-ADMIN
U79: DISTRICT ATTORNEY | V79: DA-ADMIN
T81: LIBRARY UPDATES | U81: BUDGET | V81: LAW LIBRARY-ADMIN
U82: DISTRICT COURTS | V82: 296TH DC-ADMIN
...

Sheet hList_Frame_1
A1: =IF(ISBLANK('May 2015'!A2),"",IF(ISTEXT('May 2015'!A2),0,'May 2015'!A2)) -> 418162 | B1: =IF(ISBLANK('May 2015'!E2),"",IF(ISTEXT('May 2015'!E2),0,'May 2015'!E2)) -> 667.28
A2: =IF(ISBLANK('May 2015'!A3),"",IF(ISTEXT('May 2015'!A3),0,'May 2015'!A3)) | B2: =IF(ISBLANK('May 2015'!E3),"",IF(ISTEXT('May 2015'!E3),0,'May 2015'!E3))
A3: =IF(ISBLANK('May 2015'!A4),"",IF(ISTEXT('May 2015'!A4),0,'May 2015'!A4)) | B3: =IF(ISBLANK('May 2015'!E4),"",IF(ISTEXT('May 2015'!E4),0,'May 2015'!E4))
A4: =IF(ISBLANK('May 2015'!A5),"",IF(ISTEXT('May 2015'!A5),0,'May 2015'!A5)) | B4: =IF(ISBLANK('May 2015'!E5),"",IF(ISTEXT('May 2015'!E5),0,'May 2015'!E5))
A5: =IF(ISBLANK('May 2015'!A6),"",IF(ISTEXT('May 2015'!A6),0,'May 2015'!A6)) | B5: =IF(ISBLANK('May 2015'!E6),"",IF(ISTEXT('May 2015'!E6),0,'May 2015'!E6))
A6: =IF(ISBLANK('May 2015'!A7),"",IF(ISTEXT('May 2015'!A7),0,'May 2015'!A7)) | B6: =IF(ISBLANK('May 2015'!E7),"",IF(ISTEXT('May 2015'!E7),0,'May 2015'!E7))
A7: =IF(ISBLANK('May 2015'!A8),"",IF(ISTEXT('May 2015'!A8),0,'May 2015'!A8)) | B7: =IF(ISBLANK('May 2015'!E8),"",IF(ISTEXT('May 2015'!E8),0,'May 2015'!E8)) -> -64.35
A8: =IF(ISBLANK('May 2015'!A9),"",IF(ISTEXT('May 2015'!A9),0,'May 2015'!A9)) | B8: =IF(ISBLANK('May 2015'!E9),"",IF(ISTEXT('May 2015'!E9),0,'May 2015'!E9)) -> 64.35
A9: =IF(ISBLANK('May 2015'!A10),"",IF(ISTEXT('May 2015'!A10),0,'May 2015'!A10)) -> 418875 | B9: =IF(ISBLANK('May 2015'!E10),"",IF(ISTEXT('May 2015'!E10),0,'May 2015'!E10)) -> 1524.61
A10: =IF(ISBLANK('May 2015'!A11),"",IF(ISTEXT('May 2015'!A11),0,'May 2015'!A11)) | B10: =IF(ISBLANK('May 2015'!E11),"",IF(ISTEXT('May 2015'!E11),0,'May 2015'!E11))
A11: =IF(ISBLANK('May 2015'!A12),"",IF(ISTEXT('May 2015'!A12),0,'May 2015'!A12)) | B11: =IF(ISBLANK('May 2015'!E12),"",IF(ISTEXT('May 2015'!E12),0,'May 2015'!E12))
A12: =IF(ISBLANK('May 2015'!A13),"",IF(ISTEXT('May 2015'!A13),0,'May 2015'!A13)) | B12: =IF(ISBLANK('May 2015'!E13),"",IF(ISTEXT('May 2015'!E13),0,'May 2015'!E13))
... A28: =IF(ISBLANK('May 2015'!A29),"",IF(ISTEXT('May 2015'!A29),0,'May 2015'!A29)) | B28: =IF(ISBLANK('May 2015'!E29),"",IF(ISTEXT('May 2015'!E29),0,'May 2015'!E29))
A29: =IF(ISBLANK('May 2015'!A33),"",IF(ISTEXT('May 2015'!A33),0,'May 2015'!A33)) -> 418508 | B29: =IF(ISBLANK('May 2015'!E33),"",IF(ISTEXT('May 2015'!E33),0,'May 2015'!E33)) -> 1044
A30: =IF(ISBLANK('May 2015'!A34),"",IF(ISTEXT('May 2015'!A34),0,'May 2015'!A34)) -> 418963 | B30: =IF(ISBLANK('May 2015'!E34),"",IF(ISTEXT('May 2015'!E34),0,'May 2015'!E34)) -> 133.4
A31: =IF(ISBLANK('May 2015'!A35),"",IF(ISTEXT('May 2015'!A35),0,'May 2015'!A35)) | B31: =IF(ISBLANK('May 2015'!E35),"",IF(ISTEXT('May 2015'!E35),0,'May 2015'!E35))
A32: =IF(ISBLANK('May 2015'!A36),"",IF(ISTEXT('May 2015'!A36),0,'May 2015'!A36)) | B32: =IF(ISBLANK('May 2015'!E36),"",IF(ISTEXT('May 2015'!E36),0,'May 2015'!E36))
A33: =IF(ISBLANK('May 2015'!A37),"",IF(ISTEXT('May 2015'!A37),0,'May 2015'!A37)) | B33: =IF(ISBLANK('May 2015'!E37),"",IF(ISTEXT('May 2015'!E37),0,'May 2015'!E37)) -> 1573.75
A34: =IF(ISBLANK('May 2015'!A41),"",IF(ISTEXT('May 2015'!A41),0,'May 2015'!A41)) -> 418163 | B34: =IF(ISBLANK('May 2015'!E41),"",IF(ISTEXT('May 2015'!E41),0,'May 2015'!E41)) -> 688
A35: =IF(ISBLANK('May 2015'!A45),"",IF(ISTEXT('May 2015'!A45),0,'May 2015'!A45)) -> 418164 | B35: =IF(ISBLANK('May 2015'!E45),"",IF(ISTEXT('May 2015'!E45),0,'May 2015'!E45)) -> 3312.5
A36: =IF(ISBLANK('May 2015'!A46),"",IF(ISTEXT('May 2015'!A46),0,'May 2015'!A46)) -> 418881 | B36: =IF(ISBLANK('May 2015'!E46),"",IF(ISTEXT('May 2015'!E46),0,'May 2015'!E46)) -> 8823.08
A37: =IF(ISBLANK('May 2015'!A47),"",IF(ISTEXT('May 2015'!A47),0,'May 2015'!A47)) | B37: =IF(ISBLANK('May 2015'!E47),"",IF(ISTEXT('May 2015'!E47),0,'May 2015'!E47))
A38: =IF(ISBLANK('May 2015'!A48),"",IF(ISTEXT('May 2015'!A48),0,'May 2015'!A48)) -> 418964 | B38: =IF(ISBLANK('May 2015'!E48),"",IF(ISTEXT('May 2015'!E48),0,'May 2015'!E48)) -> 750
A39: =IF(ISBLANK('May 2015'!A52),"",IF(ISTEXT('May 2015'!A52),0,'May 2015'!A52)) -> 418165 | B39: =IF(ISBLANK('May 2015'!E52),"",IF(ISTEXT('May 2015'!E52),0,'May 2015'!E52)) -> 450
A40: =IF(ISBLANK('May 2015'!A56),"",IF(ISTEXT('May 2015'!A56),0,'May 2015'!A56)) -> 418509 | B40: =IF(ISBLANK('May 2015'!E56),"",IF(ISTEXT('May 2015'!E56),0,'May 2015'!E56)) -> 1567.02
A41: =IF(ISBLANK('May 2015'!A60),"",IF(ISTEXT('May 2015'!A60),0,'May 2015'!A60)) -> 418166 | B41: =IF(ISBLANK('May 2015'!E60),"",IF(ISTEXT('May 2015'!E60),0,'May 2015'!E60)) -> 168.74
A42: =IF(ISBLANK('May 2015'!A61),"",IF(ISTEXT('May 2015'!A61),0,'May 2015'!A61)) -> 418510 | B42: =IF(ISBLANK('May 2015'!E61),"",IF(ISTEXT('May 2015'!E61),0,'May 2015'!E61)) -> 12.8
A43: =IF(ISBLANK('May 2015'!A65),"",IF(ISTEXT('May 2015'!A65),0,'May 2015'!A65)) -> 418965 | B43: =IF(ISBLANK('May 2015'!E65),"",IF(ISTEXT('May 2015'!E65),0,'May 2015'!E65)) -> 900
A44: =IF(ISBLANK('May 2015'!A69),"",IF(ISTEXT('May 2015'!A69),0,'May 2015'!A69)) -> 418966 | B44: =IF(ISBLANK('May 2015'!E69),"",IF(ISTEXT('May 2015'!E69),0,'May 2015'!E69)) -> 474
A45: =IF(ISBLANK('May 2015'!A73),"",IF(ISTEXT('May 2015'!A73),0,'May 2015'!A73)) -> 418511 | B45: =IF(ISBLANK('May 2015'!E73),"",IF(ISTEXT('May 2015'!E73),0,'May 2015'!E73)) -> 1248
A46: =IF(ISBLANK('May 2015'!A74),"",IF(ISTEXT('May 2015'!A74),0,'May 2015'!A74)) | B46: =IF(ISBLANK('May 2015'!E74),"",IF(ISTEXT('May 2015'!E74),0,'May 2015'!E74)) -> 82
A47: =IF(ISBLANK('May 2015'!A75),"",IF(ISTEXT('May 2015'!A75),0,'May 2015'!A75)) | B47: =IF(ISBLANK('May 2015'!E75),"",IF(ISTEXT('May 2015'!E75),0,'May 2015'!E75))
A48: =IF(ISBLANK('May 2015'!A76),"",IF(ISTEXT('May 2015'!A76),0,'May 2015'!A76)) -> 418967 | B48: =IF(ISBLANK('May 2015'!E76),"",IF(ISTEXT('May 2015'!E76),0,'May 2015'!E76)) -> 16332.4
A49: =IF(ISBLANK('May 2015'!A77),"",IF(ISTEXT('May 2015'!A77),0,'May 2015'!A77)) | B49: =IF(ISBLANK('May 2015'!E77),"",IF(ISTEXT('May 2015'!E77),0,'May 2015'!E77))
A50: =IF(ISBLANK('May 2015'!A78),"",IF(ISTEXT('May 2015'!A78),0,'May 2015'!A78)) | B50: =IF(ISBLANK('May 2015'!E78),"",IF(ISTEXT('May 2015'!E78),0,'May 2015'!E78))
A51: =IF(ISBLANK('May 2015'!A79),"",IF(ISTEXT('May 2015'!A79),0,'May 2015'!A79)) | B51: =IF(ISBLANK('May 2015'!E79),"",IF(ISTEXT('May 2015'!E79),0,'May 2015'!E79))
A52: =IF(ISBLANK('May 2015'!A80),"",IF(ISTEXT('May 2015'!A80),0,'May 2015'!A80)) | B52: =IF(ISBLANK('May 2015'!E80),"",IF(ISTEXT('May 2015'!E80),0,'May 2015'!E80))
A53: =IF(ISBLANK('May 2015'!A81),"",IF(ISTEXT('May 2015'!A81),0,'May 2015'!A81)) | B53: =IF(ISBLANK('May 2015'!E81),"",IF(ISTEXT('May 2015'!E81),0,'May 2015'!E81))
A54: =IF(ISBLANK('May 2015'!A82),"",IF(ISTEXT('May 2015'!A82),0,'May 2015'!A82)) | B54: =IF(ISBLANK('May 2015'!E82),"",IF(ISTEXT('May 2015'!E82),0,'May 2015'!E82))
A55: =IF(ISBLANK('May 2015'!A83),"",IF(ISTEXT('May 2015'!A83),0,'May 2015'!A83)) | B55: =IF(ISBLANK('May 2015'!E83),"",IF(ISTEXT('May 2015'!E83),0,'May 2015'!E83)) -> 96
...
