Workbook

Sheet May 2016
A1: Check Number | D1: Check Date | E1: Vendor Name | G1: Transaction Amount | V1: Description | W1: Account Name | X1: Department | Y1: Division | Z1: Object of Expenditure | AB1: Project Number
A2: 436737 | D2: 42493 | E2: BOB TOMES FORD | G2: 396.41 | V2: BLANKET PURCHASE ORDER | W2: AUTO MAINTENANCE | X2: EQUIPMENT SERVICES | Y2: EQUIP SERV-SHARED | Z2: BLANKET PURCHASE ORDER
A8: 437398 | D8: 42507 | G8: 723.03 | V8: AUTO/TRUCK MAINT. ITEMS | W8: PARTS | Z8: AUTO/TRUCK MAINT. ITEMS
G9: 175.74 | V9: BLANKET PURCHASE ORDER | W9: AUTO MAINTENANCE | X9: EQUIPMENT SERVICES | Y9: EQUIP SERV-SHARED | Z9: BLANKET PURCHASE ORDER
A10: 437879 | D10: 42521 | G10: 473.78 | V10: AUTO/TRUCK MAINT. ITEMS | W10: PARTS | Z10: AUTO/TRUCK MAINT. ITEMS
G11: 377.65 | V11: BLANKET PURCHASE ORDER | W11: AUTO MAINTENANCE | X11: EQUIPMENT SERVICES | Y11: EQUIP SERV-SHARED | Z11: BLANKET PURCHASE ORDER
N15: =SUM(hList_Frame_1!B1:B12) -> 2146.61
A17: 437049 | D17: 42500 | E17: BOB BARKER COMPANY, INC | G17: 4239 | V17: CLOTHING AND APPAREL | W17: DETENTION SUPPLIES | X17: SHERIFF'S OFFICE | Y17: JAIL OPS-ADMIN | Z17: CLOTHING AND APPAREL
A19: 437880 | D19: 42521 | G19: 1044 | V19: CLOTHING AND APPAREL | W19: DETENTION SUPPLIES | X19: SHERIFF'S OFFICE | Y19: JAIL OPS-ADMIN | Z19: CLOTHING AND APPAREL
G20: 381 | V20: PERSONAL HYGIENE&GROOMING | W20: DETENTION SUPPLIES | X20: JUVENILE PROBATION | Y20: JUV DET -ADMIN | Z20: PERSONAL HYGIENE&GROOMING
N22: =SUM(hList_Frame_1!B13:B16) -> 5664
A24: 436738 | D24: 42493 | E24: ECOLAB INC | G24: 2510 | V24: JANITORIAL SUPPLIES-GEN. | W24: DETENTION SUPPLIES | X24: SHERIFF'S OFFICE | Y24: JAIL OPS-ADMIN | Z24: JANITORIAL SUPPLIES-GEN.
G25: 472 | V25: LAUNDRY/DRY CLEAN SUPPLY | W25: DETENTION SUPPLIES | X25: SHERIFF'S OFFICE | Y25: JAIL OPS-ADMIN | Z25: LAUNDRY/DRY CLEAN SUPPLY
A26: 437050 | D26: 42500 | G26: 166.75 | V26: JANITORIAL SUPPLIES-GEN. | W26: KITCHEN SUPPLIES | X26: SHERIFF'S OFFICE | Y26: JAIL CAFE-ADMIN | Z26: JANITORIAL SUPPLIES-GEN.
A27: 437881 | D27: 42521 | G27: 1097.6 | V27: JANITORIAL SUPPLIES-GEN. | W27: JANITORIAL SUPPLIES | X27: JUVENILE PROBATION | Y27: JUV DET -ADMIN | Z27: JANITORIAL SUPPLIES-GEN.
G28: 256.4 | V28: SUPPLIES | W28: JANITORIAL SUPPLIES | X28: MEDICAL EXAMINER | Y28: ME-ADMIN | Z28: SUPPLIES
N30: =SUM(hList_Frame_1!B17:B21) -> 4502.75
A32: 436739 | D32: 42493 | E32: MATTHEW BENDER & CO INC | G32: 503.67 | V32: MISC PROFESSIONAL SERVICE | W32: LIBRARY UPDATES | X32: BUDGET | Y32: LAW LIBRARY-ADMIN | Z32: MISC PROFESSIONAL SERVICE
A33: 437399 | D33: 42507 | G33: 250.03 | V33: MISC PROFESSIONAL SERVICE | W33: LIBRARY UPDATES | X33: BUDGET | Y33: LAW LIBRARY-ADMIN | Z33: MISC PROFESSIONAL SERVICE
A34: 437400 | D34: 42507 | G34: 128.53 | V34: PUBLICATIONS/AUDIOVISUALS | W34: OFFICE SUPPLIES | X34: CONSTABLES | Y34: C4-ADMIN | Z34: PUBLICATIONS/AUDIOVISUALS
A35: 437882 | D35: 42521 | G35: 125.43 | V35: MISC PROFESSIONAL SERVICE | W35: LIBRARY UPDATES | X35: BUDGET | Y35: LAW LIBRARY-ADMIN | Z35: MISC PROFESSIONAL SERVICE
N37: =SUM(hList_Frame_1!B22:B25) -> 1007.66
A39: 437401 | D39: 42507 | E39: GIBBS, GREGG M PC | G39: 6500 | V39: 296-30131-14 | W39: COURT APPOINTED ATTORNEY | X39: COURT APPT REPRESENTATION | Y39: COURT APPT REPRESENTATION | Z39: 296-30131-14 | AB39: ID296A
A41: 437883 | D41: 42521 | G41: 1356.25 | V41: 199-30085-15 | W41: COURT APPOINTED ATTORNEY | X41: COURT APPT REPRESENTATION | Y41: COURT APPT REPRESENTATION | Z41: 199-30085-15 | AB41: ID199A
G42: 675 | V42: 416-30011-15 | W42: COURT APPOINTED ATTORNEY | X42: COURT APPT REPRESENTATION | Y42: COURT APPT REPRESENTATION | Z42: 416-30011-15 | AB42: ID416A
N44: =SUM(hList_Frame_1!B26:B28) -> 8531.25
A46: 436740 | D46: 42493 | E46: HEIDENHEIMER, MARK | G46: 450 | V46: 001-81324-16 | W46: COURT APPOINTED ATTORNEY | X46: COURT APPT REPRESENTATION | Y46: COURT APPT REPRESENTATION | Z46: 001-81324-16 | AB46: IDCL1N
A47: 437051 | D47: 42500 | G47: 450 | V47: 002-80202-16 | W47: COURT APPOINTED ATTORNEY | X47: COURT APPT REPRESENTATION | Y47: COURT APPT REPRESENTATION | Z47: 002-80202-16 | AB47: IDCL2M
G48: 450 | V48: 002-81299-14 | W48: COURT APPOINTED ATTORNEY | X48: COURT APPT REPRESENTATION | Y48: COURT APPT REPRESENTATION | Z48: 002-81299-14 | AB48: IDCL2M
A49: 437884 | D49: 42521 | G49: 1250 | V49: 001-88592-15 | W49: COURT APPOINTED ATTORNEY | X49: COURT APPT REPRESENTATION | Y49: COURT APPT REPRESENTATION | Z49: 001-88592-15 | AB49: IDCL1M
N51: =SUM(hList_Frame_1!B29:B32) -> 2600
A53: 437052 | D53: 42500 | E53: POLLOCK PAPER DISTRIBUTORS | G53: 381.6 | V53: SUPPLIES | W53: JANITORIAL SUPPLIES | X53: FACILITIES & PARKS | Y53: BUILD SUP-SHARED | Z53: SUPPLIES | AB53: B17001
A54: 437402 | D54: 42507 | G54: 1098.4 | V54: JANITORIAL SUPPLIES-GEN. | W54: JANITORIAL SUPPLIES | X54: SHERIFF'S OFFICE | Y54: JAIL OPS-ADMIN | Z54: JANITORIAL SUPPLIES-GEN.
N56: =SUM(hList_Frame_1!B33:B34) -> 1480
A58: 436741 | D58: 42493 | E58: STORAGE EQUIPMENT CO | G58: 22653 | V58: FURNITURE, OFFICE | W58: BUILDING MAINTENANCE | X58: FACILITIES & PARKS | Y58: FAC-SERVICE CENTER | Z58: FURNITURE, OFFICE
K60: =SUM(hList_Frame_1!B35:B35) -> 22653
A62: 437403 | D62: 42507 | E62: THOMASON TIRE INC | G62: 239.95 | V62: BLANKET PURCHASE ORDER | W62: HEAVY EQUIPMENT REPAIR | X62: EQUIPMENT SERVICES | Y62: EQUIP SERV-SHARED | Z62: BLANKET PURCHASE ORDER
Q65: =SUM(hList_Frame_1!B36:B37) -> 239.95
A67: 437885 | D67: 42521 | E67: TEXOMA FIRE EQUIPMENT INC | G67: 187 | V67: PW/CONSTRUCT/RELATED SERV | W67: FIRE SYSTEM CERTIFICATION | X67: FACILITIES & PARKS | Y67: BUILD SUP-SHARED | Z67: PW/CONSTRUCT/RELATED SERV | AB67: B03002
Q69: =SUM(hList_Frame_1!B38:B38) -> 187
...

Sheet hList_Frame_1
A1: =IF(ISBLANK('May 2016'!A2),"",IF(ISTEXT('May 2016'!A2),0,'May 2016'!A2)) -> 436737 | B1: =IF(ISBLANK('May 2016'!G2),"",IF(ISTEXT('May 2016'!G2),0,'May 2016'!G2)) -> 396.41
A2: =IF(ISBLANK('May 2016'!A3),"",IF(ISTEXT('May 2016'!A3),0,'May 2016'!A3)) | B2: =IF(ISBLANK('May 2016'!G3),"",IF(ISTEXT('May 2016'!G3),0,'May 2016'!G3))
A3: =IF(ISBLANK('May 2016'!A4),"",IF(ISTEXT('May 2016'!A4),0,'May 2016'!A4)) | B3: =IF(ISBLANK('May 2016'!G4),"",IF(ISTEXT('May 2016'!G4),0,'May 2016'!G4))
A4: =IF(ISBLANK('May 2016'!A5),"",IF(ISTEXT('May 2016'!A5),0,'May 2016'!A5)) | B4: =IF(ISBLANK('May 2016'!G5),"",IF(ISTEXT('May 2016'!G5),0,'May 2016'!G5))
A5: =IF(ISBLANK('May 2016'!A6),"",IF(ISTEXT('May 2016'!A6),0,'May 2016'!A6)) | B5: =IF(ISBLANK('May 2016'!G6),"",IF(ISTEXT('May 2016'!G6),0,'May 2016'!G6))
A6: =IF(ISBLANK('May 2016'!A7),"",IF(ISTEXT('May 2016'!A7),0,'May 2016'!A7)) | B6: =IF(ISBLANK('May 2016'!G7),"",IF(ISTEXT('May 2016'!G7),0,'May 2016'!G7))
A7: =IF(ISBLANK('May 2016'!A8),"",IF(ISTEXT('May 2016'!A8),0,'May 2016'!A8)) -> 437398 | B7: =IF(ISBLANK('May 2016'!G8),"",IF(ISTEXT('May 2016'!G8),0,'May 2016'!G8)) -> 723.03
A8: =IF(ISBLANK('May 2016'!A9),"",IF(ISTEXT('May 2016'!A9),0,'May 2016'!A9)) | B8: =IF(ISBLANK('May 2016'!G9),"",IF(ISTEXT('May 2016'!G9),0,'May 2016'!G9)) -> 175.74
A9: =IF(ISBLANK('May 2016'!A10),"",IF(ISTEXT('May 2016'!A10),0,'May 2016'!A10)) -> 437879 | B9: =IF(ISBLANK('May 2016'!G10),"",IF(ISTEXT('May 2016'!G10),0,'May 2016'!G10)) -> 473.78
A10: =IF(ISBLANK('May 2016'!A11),"",IF(ISTEXT('May 2016'!A11),0,'May 2016'!A11)) | B10: =IF(ISBLANK('May 2016'!G11),"",IF(ISTEXT('May 2016'!G11),0,'May 2016'!G11)) -> 377.65
A11: =IF(ISBLANK('May 2016'!A12),"",IF(ISTEXT('May 2016'!A12),0,'May 2016'!A12)) | B11: =IF(ISBLANK('May 2016'!G12),"",IF(ISTEXT('May 2016'!G12),0,'May 2016'!G12))
A12: =IF(ISBLANK('May 2016'!A13),"",IF(ISTEXT('May 2016'!A13),0,'May 2016'!A13)) | B12: =IF(ISBLANK('May 2016'!G13),"",IF(ISTEXT('May 2016'!G13),0,'May 2016'!G13))
A13: =IF(ISBLANK('May 2016'!A17),"",IF(ISTEXT('May 2016'!A17),0,'May 2016'!A17)) -> 437049 | B13: =IF(ISBLANK('May 2016'!G17),"",IF(ISTEXT('May 2016'!G17),0,'May 2016'!G17)) -> 4239
A14: =IF(ISBLANK('May 2016'!A18),"",IF(ISTEXT('May 2016'!A18),0,'May 2016'!A18)) | B14: =IF(ISBLANK('May 2016'!G18),"",IF(ISTEXT('May 2016'!G18),0,'May 2016'!G18))
A15: =IF(ISBLANK('May 2016'!A19),"",IF(ISTEXT('May 2016'!A19),0,'May 2016'!A19)) -> 437880 | B15: =IF(ISBLANK('May 2016'!G19),"",IF(ISTEXT('May 2016'!G19),0,'May 2016'!G19)) -> 1044
A16: =IF(ISBLANK('May 2016'!A20),"",IF(ISTEXT('May 2016'!A20),0,'May 2016'!A20)) | B16: =IF(ISBLANK('May 2016'!G20),"",IF(ISTEXT('May 2016'!G20),0,'May 2016'!G20)) -> 381
A17: =IF(ISBLANK('May 2016'!A24),"",IF(ISTEXT('May 2016'!A24),0,'May 2016'!A24)) -> 436738 | B17: =IF(ISBLANK('May 2016'!G24),"",IF(ISTEXT('May 2016'!G24),0,'May 2016'!G24)) -> 2510
A18: =IF(ISBLANK('May 2016'!A25),"",IF(ISTEXT('May 2016'!A25),0,'May 2016'!A25)) | B18: =IF(ISBLANK('May 2016'!G25),"",IF(ISTEXT('May 2016'!G25),0,'May 2016'!G25)) -> 472
A19: =IF(ISBLANK('May 2016'!A26),"",IF(ISTEXT('May 2016'!A26),0,'May 2016'!A26)) -> 437050 | B19: =IF(ISBLANK('May 2016'!G26),"",IF(ISTEXT('May 2016'!G26),0,'May 2016'!G26)) -> 166.75
A20: =IF(ISBLANK('May 2016'!A27),"",IF(ISTEXT('May 2016'!A27),0,'May 2016'!A27)) -> 437881 | B20: =IF(ISBLANK('May 2016'!G27),"",IF(ISTEXT('May 2016'!G27),0,'May 2016'!G27)) -> 1097.6
A21: =IF(ISBLANK('May 2016'!A28),"",IF(ISTEXT('May 2016'!A28),0,'May 2016'!A28)) | B21: =IF(ISBLANK('May 2016'!G28),"",IF(ISTEXT('May 2016'!G28),0,'May 2016'!G28)) -> 256.4
A22: =IF(ISBLANK('May 2016'!A32),"",IF(ISTEXT('May 2016'!A32),0,'May 2016'!A32)) -> 436739 | B22: =IF(ISBLANK('May 2016'!G32),"",IF(ISTEXT('May 2016'!G32),0,'May 2016'!G32)) -> 503.67
A23: =IF(ISBLANK('May 2016'!A33),"",IF(ISTEXT('May 2016'!A33),0,'May 2016'!A33)) -> 437399 | B23: =IF(ISBLANK('May 2016'!G33),"",IF(ISTEXT('May 2016'!G33),0,'May 2016'!G33)) -> 250.03
A24: =IF(ISBLANK('May 2016'!A34),"",IF(ISTEXT('May 2016'!A34),0,'May 2016'!A34)) -> 437400 | B24: =IF(ISBLANK('May 2016'!G34),"",IF(ISTEXT('May 2016'!G34),0,'May 2016'!G34)) -> 128.53
A25: =IF(ISBLANK('May 2016'!A35),"",IF(ISTEXT('May 2016'!A35),0,'May 2016'!A35)) -> 437882 | B25: =IF(ISBLANK('May 2016'!G35),"",IF(ISTEXT('May 2016'!G35),0,'May 2016'!G35)) -> 125.43
A26: =IF(ISBLANK('May 2016'!A39),"",IF(ISTEXT('May 2016'!A39),0,'May 2016'!A39)) -> 437401 | B26: =IF(ISBLANK('May 2016'!G39),"",IF(ISTEXT('May 2016'!G39),0,'May 2016'!G39)) -> 6500
A27: =IF(ISBLANK('May 2016'!A41),"",IF(ISTEXT('May 2016'!A41),0,'May 2016'!A41)) -> 437883 | B27: =IF(ISBLANK('May 2016'!G41),"",IF(ISTEXT('May 2016'!G41),0,'May 2016'!G41)) -> 1356.25
A28: =IF(ISBLANK('May 2016'!A42),"",IF(ISTEXT('May 2016'!A42),0,'May 2016'!A42)) | B28: =IF(ISBLANK('May 2016'!G42),"",IF(ISTEXT('May 2016'!G42),0,'May 2016'!G42)) -> 675
A29: =IF(ISBLANK('May 2016'!A46),"",IF(ISTEXT('May 2016'!A46),0,'May 2016'!A46)) -> 436740 | B29: =IF(ISBLANK('May 2016'!G46),"",IF(ISTEXT('May 2016'!G46),0,'May 2016'!G46)) -> 450
A30: =IF(ISBLANK('May 2016'!A47),"",IF(ISTEXT('May 2016'!A47),0,'May 2016'!A47)) -> 437051 | B30: =IF(ISBLANK('May 2016'!G47),"",IF(ISTEXT('May 2016'!G47),0,'May 2016'!G47)) -> 450
A31: =IF(ISBLANK('May 2016'!A48),"",IF(ISTEXT('May 2016'!A48),0,'May 2016'!A48)) | B31: =IF(ISBLANK('May 2016'!G48),"",IF(ISTEXT('May 2016'!G48),0,'May 2016'!G48)) -> 450
A32: =IF(ISBLANK('May 2016'!A49),"",IF(ISTEXT('May 2016'!A49),0,'May 2016'!A49)) -> 437884 | B32: =IF(ISBLANK('May 2016'!G49),"",IF(ISTEXT('May 2016'!G49),0,'May 2016'!G49)) -> 1250
A33: =IF(ISBLANK('May 2016'!A53),"",IF(ISTEXT('May 2016'!A53),0,'May 2016'!A53)) -> 437052 | B33: =IF(ISBLANK('May 2016'!G53),"",IF(ISTEXT('May 2016'!G53),0,'May 2016'!G53)) -> 381.6
A34: =IF(ISBLANK('May 2016'!A54),"",IF(ISTEXT('May 2016'!A54),0,'May 2016'!A54)) -> 437402 | B34: =IF(ISBLANK('May 2016'!G54),"",IF(ISTEXT('May 2016'!G54),0,'May 2016'!G54)) -> 1098.4
A35: =IF(ISBLANK('May 2016'!A58),"",IF(ISTEXT('May 2016'!A58),0,'May 2016'!A58)) -> 436741 | B35: =IF(ISBLANK('May 2016'!G58),"",IF(ISTEXT('May 2016'!G58),0,'May 2016'!G58)) -> 22653
A36: =IF(ISBLANK('May 2016'!A62),"",IF(ISTEXT('May 2016'!A62),0,'May 2016'!A62)) -> 437403 | B36: =IF(ISBLANK('May 2016'!G62),"",IF(ISTEXT('May 2016'!G62),0,'May 2016'!G62)) -> 239.95
A37: =IF(ISBLANK('May 2016'!A63),"",IF(ISTEXT('May 2016'!A63),0,'May 2016'!A63)) | B37: =IF(ISBLANK('May 2016'!G63),"",IF(ISTEXT('May 2016'!G63),0,'May 2016'!G63))
A38: =IF(ISBLANK('May 2016'!A67),"",IF(ISTEXT('May 2016'!A67),0,'May 2016'!A67)) -> 437885 | B38: =IF(ISBLANK('May 2016'!G67),"",IF(ISTEXT('May 2016'!G67),0,'May 2016'!G67)) -> 187
A39: =IF(ISBLANK('May 2016'!A71),"",IF(ISTEXT('May 2016'!A71),0,'May 2016'!A71)) -> 436742 | B39: =IF(ISBLANK('May 2016'!G71),"",IF(ISTEXT('May 2016'!G71),0,'May 2016'!G71)) -> 1440
A40: =IF(ISBLANK('May 2016'!A72),"",IF(ISTEXT('May 2016'!A72),0,'May 2016'!A72)) -> 437053 | B40: =IF(ISBLANK('May 2016'!G72),"",IF(ISTEXT('May 2016'!G72),0,'May 2016'!G72)) -> 45
...
