Workbook

Sheet June 2016
A1: Check Number | D1: Check Date | E1: Vendor Name | F1: Transaction Amount | R1: Description | S1: Account Name | T1: Department | U1: Division | V1: Object of Expenditure | X1: Project Number
A2: 438802 | D2: 42535 | E2: BOB TOMES FORD | F2: 764.1 | R2: BLANKET PURCHASE ORDER | S2: AUTO MAINTENANCE | T2: EQUIPMENT SERVICES | U2: EQUIP SERV-SHARED | V2: BLANKET PURCHASE ORDER
F8: -236.52 | R8: INV# 5476808 | S8: AUTO MAINTENANCE | T8: EQUIPMENT SERVICES | U8: EQUIP SERV-SHARED | V8: INV# 5476808
F9: -236.52 | R9: INV# 5477680 | S9: AUTO MAINTENANCE | T9: EQUIPMENT SERVICES | U9: EQUIP SERV-SHARED | V9: INV# 5477680
F10: -28.6 | R10: INV# 5486475 | S10: AUTO MAINTENANCE | T10: EQUIPMENT SERVICES | U10: EQUIP SERV-SHARED | V10: INV# 5486475
A11: 439320 | D11: 42549 | F11: 1493.93 | R11: BLANKET PURCHASE ORDER | S11: AUTO MAINTENANCE | T11: EQUIPMENT SERVICES | U11: EQUIP SERV-SHARED | V11: BLANKET PURCHASE ORDER
F17: -56.42 | R17: INV# 5439142 | S17: AUTO MAINTENANCE | T17: EQUIPMENT SERVICES | U17: EQUIP SERV-SHARED | V17: INV# 5439142
F18: -40 | R18: INV# 5461331 | S18: AUTO MAINTENANCE | T18: EQUIPMENT SERVICES | U18: EQUIP SERV-SHARED | V18: INV# 5461331
F19: -28.72 | R19: INV# 5461829 | S19: AUTO MAINTENANCE | T19: EQUIPMENT SERVICES | U19: EQUIP SERV-SHARED | V19: INV# 5461829
K21: =SUM(hList_Frame_1!B1:B18) -> 1631.25
A23: 438429 | D23: 42528 | E23: BOB BARKER COMPANY, INC | F23: 612.27 | R23: PERSONAL HYGIENE&GROOMING | S23: DETENTION SUPPLIES | T23: JUVENILE PROBATION | U23: JUV DET -ADMIN | V23: PERSONAL HYGIENE&GROOMING
A24: 438803 | D24: 42535 | F24: 7628.64 | R24: CLOTHING AND APPAREL | S24: DETENTION SUPPLIES | T24: SHERIFF'S OFFICE | U24: JAIL OPS-ADMIN | V24: CLOTHING AND APPAREL
A27: 439321 | D27: 42549 | F27: 228 | R27: CLOTHING AND APPAREL | S27: KITCHEN SUPPLIES | T27: SHERIFF'S OFFICE | U27: JAIL OPS-ADMIN | V27: CLOTHING AND APPAREL
F28: 495.36 | R28: LAUNDRY TEXTILES/SUPPLIES | S28: DETENTION SUPPLIES | T28: SHERIFF'S OFFICE | U28: JAIL OPS-ADMIN | V28: LAUNDRY TEXTILES/SUPPLIES
K30: =SUM(hList_Frame_1!B19:B24) -> 8964.27
A32: 438804 | D32: 42535 | E32: ECOLAB INC | F32: 566.4 | R32: JANITORIAL SUPPLIES-GEN. | S32: DETENTION SUPPLIES | T32: SHERIFF'S OFFICE | U32: JAIL OPS-ADMIN | V32: JANITORIAL SUPPLIES-GEN.
M34: =SUM(hList_Frame_1!B25:B25) -> 566.4
A36: 439322 | D36: 42549 | E36: MATTHEW BENDER & CO INC | F36: 113.43 | R36: MISC PROFESSIONAL SERVICE | S36: LIBRARY UPDATES | T36: BUDGET | U36: LAW LIBRARY-ADMIN | V36: MISC PROFESSIONAL SERVICE
N38: =SUM(hList_Frame_1!B26:B26) -> 113.43
A41: 438430 | D41: 42528 | E41: HEIDENHEIMER, MARK | F41: 450 | R41: 002-80587-16 | S41: COURT APPOINTED ATTORNEY | T41: COURT APPT REPRESENTATION | U41: COURT APPT REPRESENTATION | V41: 002-80587-16 | X41: IDCL2M
M43: =SUM(hList_Frame_1!B27:B27) -> 450
A45: 438805 | D45: 42535 | E45: POLLOCK PAPER DISTRIBUTORS | F45: 36 | R45: JANITORIAL SUPPLIES | S45: ELECTION SUPPLIES | T45: ELECTIONS | U45: ELECTIONS-ADMIN | V45: JANITORIAL SUPPLIES
A46: 439323 | D46: 42549 | F46: 5859 | R46: HOSPITAL SUNDRIES | S46: DETENTION SUPPLIES | T46: SHERIFF'S OFFICE | U46: JAIL OPS-ADMIN | V46: HOSPITAL SUNDRIES
F47: 90 | R47: JANITORIAL SUPPLIES-GEN. | S47: KITCHEN SUPPLIES | T47: SHERIFF'S OFFICE | U47: JAIL OPS-ADMIN | V47: JANITORIAL SUPPLIES-GEN.
K49: =SUM(hList_Frame_1!B28:B30) -> 5985
A51: 438806 | D51: 42535 | E51: THOMASON TIRE INC | F51: 171.8 | R51: BLANKET PURCHASE ORDER | S51: HEAVY EQUIPMENT REPAIR | T51: EQUIPMENT SERVICES | U51: EQUIP SERV-SHARED | V51: BLANKET PURCHASE ORDER
F54: -5 | R54: INV# 1-379498 | S54: HEAVY EQUIPMENT REPAIR | T54: EQUIPMENT SERVICES | U54: EQUIP SERV-SHARED | V54: INV# 1-379498
F55: 5 | R55: INV# 1-380134 | S55: HEAVY EQUIPMENT REPAIR | T55: EQUIPMENT SERVICES | U55: EQUIP SERV-SHARED | V55: INV# 1-380134
A56: 439324 | D56: 42549 | F56: 1654.3 | R56: AUTO/TRUCK MAINT. ITEMS | S56: RESTORATION | T56: MYERS PARK | U56: FARM MUS-ADMIN | V56: AUTO/TRUCK MAINT. ITEMS
K58: =SUM(hList_Frame_1!B31:B36) -> 1826.1
A60: 438431 | D60: 42528 | E60: WEST PUBLISHING CORPORATION | F60: 131 | R60: PUBLICATIONS/AUDIOVISUALS | S60: LIBRARY BOOKS | T60: DISTRICT COURTS | U60: 296TH DC-ADMIN | V60: PUBLICATIONS/AUDIOVISUALS
A61: 438432 | D61: 42528 | F61: 125 | R61: PUBLICATIONS/AUDIOVISUALS | S61: DUES & SUBSCRIPTIONS | T61: JUSTICES OF THE PEACE | U61: JP2-ADMIN | V61: PUBLICATIONS/AUDIOVISUALS
A62: 438433 | D62: 42528 | F62: 45 | R62: PUBLICATIONS/AUDIOVISUALS | S62: DUES & SUBSCRIPTIONS | T62: UNALLOCATED | U62: NON-DEPARTMENTAL | V62: PUBLICATIONS/AUDIOVISUALS
A63: 438807 | D63: 42535 | F63: 3091.04 | R63: BLANKET PURCHASE ORDER | S63: LIBRARY BOOKS | T63: DISTRICT ATTORNEY | U63: DA-ADMIN | V63: BLANKET PURCHASE ORDER
A64: 438808 | D64: 42535 | F64: 11853.96 | R64: BLANKET PURCHASE ORDER | S64: LIBRARY UPDATES | T64: BUDGET | U64: LAW LIBRARY-ADMIN | V64: BLANKET PURCHASE ORDER
A65: 438809 | D65: 42535 | F65: 4988.24 | R65: BLANKET PURCHASE ORDER | S65: COMMUNICATION LINE LEASE | T65: BUDGET | U65: LAW LIBRARY-ADMIN | V65: BLANKET PURCHASE ORDER
A66: 438810 | D66: 42535 | F66: 30.93 | R66: PUBLICATIONS/AUDIOVISUALS | S66: DUES & SUBSCRIPTIONS | T66: UNALLOCATED | U66: NON-DEPARTMENTAL | V66: PUBLICATIONS/AUDIOVISUALS
A67: 438811 | D67: 42535 | F67: 90 | R67: PUBLICATIONS/AUDIOVISUALS | S67: DUES & SUBSCRIPTIONS | T67: UNALLOCATED | U67: NON-DEPARTMENTAL | V67: PUBLICATIONS/AUDIOVISUALS
A69: 439325 | D69: 42549 | F69: 58 | R69: PUBLICATIONS/AUDIOVISUALS | S69: DUES & SUBSCRIPTIONS | T69: UNALLOCATED | U69: NON-DEPARTMENTAL | V69: PUBLICATIONS/AUDIOVISUALS
A70: 439326 | D70: 42549 | F70: 103 | R70: PUBLICATIONS/AUDIOVISUALS | S70: DUES & SUBSCRIPTIONS | T70: UNALLOCATED | U70: NON-DEPARTMENTAL | V70: PUBLICATIONS/AUDIOVISUALS
...

Sheet hList_Frame_1
A1: =IF(ISBLANK('June 2016'!A2),"",IF(ISTEXT('June 2016'!A2),0,'June 2016'!A2)) -> 438802 | B1: =IF(ISBLANK('June 2016'!F2),"",IF(ISTEXT('June 2016'!F2),0,'June 2016'!F2)) -> 764.1
A2: =IF(ISBLANK('June 2016'!A3),"",IF(ISTEXT('June 2016'!A3),0,'June 2016'!A3)) | B2: =IF(ISBLANK('June 2016'!F3),"",IF(ISTEXT('June 2016'!F3),0,'June 2016'!F3))
A3: =IF(ISBLANK('June 2016'!A4),"",IF(ISTEXT('June 2016'!A4),0,'June 2016'!A4)) | B3: =IF(ISBLANK('June 2016'!F4),"",IF(ISTEXT('June 2016'!F4),0,'June 2016'!F4))
A4: =IF(ISBLANK('June 2016'!A5),"",IF(ISTEXT('June 2016'!A5),0,'June 2016'!A5)) | B4: =IF(ISBLANK('June 2016'!F5),"",IF(ISTEXT('June 2016'!F5),0,'June 2016'!F5))
A5: =IF(ISBLANK('June 2016'!A6),"",IF(ISTEXT('June 2016'!A6),0,'June 2016'!A6)) | B5: =IF(ISBLANK('June 2016'!F6),"",IF(ISTEXT('June 2016'!F6),0,'June 2016'!F6))
A6: =IF(ISBLANK('June 2016'!A7),"",IF(ISTEXT('June 2016'!A7),0,'June 2016'!A7)) | B6: =IF(ISBLANK('June 2016'!F7),"",IF(ISTEXT('June 2016'!F7),0,'June 2016'!F7))
A7: =IF(ISBLANK('June 2016'!A8),"",IF(ISTEXT('June 2016'!A8),0,'June 2016'!A8)) | B7: =IF(ISBLANK('June 2016'!F8),"",IF(ISTEXT('June 2016'!F8),0,'June 2016'!F8)) -> -236.52
A8: =IF(ISBLANK('June 2016'!A9),"",IF(ISTEXT('June 2016'!A9),0,'June 2016'!A9)) | B8: =IF(ISBLANK('June 2016'!F9),"",IF(ISTEXT('June 2016'!F9),0,'June 2016'!F9)) -> -236.52
A9: =IF(ISBLANK('June 2016'!A10),"",IF(ISTEXT('June 2016'!A10),0,'June 2016'!A10)) | B9: =IF(ISBLANK('June 2016'!F10),"",IF(ISTEXT('June 2016'!F10),0,'June 2016'!F10)) -> -28.6
A10: =IF(ISBLANK('June 2016'!A11),"",IF(ISTEXT('June 2016'!A11),0,'June 2016'!A11)) -> 439320 | B10: =IF(ISBLANK('June 2016'!F11),"",IF(ISTEXT('June 2016'!F11),0,'June 2016'!F11)) -> 1493.93
A11: =IF(ISBLANK('June 2016'!A12),"",IF(ISTEXT('June 2016'!A12),0,'June 2016'!A12)) | B11: =IF(ISBLANK('June 2016'!F12),"",IF(ISTEXT('June 2016'!F12),0,'June 2016'!F12))
A12: =IF(ISBLANK('June 2016'!A13),"",IF(ISTEXT('June 2016'!A13),0,'June 2016'!A13)) | B12: =IF(ISBLANK('June 2016'!F13),"",IF(ISTEXT('June 2016'!F13),0,'June 2016'!F13))
... A18: =IF(ISBLANK('June 2016'!A19),"",IF(ISTEXT('June 2016'!A19),0,'June 2016'!A19)) | B18: =IF(ISBLANK('June 2016'!F19),"",IF(ISTEXT('June 2016'!F19),0,'June 2016'!F19)) -> -28.72
A19: =IF(ISBLANK('June 2016'!A23),"",IF(ISTEXT('June 2016'!A23),0,'June 2016'!A23)) -> 438429 | B19: =IF(ISBLANK('June 2016'!F23),"",IF(ISTEXT('June 2016'!F23),0,'June 2016'!F23)) -> 612.27
A20: =IF(ISBLANK('June 2016'!A24),"",IF(ISTEXT('June 2016'!A24),0,'June 2016'!A24)) -> 438803 | B20: =IF(ISBLANK('June 2016'!F24),"",IF(ISTEXT('June 2016'!F24),0,'June 2016'!F24)) -> 7628.64
A21: =IF(ISBLANK('June 2016'!A25),"",IF(ISTEXT('June 2016'!A25),0,'June 2016'!A25)) | B21: =IF(ISBLANK('June 2016'!F25),"",IF(ISTEXT('June 2016'!F25),0,'June 2016'!F25))
A22: =IF(ISBLANK('June 2016'!A26),"",IF(ISTEXT('June 2016'!A26),0,'June 2016'!A26)) | B22: =IF(ISBLANK('June 2016'!F26),"",IF(ISTEXT('June 2016'!F26),0,'June 2016'!F26))
A23: =IF(ISBLANK('June 2016'!A27),"",IF(ISTEXT('June 2016'!A27),0,'June 2016'!A27)) -> 439321 | B23: =IF(ISBLANK('June 2016'!F27),"",IF(ISTEXT('June 2016'!F27),0,'June 2016'!F27)) -> 228
A24: =IF(ISBLANK('June 2016'!A28),"",IF(ISTEXT('June 2016'!A28),0,'June 2016'!A28)) | B24: =IF(ISBLANK('June 2016'!F28),"",IF(ISTEXT('June 2016'!F28),0,'June 2016'!F28)) -> 495.36
A25: =IF(ISBLANK('June 2016'!A32),"",IF(ISTEXT('June 2016'!A32),0,'June 2016'!A32)) -> 438804 | B25: =IF(ISBLANK('June 2016'!F32),"",IF(ISTEXT('June 2016'!F32),0,'June 2016'!F32)) -> 566.4
A26: =IF(ISBLANK('June 2016'!A36),"",IF(ISTEXT('June 2016'!A36),0,'June 2016'!A36)) -> 439322 | B26: =IF(ISBLANK('June 2016'!F36),"",IF(ISTEXT('June 2016'!F36),0,'June 2016'!F36)) -> 113.43
A27: =IF(ISBLANK('June 2016'!A41),"",IF(ISTEXT('June 2016'!A41),0,'June 2016'!A41)) -> 438430 | B27: =IF(ISBLANK('June 2016'!F41),"",IF(ISTEXT('June 2016'!F41),0,'June 2016'!F41)) -> 450
A28: =IF(ISBLANK('June 2016'!A45),"",IF(ISTEXT('June 2016'!A45),0,'June 2016'!A45)) -> 438805 | B28: =IF(ISBLANK('June 2016'!F45),"",IF(ISTEXT('June 2016'!F45),0,'June 2016'!F45)) -> 36
A29: =IF(ISBLANK('June 2016'!A46),"",IF(ISTEXT('June 2016'!A46),0,'June 2016'!A46)) -> 439323 | B29: =IF(ISBLANK('June 2016'!F46),"",IF(ISTEXT('June 2016'!F46),0,'June 2016'!F46)) -> 5859
A30: =IF(ISBLANK('June 2016'!A47),"",IF(ISTEXT('June 2016'!A47),0,'June 2016'!A47)) | B30: =IF(ISBLANK('June 2016'!F47),"",IF(ISTEXT('June 2016'!F47),0,'June 2016'!F47)) -> 90
A31: =IF(ISBLANK('June 2016'!A51),"",IF(ISTEXT('June 2016'!A51),0,'June 2016'!A51)) -> 438806 | B31: =IF(ISBLANK('June 2016'!F51),"",IF(ISTEXT('June 2016'!F51),0,'June 2016'!F51)) -> 171.8
A32: =IF(ISBLANK('June 2016'!A52),"",IF(ISTEXT('June 2016'!A52),0,'June 2016'!A52)) | B32: =IF(ISBLANK('June 2016'!F52),"",IF(ISTEXT('June 2016'!F52),0,'June 2016'!F52))
A33: =IF(ISBLANK('June 2016'!A53),"",IF(ISTEXT('June 2016'!A53),0,'June 2016'!A53)) | B33: =IF(ISBLANK('June 2016'!F53),"",IF(ISTEXT('June 2016'!F53),0,'June 2016'!F53))
A34: =IF(ISBLANK('June 2016'!A54),"",IF(ISTEXT('June 2016'!A54),0,'June 2016'!A54)) | B34: =IF(ISBLANK('June 2016'!F54),"",IF(ISTEXT('June 2016'!F54),0,'June 2016'!F54)) -> -5
A35: =IF(ISBLANK('June 2016'!A55),"",IF(ISTEXT('June 2016'!A55),0,'June 2016'!A55)) | B35: =IF(ISBLANK('June 2016'!F55),"",IF(ISTEXT('June 2016'!F55),0,'June 2016'!F55)) -> 5
A36: =IF(ISBLANK('June 2016'!A56),"",IF(ISTEXT('June 2016'!A56),0,'June 2016'!A56)) -> 439324 | B36: =IF(ISBLANK('June 2016'!F56),"",IF(ISTEXT('June 2016'!F56),0,'June 2016'!F56)) -> 1654.3
A37: =IF(ISBLANK('June 2016'!A60),"",IF(ISTEXT('June 2016'!A60),0,'June 2016'!A60)) -> 438431 | B37: =IF(ISBLANK('June 2016'!F60),"",IF(ISTEXT('June 2016'!F60),0,'June 2016'!F60)) -> 131
A38: =IF(ISBLANK('June 2016'!A61),"",IF(ISTEXT('June 2016'!A61),0,'June 2016'!A61)) -> 438432 | B38: =IF(ISBLANK('June 2016'!F61),"",IF(ISTEXT('June 2016'!F61),0,'June 2016'!F61)) -> 125
A39: =IF(ISBLANK('June 2016'!A62),"",IF(ISTEXT('June 2016'!A62),0,'June 2016'!A62)) -> 438433 | B39: =IF(ISBLANK('June 2016'!F62),"",IF(ISTEXT('June 2016'!F62),0,'June 2016'!F62)) -> 45
A40: =IF(ISBLANK('June 2016'!A63),"",IF(ISTEXT('June 2016'!A63),0,'June 2016'!A63)) -> 438807 | B40: =IF(ISBLANK('June 2016'!F63),"",IF(ISTEXT('June 2016'!F63),0,'June 2016'!F63)) -> 3091.04
A41: =IF(ISBLANK('June 2016'!A64),"",IF(ISTEXT('June 2016'!A64),0,'June 2016'!A64)) -> 438808 | B41: =IF(ISBLANK('June 2016'!F64),"",IF(ISTEXT('June 2016'!F64),0,'June 2016'!F64)) -> 11853.96
A42: =IF(ISBLANK('June 2016'!A65),"",IF(ISTEXT('June 2016'!A65),0,'June 2016'!A65)) -> 438809 | B42: =IF(ISBLANK('June 2016'!F65),"",IF(ISTEXT('June 2016'!F65),0,'June 2016'!F65)) -> 4988.24
A43: =IF(ISBLANK('June 2016'!A66),"",IF(ISTEXT('June 2016'!A66),0,'June 2016'!A66)) -> 438810 | B43: =IF(ISBLANK('June 2016'!F66),"",IF(ISTEXT('June 2016'!F66),0,'June 2016'!F66)) -> 30.93
A44: =IF(ISBLANK('June 2016'!A67),"",IF(ISTEXT('June 2016'!A67),0,'June 2016'!A67)) -> 438811 | B44: =IF(ISBLANK('June 2016'!F67),"",IF(ISTEXT('June 2016'!F67),0,'June 2016'!F67)) -> 90
A45: =IF(ISBLANK('June 2016'!A68),"",IF(ISTEXT('June 2016'!A68),0,'June 2016'!A68)) | B45: =IF(ISBLANK('June 2016'!F68),"",IF(ISTEXT('June 2016'!F68),0,'June 2016'!F68))
...
