Workbook

Sheet June 2017
A1: Check Number | D1: Check Date | E1: Vendor Name | G1: Transaction Amount | W1: Description | X1: Account Name | Y1: Department | Z1: Division | AA1: Project Number
A2: 457660 | D2: 42899 | E2: BOB TOMES FORD | G2: 828.26 | W2: BLANKET PURCHASE ORDER | X2: AUTO MAINTENANCE | Y2: EQUIPMENT SERVICES | Z2: EQUIP SERV-SHARED
G9: -70 | W9: INV# 33279 | X9: AUTO MAINTENANCE | Y9: EQUIPMENT SERVICES | Z9: EQUIP SERV-SHARED
G10: -53.86 | W10: INV# 34287 | X10: AUTO MAINTENANCE | Y10: EQUIPMENT SERVICES | Z10: EQUIP SERV-SHARED
G11: -50 | W11: INV# 43346 | X11: AUTO MAINTENANCE | Y11: EQUIPMENT SERVICES | Z11: EQUIP SERV-SHARED
A12: 458160 | D12: 42906 | G12: 384.55 | W12: BLANKET PURCHASE ORDER | X12: AUTO MAINTENANCE | Y12: EQUIPMENT SERVICES | Z12: EQUIP SERV-SHARED
N20: =SUM(hList_Frame_1!B1:B17) -> 1038.95
A22: 457279 | D22: 42892 | E22: MATTHEW BENDER & CO INC | G22: 117.43 | W22: BLANKET PURCHASE ORDER | X22: LIBRARY UPDATES | Y22: BUDGET | Z22: LAW LIBRARY-ADMIN
Q24: =SUM(hList_Frame_1!B18:B18) -> 117.43
A26: 457166 | D26: 42892 | E26: HEIDENHEIMER, MARK | G26: 450 | W26: 002-82030-17 | X26: COURT APPOINTED ATTORNEY | Y26: COURT APPT REPRESENTATION | Z26: COURT APPT REPRESENTATION | AA26: IDCL2M
G27: 450 | W27: 002-87715-16 | X27: COURT APPOINTED ATTORNEY | Y27: COURT APPT REPRESENTATION | Z27: COURT APPT REPRESENTATION | AA27: IDCL2M
A28: 457167 | D28: 42892 | G28: 500 | W28: 219-80370-17 | X28: COURT APPOINTED ATTORNEY | Y28: COURT APPT REPRESENTATION | Z28: COURT APPT REPRESENTATION | AA28: ID219F
N30: =SUM(hList_Frame_1!B19:B21) -> 1400
A32: 458161 | D32: 42906 | E32: POLLOCK PAPER DISTRIBUTORS | G32: 906.4 | W32: JANITORIAL SUPPLIES | X32: JANITORIAL SUPPLIES | Y32: JUVENILE PROBATION | Z32: JUV DET -ADMIN
Y33: SHERIFF'S OFFICE | Z33: JAIL OPS-ADMIN
P35: =SUM(hList_Frame_1!B22:B23) -> 906.4
A37: 457661 | D37: 42899 | E37: THOMASON TIRE INC | G37: 138.89 | W37: BLANKET PURCHASE ORDER | X37: AUTO MAINTENANCE | Y37: EQUIPMENT SERVICES | Z37: EQUIP SERV-SHARED
X38: GROUNDS EQUIPMENT MAINT | Y38: EQUIPMENT SERVICES | Z38: EQUIP SERV-SHARED
A39: 458162 | D39: 42906 | G39: 74.86 | W39: BLANKET PURCHASE ORDER | X39: AUTO MAINTENANCE | Y39: EQUIPMENT SERVICES | Z39: EQUIP SERV-SHARED
P42: =SUM(hList_Frame_1!B24:B26) -> 213.75
A44: 457280 | D44: 42892 | E44: TEKNI KUT CORP | G44: 421.25 | W44: BUILDER'S SUPPLIES | X44: BUILDING SUPPLIES | Y44: FACILITIES & PARKS | Z44: BUILD SUP-SHARED | AA44: B03002
P46: =SUM(hList_Frame_1!B27:B27) -> 421.25
A48: 457662 | D48: 42899 | E48: WEST PUBLISHING CORPORATION | G48: 5433.96 | W48: BLANKET PURCHASE ORDER | X48: LIBRARY BOOKS | Y48: DISTRICT ATTORNEY | Z48: DA-ADMIN
G50: 124 | W50: MISC PROFESSIONAL SERVICE | X50: LIBRARY BOOKS | Y50: JUSTICES OF THE PEACE | Z50: JP4-ADMIN
A51: 457663 | D51: 42899 | G51: 291.04 | W51: PUBLICATIONS/AUDIOVISUALS | X51: DUES & SUBSCRIPTIONS | Y51: UNALLOCATED | Z51: NON-DEPARTMENTAL
A52: 457664 | D52: 42899 | G52: 6838 | W52: BLANKET PURCHASE ORDER | X52: LIBRARY UPDATES | Y52: BUDGET | Z52: LAW LIBRARY-ADMIN
A54: 457665 | D54: 42899 | G54: 2950.18 | W54: BLANKET PURCHASE ORDER | X54: COMMUNICATION LINE LEASE | Y54: BUDGET | Z54: LAW LIBRARY-ADMIN
L56: =SUM(hList_Frame_1!B28:B34) -> 15637.18
A58: 457281 | D58: 42892 | E58: PLANO POWER EQUIPMENT | G58: 67.09 | W58: BLANKET PURCHASE ORDER | X58: GROUNDS EQUIPMENT MAINT | Y58: EQUIPMENT SERVICES | Z58: EQUIP SERV-SHARED
A60: 458163 | D60: 42906 | G60: 448.84 | W60: BLANKET PURCHASE ORDER | X60: GROUNDS EQUIPMENT MAINT | Y60: EQUIPMENT SERVICES | Z60: EQUIP SERV-SHARED
X62: HEAVY EQUIPMENT REPAIR | Y62: EQUIPMENT SERVICES | Z62: EQUIP SERV-SHARED
G63: -11.66 | W63: INV# 1276311 | X63: GROUNDS EQUIPMENT MAINT | Y63: EQUIPMENT SERVICES | Z63: EQUIP SERV-SHARED
P65: =SUM(hList_Frame_1!B35:B40) -> 504.27
A67: 457282 | D67: 42892 | E67: GEBO DISTRIBUTING CO | G67: 39.38 | W67: BLANKET PURCHASE ORDER | X67: ANIMAL CARE | Y67: ANIMAL SHELTER | Z67: ANIMAL SHELTER-ADMIN
A69: 457666 | D69: 42899 | G69: 244.93 | W69: BLANKET PURCHASE ORDER | X69: ANIMAL CARE | Y69: ANIMAL SHELTER | Z69: ANIMAL SHELTER-ADMIN
A70: 458164 | D70: 42906 | G70: 44.94 | W70: BLANKET PURCHASE ORDER | X70: ANIMAL CARE | Y70: ANIMAL SHELTER | Z70: ANIMAL SHELTER-ADMIN
X71: SMALL TOOLS | Y71: PUBLIC WORKS | Z71: R&B - ADMIN
P73: =SUM(hList_Frame_1!B41:B45) -> 329.25
A75: 457667 | D75: 42899 | E75: BEN E KEITH DFW | G75: 7157.95 | W75: EDIBLE FOODS, STAPLE | X75: FOOD SUPPLIES | Y75: JUVENILE PROBATION | Z75: JUV DET -ADMIN
X76: JAIL FOOD
...

Sheet hList_Frame_1
A1: =IF(ISBLANK('June 2017'!A2),"",IF(ISTEXT('June 2017'!A2),0,'June 2017'!A2)) -> 457660 | B1: =IF(ISBLANK('June 2017'!G2),"",IF(ISTEXT('June 2017'!G2),0,'June 2017'!G2)) -> 828.26
A2: =IF(ISBLANK('June 2017'!A3),"",IF(ISTEXT('June 2017'!A3),0,'June 2017'!A3)) | B2: =IF(ISBLANK('June 2017'!G3),"",IF(ISTEXT('June 2017'!G3),0,'June 2017'!G3))
A3: =IF(ISBLANK('June 2017'!A4),"",IF(ISTEXT('June 2017'!A4),0,'June 2017'!A4)) | B3: =IF(ISBLANK('June 2017'!G4),"",IF(ISTEXT('June 2017'!G4),0,'June 2017'!G4))
A4: =IF(ISBLANK('June 2017'!A5),"",IF(ISTEXT('June 2017'!A5),0,'June 2017'!A5)) | B4: =IF(ISBLANK('June 2017'!G5),"",IF(ISTEXT('June 2017'!G5),0,'June 2017'!G5))
A5: =IF(ISBLANK('June 2017'!A6),"",IF(ISTEXT('June 2017'!A6),0,'June 2017'!A6)) | B5: =IF(ISBLANK('June 2017'!G6),"",IF(ISTEXT('June 2017'!G6),0,'June 2017'!G6))
A6: =IF(ISBLANK('June 2017'!A7),"",IF(ISTEXT('June 2017'!A7),0,'June 2017'!A7)) | B6: =IF(ISBLANK('June 2017'!G7),"",IF(ISTEXT('June 2017'!G7),0,'June 2017'!G7))
A7: =IF(ISBLANK('June 2017'!A8),"",IF(ISTEXT('June 2017'!A8),0,'June 2017'!A8)) | B7: =IF(ISBLANK('June 2017'!G8),"",IF(ISTEXT('June 2017'!G8),0,'June 2017'!G8))
A8: =IF(ISBLANK('June 2017'!A9),"",IF(ISTEXT('June 2017'!A9),0,'June 2017'!A9)) | B8: =IF(ISBLANK('June 2017'!G9),"",IF(ISTEXT('June 2017'!G9),0,'June 2017'!G9)) -> -70
A9: =IF(ISBLANK('June 2017'!A10),"",IF(ISTEXT('June 2017'!A10),0,'June 2017'!A10)) | B9: =IF(ISBLANK('June 2017'!G10),"",IF(ISTEXT('June 2017'!G10),0,'June 2017'!G10)) -> -53.86
A10: =IF(ISBLANK('June 2017'!A11),"",IF(ISTEXT('June 2017'!A11),0,'June 2017'!A11)) | B10: =IF(ISBLANK('June 2017'!G11),"",IF(ISTEXT('June 2017'!G11),0,'June 2017'!G11)) -> -50
A11: =IF(ISBLANK('June 2017'!A12),"",IF(ISTEXT('June 2017'!A12),0,'June 2017'!A12)) -> 458160 | B11: =IF(ISBLANK('June 2017'!G12),"",IF(ISTEXT('June 2017'!G12),0,'June 2017'!G12)) -> 384.55
A12: =IF(ISBLANK('June 2017'!A13),"",IF(ISTEXT('June 2017'!A13),0,'June 2017'!A13)) | B12: =IF(ISBLANK('June 2017'!G13),"",IF(ISTEXT('June 2017'!G13),0,'June 2017'!G13))
... A17: =IF(ISBLANK('June 2017'!A18),"",IF(ISTEXT('June 2017'!A18),0,'June 2017'!A18)) | B17: =IF(ISBLANK('June 2017'!G18),"",IF(ISTEXT('June 2017'!G18),0,'June 2017'!G18))
A18: =IF(ISBLANK('June 2017'!A22),"",IF(ISTEXT('June 2017'!A22),0,'June 2017'!A22)) -> 457279 | B18: =IF(ISBLANK('June 2017'!G22),"",IF(ISTEXT('June 2017'!G22),0,'June 2017'!G22)) -> 117.43
A19: =IF(ISBLANK('June 2017'!A26),"",IF(ISTEXT('June 2017'!A26),0,'June 2017'!A26)) -> 457166 | B19: =IF(ISBLANK('June 2017'!G26),"",IF(ISTEXT('June 2017'!G26),0,'June 2017'!G26)) -> 450
A20: =IF(ISBLANK('June 2017'!A27),"",IF(ISTEXT('June 2017'!A27),0,'June 2017'!A27)) | B20: =IF(ISBLANK('June 2017'!G27),"",IF(ISTEXT('June 2017'!G27),0,'June 2017'!G27)) -> 450
A21: =IF(ISBLANK('June 2017'!A28),"",IF(ISTEXT('June 2017'!A28),0,'June 2017'!A28)) -> 457167 | B21: =IF(ISBLANK('June 2017'!G28),"",IF(ISTEXT('June 2017'!G28),0,'June 2017'!G28)) -> 500
A22: =IF(ISBLANK('June 2017'!A32),"",IF(ISTEXT('June 2017'!A32),0,'June 2017'!A32)) -> 458161 | B22: =IF(ISBLANK('June 2017'!G32),"",IF(ISTEXT('June 2017'!G32),0,'June 2017'!G32)) -> 906.4
A23: =IF(ISBLANK('June 2017'!A33),"",IF(ISTEXT('June 2017'!A33),0,'June 2017'!A33)) | B23: =IF(ISBLANK('June 2017'!G33),"",IF(ISTEXT('June 2017'!G33),0,'June 2017'!G33))
A24: =IF(ISBLANK('June 2017'!A37),"",IF(ISTEXT('June 2017'!A37),0,'June 2017'!A37)) -> 457661 | B24: =IF(ISBLANK('June 2017'!G37),"",IF(ISTEXT('June 2017'!G37),0,'June 2017'!G37)) -> 138.89
A25: =IF(ISBLANK('June 2017'!A38),"",IF(ISTEXT('June 2017'!A38),0,'June 2017'!A38)) | B25: =IF(ISBLANK('June 2017'!G38),"",IF(ISTEXT('June 2017'!G38),0,'June 2017'!G38))
A26: =IF(ISBLANK('June 2017'!A39),"",IF(ISTEXT('June 2017'!A39),0,'June 2017'!A39)) -> 458162 | B26: =IF(ISBLANK('June 2017'!G39),"",IF(ISTEXT('June 2017'!G39),0,'June 2017'!G39)) -> 74.86
A27: =IF(ISBLANK('June 2017'!A44),"",IF(ISTEXT('June 2017'!A44),0,'June 2017'!A44)) -> 457280 | B27: =IF(ISBLANK('June 2017'!G44),"",IF(ISTEXT('June 2017'!G44),0,'June 2017'!G44)) -> 421.25
A28: =IF(ISBLANK('June 2017'!A48),"",IF(ISTEXT('June 2017'!A48),0,'June 2017'!A48)) -> 457662 | B28: =IF(ISBLANK('June 2017'!G48),"",IF(ISTEXT('June 2017'!G48),0,'June 2017'!G48)) -> 5433.96
A29: =IF(ISBLANK('June 2017'!A49),"",IF(ISTEXT('June 2017'!A49),0,'June 2017'!A49)) | B29: =IF(ISBLANK('June 2017'!G49),"",IF(ISTEXT('June 2017'!G49),0,'June 2017'!G49))
A30: =IF(ISBLANK('June 2017'!A50),"",IF(ISTEXT('June 2017'!A50),0,'June 2017'!A50)) | B30: =IF(ISBLANK('June 2017'!G50),"",IF(ISTEXT('June 2017'!G50),0,'June 2017'!G50)) -> 124
A31: =IF(ISBLANK('June 2017'!A51),"",IF(ISTEXT('June 2017'!A51),0,'June 2017'!A51)) -> 457663 | B31: =IF(ISBLANK('June 2017'!G51),"",IF(ISTEXT('June 2017'!G51),0,'June 2017'!G51)) -> 291.04
A32: =IF(ISBLANK('June 2017'!A52),"",IF(ISTEXT('June 2017'!A52),0,'June 2017'!A52)) -> 457664 | B32: =IF(ISBLANK('June 2017'!G52),"",IF(ISTEXT('June 2017'!G52),0,'June 2017'!G52)) -> 6838
A33: =IF(ISBLANK('June 2017'!A53),"",IF(ISTEXT('June 2017'!A53),0,'June 2017'!A53)) | B33: =IF(ISBLANK('June 2017'!G53),"",IF(ISTEXT('June 2017'!G53),0,'June 2017'!G53))
A34: =IF(ISBLANK('June 2017'!A54),"",IF(ISTEXT('June 2017'!A54),0,'June 2017'!A54)) -> 457665 | B34: =IF(ISBLANK('June 2017'!G54),"",IF(ISTEXT('June 2017'!G54),0,'June 2017'!G54)) -> 2950.18
A35: =IF(ISBLANK('June 2017'!A58),"",IF(ISTEXT('June 2017'!A58),0,'June 2017'!A58)) -> 457281 | B35: =IF(ISBLANK('June 2017'!G58),"",IF(ISTEXT('June 2017'!G58),0,'June 2017'!G58)) -> 67.09
A36: =IF(ISBLANK('June 2017'!A59),"",IF(ISTEXT('June 2017'!A59),0,'June 2017'!A59)) | B36: =IF(ISBLANK('June 2017'!G59),"",IF(ISTEXT('June 2017'!G59),0,'June 2017'!G59))
A37: =IF(ISBLANK('June 2017'!A60),"",IF(ISTEXT('June 2017'!A60),0,'June 2017'!A60)) -> 458163 | B37: =IF(ISBLANK('June 2017'!G60),"",IF(ISTEXT('June 2017'!G60),0,'June 2017'!G60)) -> 448.84
A38: =IF(ISBLANK('June 2017'!A61),"",IF(ISTEXT('June 2017'!A61),0,'June 2017'!A61)) | B38: =IF(ISBLANK('June 2017'!G61),"",IF(ISTEXT('June 2017'!G61),0,'June 2017'!G61))
A39: =IF(ISBLANK('June 2017'!A62),"",IF(ISTEXT('June 2017'!A62),0,'June 2017'!A62)) | B39: =IF(ISBLANK('June 2017'!G62),"",IF(ISTEXT('June 2017'!G62),0,'June 2017'!G62))
A40: =IF(ISBLANK('June 2017'!A63),"",IF(ISTEXT('June 2017'!A63),0,'June 2017'!A63)) | B40: =IF(ISBLANK('June 2017'!G63),"",IF(ISTEXT('June 2017'!G63),0,'June 2017'!G63)) -> -11.66
A41: =IF(ISBLANK('June 2017'!A67),"",IF(ISTEXT('June 2017'!A67),0,'June 2017'!A67)) -> 457282 | B41: =IF(ISBLANK('June 2017'!G67),"",IF(ISTEXT('June 2017'!G67),0,'June 2017'!G67)) -> 39.38
A42: =IF(ISBLANK('June 2017'!A68),"",IF(ISTEXT('June 2017'!A68),0,'June 2017'!A68)) | B42: =IF(ISBLANK('June 2017'!G68),"",IF(ISTEXT('June 2017'!G68),0,'June 2017'!G68))
A43: =IF(ISBLANK('June 2017'!A69),"",IF(ISTEXT('June 2017'!A69),0,'June 2017'!A69)) -> 457666 | B43: =IF(ISBLANK('June 2017'!G69),"",IF(ISTEXT('June 2017'!G69),0,'June 2017'!G69)) -> 244.93
A44: =IF(ISBLANK('June 2017'!A70),"",IF(ISTEXT('June 2017'!A70),0,'June 2017'!A70)) -> 458164 | B44: =IF(ISBLANK('June 2017'!G70),"",IF(ISTEXT('June 2017'!G70),0,'June 2017'!G70)) -> 44.94
...
