Workbook

Sheet July 2017
A1: Check Number | D1: Check Date | E1: Vendor Name | G1: Transaction Amount | S1: Description | T1: Account Name | U1: Department | V1: Division | W1: Project Number
A2: 458741 | D2: 42919 | E2: BOB TOMES FORD | G2: 288.69 | S2: BLANKET PURCHASE ORDER | T2: AUTO MAINTENANCE | U2: EQUIPMENT SERVICES | V2: EQUIP SERV-SHARED
A6: 459203 | D6: 42927 | G6: 1193.13 | S6: BLANKET PURCHASE ORDER | T6: AUTO MAINTENANCE | U6: EQUIPMENT SERVICES | V6: EQUIP SERV-SHARED
G9: -150 | S9: INV# 49394 | T9: AUTO MAINTENANCE | U9: EQUIPMENT SERVICES | V9: EQUIP SERV-SHARED
A10: 459546 | D10: 42934 | G10: 1781.93 | S10: BLANKET PURCHASE ORDER | T10: AUTO MAINTENANCE | U10: EQUIPMENT SERVICES | V10: EQUIP SERV-SHARED
G18: -150 | S18: INV# 49867 | T18: AUTO MAINTENANCE | U18: EQUIPMENT SERVICES | V18: EQUIP SERV-SHARED
L20: =SUM(hList_Frame_1!B1:B17) -> 2963.75
A22: 458742 | D22: 42919 | E22: BOB BARKER COMPANY INC | G22: 2288.88 | S22: CLOTHING AND APPAREL | T22: DETENTION SUPPLIES | U22: SHERIFF'S OFFICE | V22: JAIL OPS-ADMIN
A23: 459547 | D23: 42934 | G23: 3304.8 | S23: CLOTHING AND APPAREL | T23: DETENTION SUPPLIES | U23: SHERIFF'S OFFICE | V23: JAIL OPS-ADMIN
L25: =SUM(hList_Frame_1!B18:B19) -> 5593.68
A27: 459548 | D27: 42934 | E27: ECOLAB INC | G27: 6381.8 | S27: JANITORIAL SUPPLIES-GEN. | T27: DETENTION SUPPLIES | U27: SHERIFF'S OFFICE | V27: JAIL OPS-ADMIN
T29: KITCHEN SUPPLIES | U29: SHERIFF'S OFFICE | V29: JAIL OPS-ADMIN
G30: 1039.8 | S30: LAUNDRY/DRY CLEAN SUPPLY | T30: DETENTION SUPPLIES | U30: SHERIFF'S OFFICE | V30: JAIL OPS-ADMIN
L32: =SUM(hList_Frame_1!B20:B23) -> 7421.6
A34: 459549 | D34: 42934 | E34: DOAN, DAVID | G34: 5.35 | T34: TRAVEL REIMBURSEMENT | U34: PUBLIC WORKS | V34: R&B - ADMIN
R36: =SUM(hList_Frame_1!B24:B24) -> 5.35
A38: 459204 | D38: 42927 | E38: MATTHEW BENDER & CO INC | G38: 330.31 | S38: BLANKET PURCHASE ORDER | T38: LIBRARY UPDATES | U38: BUDGET | V38: LAW LIBRARY-ADMIN
A39: 459205 | D39: 42927 | G39: 129.43 | S39: BLANKET PURCHASE ORDER | T39: LIBRARY UPDATES | U39: BUDGET | V39: LAW LIBRARY-ADMIN
N42: =SUM(hList_Frame_1!B25:B26) -> 459.74
A44: 459076 | D44: 42927 | E44: GIBBS, GREGG M PC | G44: 250 | S44: 199-51463-12 | T44: COURT APPOINTED ATTORNEY | U44: COURT APPT REPRESENTATION | V44: COURT APPT REPRESENTATION | W44: ID199O
N46: =SUM(hList_Frame_1!B27:B27) -> 250
A48: 458572 | D48: 42919 | E48: HEIDENHEIMER, MARK | G48: 450 | S48: 004-81098-17 | T48: COURT APPOINTED ATTORNEY | U48: COURT APPT REPRESENTATION | V48: COURT APPT REPRESENTATION | W48: IDCL4M
A49: 458573 | D49: 42919 | G49: 1000 | S49: 401-80924-17 | T49: COURT APPOINTED ATTORNEY | U49: COURT APPT REPRESENTATION | V49: COURT APPT REPRESENTATION | W49: ID401F
G50: 500 | S50: 416-81698-17 | T50: COURT APPOINTED ATTORNEY | U50: COURT APPT REPRESENTATION | V50: COURT APPT REPRESENTATION | W50: ID416F
A51: 459077 | D51: 42927 | G51: 400 | S51: 366-51699-10 | T51: COURT APPOINTED ATTORNEY | U51: COURT APPT REPRESENTATION | V51: COURT APPT REPRESENTATION | W51: ID366O
A52: 459463 | D52: 42934 | G52: 450 | S52: 001-82792-17 | T52: COURT APPOINTED ATTORNEY | U52: COURT APPT REPRESENTATION | V52: COURT APPT REPRESENTATION | W52: IDCL1M
G53: 450 | S53: 005-01470-17 | T53: COURT APPOINTED ATTORNEY | U53: COURT APPT REPRESENTATION | V53: COURT APPT REPRESENTATION | W53: IDCL5M
L55: =SUM(hList_Frame_1!B28:B33) -> 3250
A57: 458743 | D57: 42919 | E57: THOMASON TIRE INC | G57: 115.9 | S57: BLANKET PURCHASE ORDER | T57: GROUNDS EQUIPMENT MAINT | U57: EQUIPMENT SERVICES | V57: EQUIP SERV-SHARED
A58: 459206 | D58: 42927 | G58: 1756.6 | S58: BLANKET PURCHASE ORDER | T58: GROUNDS EQUIPMENT MAINT | U58: EQUIPMENT SERVICES | V58: EQUIP SERV-SHARED
T59: HEAVY EQUIPMENT REPAIR | U59: EQUIPMENT SERVICES | V59: EQUIP SERV-SHARED
L61: =SUM(hList_Frame_1!B34:B36) -> 1872.5
A63: 458744 | D63: 42919 | E63: TEXOMA FIRE EQUIPMENT INC | G63: 345 | S63: MARINE/WILDLIFE SUPPLIES | T63: INVESTIGATION EXPENSE | U63: SHERIFF'S OFFICE | V63: SO-ADMIN
N65: =SUM(hList_Frame_1!B37:B37) -> 345
A67: 458745 | D67: 42919 | E67: AAI TROPHIES & AWARDS | G67: 92.5 | S67: BADGES/IDENTIFICATION EQ. | T67: SERVICE AWARDS | U67: SHERIFF'S OFFICE | V67: SO-ADMIN
P69: =SUM(hList_Frame_1!B38:B38) -> 92.5
A71: 459207 | D71: 42927 | E71: WEST PUBLISHING CORPORATION | G71: 3550.96 | S71: BLANKET PURCHASE ORDER | T71: LIBRARY BOOKS | U71: DISTRICT ATTORNEY | V71: DA-ADMIN
G72: 280.8 | S72: MISC PROFESSIONAL SERVICE | T72: PRINTED MATERIALS | U72: DISTRICT COURTS | V72: 380TH DC-ADMIN
A73: 459550 | D73: 42934 | G73: 291.04 | S73: PUBLICATIONS/AUDIOVISUALS | T73: DUES & SUBSCRIPTIONS | U73: UNALLOCATED | V73: NON-DEPARTMENTAL
A74: 459551 | D74: 42934 | G74: 2950.18 | S74: BLANKET PURCHASE ORDER | T74: COMMUNICATION LINE LEASE | U74: BUDGET | V74: LAW LIBRARY-ADMIN
...

Sheet hList_Frame_1
A1: =IF(ISBLANK('July 2017'!A2),"",IF(ISTEXT('July 2017'!A2),0,'July 2017'!A2)) -> 458741 | B1: =IF(ISBLANK('July 2017'!G2),"",IF(ISTEXT('July 2017'!G2),0,'July 2017'!G2)) -> 288.69
A2: =IF(ISBLANK('July 2017'!A3),"",IF(ISTEXT('July 2017'!A3),0,'July 2017'!A3)) | B2: =IF(ISBLANK('July 2017'!G3),"",IF(ISTEXT('July 2017'!G3),0,'July 2017'!G3))
A3: =IF(ISBLANK('July 2017'!A4),"",IF(ISTEXT('July 2017'!A4),0,'July 2017'!A4)) | B3: =IF(ISBLANK('July 2017'!G4),"",IF(ISTEXT('July 2017'!G4),0,'July 2017'!G4))
A4: =IF(ISBLANK('July 2017'!A5),"",IF(ISTEXT('July 2017'!A5),0,'July 2017'!A5)) | B4: =IF(ISBLANK('July 2017'!G5),"",IF(ISTEXT('July 2017'!G5),0,'July 2017'!G5))
A5: =IF(ISBLANK('July 2017'!A6),"",IF(ISTEXT('July 2017'!A6),0,'July 2017'!A6)) -> 459203 | B5: =IF(ISBLANK('July 2017'!G6),"",IF(ISTEXT('July 2017'!G6),0,'July 2017'!G6)) -> 1193.13
A6: =IF(ISBLANK('July 2017'!A7),"",IF(ISTEXT('July 2017'!A7),0,'July 2017'!A7)) | B6: =IF(ISBLANK('July 2017'!G7),"",IF(ISTEXT('July 2017'!G7),0,'July 2017'!G7))
A7: =IF(ISBLANK('July 2017'!A8),"",IF(ISTEXT('July 2017'!A8),0,'July 2017'!A8)) | B7: =IF(ISBLANK('July 2017'!G8),"",IF(ISTEXT('July 2017'!G8),0,'July 2017'!G8))
A8: =IF(ISBLANK('July 2017'!A9),"",IF(ISTEXT('July 2017'!A9),0,'July 2017'!A9)) | B8: =IF(ISBLANK('July 2017'!G9),"",IF(ISTEXT('July 2017'!G9),0,'July 2017'!G9)) -> -150
A9: =IF(ISBLANK('July 2017'!A10),"",IF(ISTEXT('July 2017'!A10),0,'July 2017'!A10)) -> 459546 | B9: =IF(ISBLANK('July 2017'!G10),"",IF(ISTEXT('July 2017'!G10),0,'July 2017'!G10)) -> 1781.93
A10: =IF(ISBLANK('July 2017'!A11),"",IF(ISTEXT('July 2017'!A11),0,'July 2017'!A11)) | B10: =IF(ISBLANK('July 2017'!G11),"",IF(ISTEXT('July 2017'!G11),0,'July 2017'!G11))
A11: =IF(ISBLANK('July 2017'!A12),"",IF(ISTEXT('July 2017'!A12),0,'July 2017'!A12)) | B11: =IF(ISBLANK('July 2017'!G12),"",IF(ISTEXT('July 2017'!G12),0,'July 2017'!G12))
A12: =IF(ISBLANK('July 2017'!A13),"",IF(ISTEXT('July 2017'!A13),0,'July 2017'!A13)) | B12: =IF(ISBLANK('July 2017'!G13),"",IF(ISTEXT('July 2017'!G13),0,'July 2017'!G13))
... A17: =IF(ISBLANK('July 2017'!A18),"",IF(ISTEXT('July 2017'!A18),0,'July 2017'!A18)) | B17: =IF(ISBLANK('July 2017'!G18),"",IF(ISTEXT('July 2017'!G18),0,'July 2017'!G18)) -> -150
A18: =IF(ISBLANK('July 2017'!A22),"",IF(ISTEXT('July 2017'!A22),0,'July 2017'!A22)) -> 458742 | B18: =IF(ISBLANK('July 2017'!G22),"",IF(ISTEXT('July 2017'!G22),0,'July 2017'!G22)) -> 2288.88
A19: =IF(ISBLANK('July 2017'!A23),"",IF(ISTEXT('July 2017'!A23),0,'July 2017'!A23)) -> 459547 | B19: =IF(ISBLANK('July 2017'!G23),"",IF(ISTEXT('July 2017'!G23),0,'July 2017'!G23)) -> 3304.8
A20: =IF(ISBLANK('July 2017'!A27),"",IF(ISTEXT('July 2017'!A27),0,'July 2017'!A27)) -> 459548 | B20: =IF(ISBLANK('July 2017'!G27),"",IF(ISTEXT('July 2017'!G27),0,'July 2017'!G27)) -> 6381.8
A21: =IF(ISBLANK('July 2017'!A28),"",IF(ISTEXT('July 2017'!A28),0,'July 2017'!A28)) | B21: =IF(ISBLANK('July 2017'!G28),"",IF(ISTEXT('July 2017'!G28),0,'July 2017'!G28))
A22: =IF(ISBLANK('July 2017'!A29),"",IF(ISTEXT('July 2017'!A29),0,'July 2017'!A29)) | B22: =IF(ISBLANK('July 2017'!G29),"",IF(ISTEXT('July 2017'!G29),0,'July 2017'!G29))
A23: =IF(ISBLANK('July 2017'!A30),"",IF(ISTEXT('July 2017'!A30),0,'July 2017'!A30)) | B23: =IF(ISBLANK('July 2017'!G30),"",IF(ISTEXT('July 2017'!G30),0,'July 2017'!G30)) -> 1039.8
A24: =IF(ISBLANK('July 2017'!A34),"",IF(ISTEXT('July 2017'!A34),0,'July 2017'!A34)) -> 459549 | B24: =IF(ISBLANK('July 2017'!G34),"",IF(ISTEXT('July 2017'!G34),0,'July 2017'!G34)) -> 5.35
A25: =IF(ISBLANK('July 2017'!A38),"",IF(ISTEXT('July 2017'!A38),0,'July 2017'!A38)) -> 459204 | B25: =IF(ISBLANK('July 2017'!G38),"",IF(ISTEXT('July 2017'!G38),0,'July 2017'!G38)) -> 330.31
A26: =IF(ISBLANK('July 2017'!A39),"",IF(ISTEXT('July 2017'!A39),0,'July 2017'!A39)) -> 459205 | B26: =IF(ISBLANK('July 2017'!G39),"",IF(ISTEXT('July 2017'!G39),0,'July 2017'!G39)) -> 129.43
A27: =IF(ISBLANK('July 2017'!A44),"",IF(ISTEXT('July 2017'!A44),0,'July 2017'!A44)) -> 459076 | B27: =IF(ISBLANK('July 2017'!G44),"",IF(ISTEXT('July 2017'!G44),0,'July 2017'!G44)) -> 250
A28: =IF(ISBLANK('July 2017'!A48),"",IF(ISTEXT('July 2017'!A48),0,'July 2017'!A48)) -> 458572 | B28: =IF(ISBLANK('July 2017'!G48),"",IF(ISTEXT('July 2017'!G48),0,'July 2017'!G48)) -> 450
A29: =IF(ISBLANK('July 2017'!A49),"",IF(ISTEXT('July 2017'!A49),0,'July 2017'!A49)) -> 458573 | B29: =IF(ISBLANK('July 2017'!G49),"",IF(ISTEXT('July 2017'!G49),0,'July 2017'!G49)) -> 1000
A30: =IF(ISBLANK('July 2017'!A50),"",IF(ISTEXT('July 2017'!A50),0,'July 2017'!A50)) | B30: =IF(ISBLANK('July 2017'!G50),"",IF(ISTEXT('July 2017'!G50),0,'July 2017'!G50)) -> 500
A31: =IF(ISBLANK('July 2017'!A51),"",IF(ISTEXT('July 2017'!A51),0,'July 2017'!A51)) -> 459077 | B31: =IF(ISBLANK('July 2017'!G51),"",IF(ISTEXT('July 2017'!G51),0,'July 2017'!G51)) -> 400
A32: =IF(ISBLANK('July 2017'!A52),"",IF(ISTEXT('July 2017'!A52),0,'July 2017'!A52)) -> 459463 | B32: =IF(ISBLANK('July 2017'!G52),"",IF(ISTEXT('July 2017'!G52),0,'July 2017'!G52)) -> 450
A33: =IF(ISBLANK('July 2017'!A53),"",IF(ISTEXT('July 2017'!A53),0,'July 2017'!A53)) | B33: =IF(ISBLANK('July 2017'!G53),"",IF(ISTEXT('July 2017'!G53),0,'July 2017'!G53)) -> 450
A34: =IF(ISBLANK('July 2017'!A57),"",IF(ISTEXT('July 2017'!A57),0,'July 2017'!A57)) -> 458743 | B34: =IF(ISBLANK('July 2017'!G57),"",IF(ISTEXT('July 2017'!G57),0,'July 2017'!G57)) -> 115.9
A35: =IF(ISBLANK('July 2017'!A58),"",IF(ISTEXT('July 2017'!A58),0,'July 2017'!A58)) -> 459206 | B35: =IF(ISBLANK('July 2017'!G58),"",IF(ISTEXT('July 2017'!G58),0,'July 2017'!G58)) -> 1756.6
A36: =IF(ISBLANK('July 2017'!A59),"",IF(ISTEXT('July 2017'!A59),0,'July 2017'!A59)) | B36: =IF(ISBLANK('July 2017'!G59),"",IF(ISTEXT('July 2017'!G59),0,'July 2017'!G59))
A37: =IF(ISBLANK('July 2017'!A63),"",IF(ISTEXT('July 2017'!A63),0,'July 2017'!A63)) -> 458744 | B37: =IF(ISBLANK('July 2017'!G63),"",IF(ISTEXT('July 2017'!G63),0,'July 2017'!G63)) -> 345
A38: =IF(ISBLANK('July 2017'!A67),"",IF(ISTEXT('July 2017'!A67),0,'July 2017'!A67)) -> 458745 | B38: =IF(ISBLANK('July 2017'!G67),"",IF(ISTEXT('July 2017'!G67),0,'July 2017'!G67)) -> 92.5
A39: =IF(ISBLANK('July 2017'!A71),"",IF(ISTEXT('July 2017'!A71),0,'July 2017'!A71)) -> 459207 | B39: =IF(ISBLANK('July 2017'!G71),"",IF(ISTEXT('July 2017'!G71),0,'July 2017'!G71)) -> 3550.96
A40: =IF(ISBLANK('July 2017'!A72),"",IF(ISTEXT('July 2017'!A72),0,'July 2017'!A72)) | B40: =IF(ISBLANK('July 2017'!G72),"",IF(ISTEXT('July 2017'!G72),0,'July 2017'!G72)) -> 280.8
A41: =IF(ISBLANK('July 2017'!A73),"",IF(ISTEXT('July 2017'!A73),0,'July 2017'!A73)) -> 459550 | B41: =IF(ISBLANK('July 2017'!G73),"",IF(ISTEXT('July 2017'!G73),0,'July 2017'!G73)) -> 291.04
A42: =IF(ISBLANK('July 2017'!A74),"",IF(ISTEXT('July 2017'!A74),0,'July 2017'!A74)) -> 459551 | B42: =IF(ISBLANK('July 2017'!G74),"",IF(ISTEXT('July 2017'!G74),0,'July 2017'!G74)) -> 2950.18
A43: =IF(ISBLANK('July 2017'!A78),"",IF(ISTEXT('July 2017'!A78),0,'July 2017'!A78)) -> 458746 | B43: =IF(ISBLANK('July 2017'!G78),"",IF(ISTEXT('July 2017'!G78),0,'July 2017'!G78)) -> 23.92
A44: =IF(ISBLANK('July 2017'!A79),"",IF(ISTEXT('July 2017'!A79),0,'July 2017'!A79)) -> 459208 | B44: =IF(ISBLANK('July 2017'!G79),"",IF(ISTEXT('July 2017'!G79),0,'July 2017'!G79)) -> 210.26
...
