Workbook

Sheet August 2015
A1: Check Number | D1: Check Date | E1: Vendor Name | G1: Transaction Amount | T1: Description | U1: Account Name | V1: Department | W1: Division | X1: Object of Expenditure | Z1: Project Number
A2: 422773 | D2: 42220 | E2: BOB TOMES FORD | G2: 190.04 | T2: BLANKET PURCHASE ORDER | U2: AUTO MAINTENANCE | V2: EQUIPMENT SERVICES | W2: EQUIP SERV-SHARED | X2: BLANKET PURCHASE ORDER
A3: 423498 | D3: 42228 | G3: 47.11 | T3: AUTO/TRUCK MAINT. ITEMS | U3: PARTS | X3: AUTO/TRUCK MAINT. ITEMS
G4: 1333.9 | T4: BLANKET PURCHASE ORDER | U4: AUTO MAINTENANCE | V4: EQUIPMENT SERVICES | W4: EQUIP SERV-SHARED | X4: BLANKET PURCHASE ORDER
G11: 115.5 | T11: FUEL/OIL/GREASE/LUBRICANT | U11: PARTS | X11: FUEL/OIL/GREASE/LUBRICANT
G12: -8.7 | T12: INV# 5436391 | U12: AUTO MAINTENANCE | V12: EQUIPMENT SERVICES | W12: EQUIP SERV-SHARED | X12: INV# 5436391
G13: -75 | T13: INV# 5438592 | U13: AUTO MAINTENANCE | V13: EQUIPMENT SERVICES | W13: EQUIP SERV-SHARED | X13: INV# 5438592
A14: 423547 | D14: 42234 | G14: 1105.63 | T14: BLANKET PURCHASE ORDER | U14: AUTO MAINTENANCE | V14: EQUIPMENT SERVICES | W14: EQUIP SERV-SHARED | X14: BLANKET PURCHASE ORDER
G22: -300 | T22: INV# 5439574 | U22: AUTO MAINTENANCE | V22: EQUIPMENT SERVICES | W22: EQUIP SERV-SHARED | X22: INV# 5439574
M24: =SUM(hList_Frame_1!B1:B21) -> 2408.48
A26: 422774 | D26: 42220 | E26: BOB BARKER CO | G26: 5742.8 | T26: CLOTHING AND APPAREL | U26: DETENTION SUPPLIES | V26: SHERIFF'S OFFICE | W26: JAIL OPS-ADMIN | X26: CLOTHING AND APPAREL
M30: =SUM(hList_Frame_1!B22:B24) -> 5742.8
A32: 422775 | D32: 42220 | E32: ECOLAB INC | G32: 2476.45 | T32: JANITORIAL SUPPLIES-GEN. | U32: DETENTION SUPPLIES | V32: SHERIFF'S OFFICE | W32: JAIL OPS-ADMIN | X32: JANITORIAL SUPPLIES-GEN.
W33: MINIMUM SECURITY
A34: 423119 | D34: 42227 | G34: 1752.5 | T34: JANITORIAL SUPPLIES-GEN. | U34: DETENTION SUPPLIES | V34: SHERIFF'S OFFICE | W34: JAIL OPS-ADMIN | X34: JANITORIAL SUPPLIES-GEN.
M36: =SUM(hList_Frame_1!B25:B27) -> 4228.95
A39: 423120 | D39: 42227 | E39: GIBBS, GREGG M PC | G39: 750 | T39: 366-80028-15 | U39: COURT APPOINTED ATTORNEY | V39: COURT APPT REPRESENTATION | W39: COURT APPT REPRESENTATION | X39: 366-80028-15 | Z39: ID366F
A40: 423548 | D40: 42234 | G40: 750 | T40: 417-70283-15 | U40: COURT APPOINTED ATTORNEY | V40: COURT APPT REPRESENTATION | W40: JUVENILE COURT-IND DEF | X40: 417-70283-15 | Z40: ID417J
M42: =SUM(hList_Frame_1!B28:B29) -> 1500
A44: 422776 | D44: 42220 | E44: HEIDENHEIMER, MARK | G44: 450 | T44: 006-83797-15 | U44: COURT APPOINTED ATTORNEY | V44: COURT APPT REPRESENTATION | W44: COURT APPT REPRESENTATION | X44: 006-83797-15 | Z44: IDCL6M
G45: 100 | T45: 006-83798-15 | U45: COURT APPOINTED ATTORNEY | V45: COURT APPT REPRESENTATION | W45: COURT APPT REPRESENTATION | X45: 006-83798-15 | Z45: IDCL6M
P47: =SUM(hList_Frame_1!B30:B31) -> 550
A49: 422777 | D49: 42220 | E49: POLLOCK PAPER DISTRIBUTORS | G49: 1279.2 | T49: PAPER/PLASTIC, DISPOSABLE | U49: JANITORIAL SUPPLIES | X49: PAPER/PLASTIC, DISPOSABLE
A50: 423121 | D50: 42227 | G50: 1599 | T50: PAPER/PLASTIC, DISPOSABLE | U50: JANITORIAL SUPPLIES | V50: SHERIFF'S OFFICE | W50: JAIL OPS-ADMIN | X50: PAPER/PLASTIC, DISPOSABLE
G51: 733.46 | T51: SUPPLIES | U51: JANITORIAL SUPPLIES | V51: FACILITIES & PARKS | W51: FAC-HEALTH ANNEX | X51: SUPPLIES | Z51: HCF001
V52: JUVENILE PROBATION | W52: JUV DET -ADMIN
A53: 423549 | D53: 42234 | G53: 3198 | T53: PAPER/PLASTIC, DISPOSABLE | U53: JANITORIAL SUPPLIES | V53: SHERIFF'S OFFICE | W53: JAIL OPS-ADMIN | X53: PAPER/PLASTIC, DISPOSABLE
M55: =SUM(hList_Frame_1!B32:B36) -> 6809.66
A57: 422778 | D57: 42220 | E57: THOMASON TIRE INC | G57: 315 | T57: BLANKET PURCHASE ORDER | U57: HEAVY EQUIPMENT REPAIR | V57: EQUIPMENT SERVICES | W57: EQUIP SERV-SHARED | X57: BLANKET PURCHASE ORDER
A60: 423550 | D60: 42234 | G60: 868.42 | T60: TIRES AND TUBES | U60: PARTS | X60: TIRES AND TUBES
M62: =SUM(hList_Frame_1!B37:B40) -> 1183.42
A64: 423551 | D64: 42234 | E64: TEKNI KUT CORP | G64: 73.2 | T64: BUILDER'S SUPPLIES | U64: BUILDING SUPPLIES | V64: FACILITIES & PARKS | W64: BUILD SUP-SHARED | X64: BUILDER'S SUPPLIES | Z64: B21001
R66: =SUM(hList_Frame_1!B41:B41) -> 73.2
A68: 423122 | D68: 42227 | E68: WEST PUBLISHING CORPORATION | G68: 41 | T68: PUBLICATIONS/AUDIOVISUALS | U68: DUES & SUBSCRIPTIONS | V68: UNALLOCATED | W68: NON-DEPARTMENTAL | X68: PUBLICATIONS/AUDIOVISUALS
A69: 423552 | D69: 42234 | G69: 137 | T69: PUBLICATIONS/AUDIOVISUALS | U69: DUES & SUBSCRIPTIONS | V69: UNALLOCATED | W69: NON-DEPARTMENTAL | X69: PUBLICATIONS/AUDIOVISUALS
P73: =SUM(hList_Frame_1!B42:B45) -> 178
A75: 423123 | D75: 42227 | E75: PLANO POWER EQUIPMENT | G75: 9.34 | T75: BLANKET PURCHASE ORDER | U75: GROUNDS EQUIPMENT MAINT | V75: EQUIPMENT SERVICES | W75: EQUIP SERV-SHARED | X75: BLANKET PURCHASE ORDER
A76: 423553 | D76: 42234 | G76: 53.75 | T76: AGRI. IMPLEMENTS & PARTS | U76: PARTS | X76: AGRI. IMPLEMENTS & PARTS
G77: 549.84 | T77: LAWN & GROUNDS EQUIPMENT | U77: PARTS | X77: LAWN & GROUNDS EQUIPMENT
P79: =SUM(hList_Frame_1!B46:B48) -> 612.93
...

Sheet hList_Frame_1
A1: =IF(ISBLANK('August 2015'!A2),"",IF(ISTEXT('August 2015'!A2),0,'August 2015'!A2)) -> 422773 | B1: =IF(ISBLANK('August 2015'!G2),"",IF(ISTEXT('August 2015'!G2),0,'August 2015'!G2)) -> 190.04
A2: =IF(ISBLANK('August 2015'!A3),"",IF(ISTEXT('August 2015'!A3),0,'August 2015'!A3)) -> 423498 | B2: =IF(ISBLANK('August 2015'!G3),"",IF(ISTEXT('August 2015'!G3),0,'August 2015'!G3)) -> 47.11
A3: =IF(ISBLANK('August 2015'!A4),"",IF(ISTEXT('August 2015'!A4),0,'August 2015'!A4)) | B3: =IF(ISBLANK('August 2015'!G4),"",IF(ISTEXT('August 2015'!G4),0,'August 2015'!G4)) -> 1333.9
A4: =IF(ISBLANK('August 2015'!A5),"",IF(ISTEXT('August 2015'!A5),0,'August 2015'!A5)) | B4: =IF(ISBLANK('August 2015'!G5),"",IF(ISTEXT('August 2015'!G5),0,'August 2015'!G5))
A5: =IF(ISBLANK('August 2015'!A6),"",IF(ISTEXT('August 2015'!A6),0,'August 2015'!A6)) | B5: =IF(ISBLANK('August 2015'!G6),"",IF(ISTEXT('August 2015'!G6),0,'August 2015'!G6))
A6: =IF(ISBLANK('August 2015'!A7),"",IF(ISTEXT('August 2015'!A7),0,'August 2015'!A7)) | B6: =IF(ISBLANK('August 2015'!G7),"",IF(ISTEXT('August 2015'!G7),0,'August 2015'!G7))
A7: =IF(ISBLANK('August 2015'!A8),"",IF(ISTEXT('August 2015'!A8),0,'August 2015'!A8)) | B7: =IF(ISBLANK('August 2015'!G8),"",IF(ISTEXT('August 2015'!G8),0,'August 2015'!G8))
A8: =IF(ISBLANK('August 2015'!A9),"",IF(ISTEXT('August 2015'!A9),0,'August 2015'!A9)) | B8: =IF(ISBLANK('August 2015'!G9),"",IF(ISTEXT('August 2015'!G9),0,'August 2015'!G9))
A9: =IF(ISBLANK('August 2015'!A10),"",IF(ISTEXT('August 2015'!A10),0,'August 2015'!A10)) | B9: =IF(ISBLANK('August 2015'!G10),"",IF(ISTEXT('August 2015'!G10),0,'August 2015'!G10))
A10: =IF(ISBLANK('August 2015'!A11),"",IF(ISTEXT('August 2015'!A11),0,'August 2015'!A11)) | B10: =IF(ISBLANK('August 2015'!G11),"",IF(ISTEXT('August 2015'!G11),0,'August 2015'!G11)) -> 115.5
A11: =IF(ISBLANK('August 2015'!A12),"",IF(ISTEXT('August 2015'!A12),0,'August 2015'!A12)) | B11: =IF(ISBLANK('August 2015'!G12),"",IF(ISTEXT('August 2015'!G12),0,'August 2015'!G12)) -> -8.7
A12: =IF(ISBLANK('August 2015'!A13),"",IF(ISTEXT('August 2015'!A13),0,'August 2015'!A13)) | B12: =IF(ISBLANK('August 2015'!G13),"",IF(ISTEXT('August 2015'!G13),0,'August 2015'!G13)) -> -75
... A21: =IF(ISBLANK('August 2015'!A22),"",IF(ISTEXT('August 2015'!A22),0,'August 2015'!A22)) | B21: =IF(ISBLANK('August 2015'!G22),"",IF(ISTEXT('August 2015'!G22),0,'August 2015'!G22)) -> -300
A22: =IF(ISBLANK('August 2015'!A26),"",IF(ISTEXT('August 2015'!A26),0,'August 2015'!A26)) -> 422774 | B22: =IF(ISBLANK('August 2015'!G26),"",IF(ISTEXT('August 2015'!G26),0,'August 2015'!G26)) -> 5742.8
A23: =IF(ISBLANK('August 2015'!A27),"",IF(ISTEXT('August 2015'!A27),0,'August 2015'!A27)) | B23: =IF(ISBLANK('August 2015'!G27),"",IF(ISTEXT('August 2015'!G27),0,'August 2015'!G27))
A24: =IF(ISBLANK('August 2015'!A28),"",IF(ISTEXT('August 2015'!A28),0,'August 2015'!A28)) | B24: =IF(ISBLANK('August 2015'!G28),"",IF(ISTEXT('August 2015'!G28),0,'August 2015'!G28))
A25: =IF(ISBLANK('August 2015'!A32),"",IF(ISTEXT('August 2015'!A32),0,'August 2015'!A32)) -> 422775 | B25: =IF(ISBLANK('August 2015'!G32),"",IF(ISTEXT('August 2015'!G32),0,'August 2015'!G32)) -> 2476.45
A26: =IF(ISBLANK('August 2015'!A33),"",IF(ISTEXT('August 2015'!A33),0,'August 2015'!A33)) | B26: =IF(ISBLANK('August 2015'!G33),"",IF(ISTEXT('August 2015'!G33),0,'August 2015'!G33))
A27: =IF(ISBLANK('August 2015'!A34),"",IF(ISTEXT('August 2015'!A34),0,'August 2015'!A34)) -> 423119 | B27: =IF(ISBLANK('August 2015'!G34),"",IF(ISTEXT('August 2015'!G34),0,'August 2015'!G34)) -> 1752.5
A28: =IF(ISBLANK('August 2015'!A39),"",IF(ISTEXT('August 2015'!A39),0,'August 2015'!A39)) -> 423120 | B28: =IF(ISBLANK('August 2015'!G39),"",IF(ISTEXT('August 2015'!G39),0,'August 2015'!G39)) -> 750
A29: =IF(ISBLANK('August 2015'!A40),"",IF(ISTEXT('August 2015'!A40),0,'August 2015'!A40)) -> 423548 | B29: =IF(ISBLANK('August 2015'!G40),"",IF(ISTEXT('August 2015'!G40),0,'August 2015'!G40)) -> 750
A30: =IF(ISBLANK('August 2015'!A44),"",IF(ISTEXT('August 2015'!A44),0,'August 2015'!A44)) -> 422776 | B30: =IF(ISBLANK('August 2015'!G44),"",IF(ISTEXT('August 2015'!G44),0,'August 2015'!G44)) -> 450
A31: =IF(ISBLANK('August 2015'!A45),"",IF(ISTEXT('August 2015'!A45),0,'August 2015'!A45)) | B31: =IF(ISBLANK('August 2015'!G45),"",IF(ISTEXT('August 2015'!G45),0,'August 2015'!G45)) -> 100
A32: =IF(ISBLANK('August 2015'!A49),"",IF(ISTEXT('August 2015'!A49),0,'August 2015'!A49)) -> 422777 | B32: =IF(ISBLANK('August 2015'!G49),"",IF(ISTEXT('August 2015'!G49),0,'August 2015'!G49)) -> 1279.2
A33: =IF(ISBLANK('August 2015'!A50),"",IF(ISTEXT('August 2015'!A50),0,'August 2015'!A50)) -> 423121 | B33: =IF(ISBLANK('August 2015'!G50),"",IF(ISTEXT('August 2015'!G50),0,'August 2015'!G50)) -> 1599
A34: =IF(ISBLANK('August 2015'!A51),"",IF(ISTEXT('August 2015'!A51),0,'August 2015'!A51)) | B34: =IF(ISBLANK('August 2015'!G51),"",IF(ISTEXT('August 2015'!G51),0,'August 2015'!G51)) -> 733.46
A35: =IF(ISBLANK('August 2015'!A52),"",IF(ISTEXT('August 2015'!A52),0,'August 2015'!A52)) | B35: =IF(ISBLANK('August 2015'!G52),"",IF(ISTEXT('August 2015'!G52),0,'August 2015'!G52))
A36: =IF(ISBLANK('August 2015'!A53),"",IF(ISTEXT('August 2015'!A53),0,'August 2015'!A53)) -> 423549 | B36: =IF(ISBLANK('August 2015'!G53),"",IF(ISTEXT('August 2015'!G53),0,'August 2015'!G53)) -> 3198
A37: =IF(ISBLANK('August 2015'!A57),"",IF(ISTEXT('August 2015'!A57),0,'August 2015'!A57)) -> 422778 | B37: =IF(ISBLANK('August 2015'!G57),"",IF(ISTEXT('August 2015'!G57),0,'August 2015'!G57)) -> 315
A38: =IF(ISBLANK('August 2015'!A58),"",IF(ISTEXT('August 2015'!A58),0,'August 2015'!A58)) | B38: =IF(ISBLANK('August 2015'!G58),"",IF(ISTEXT('August 2015'!G58),0,'August 2015'!G58))
A39: =IF(ISBLANK('August 2015'!A59),"",IF(ISTEXT('August 2015'!A59),0,'August 2015'!A59)) | B39: =IF(ISBLANK('August 2015'!G59),"",IF(ISTEXT('August 2015'!G59),0,'August 2015'!G59))
A40: =IF(ISBLANK('August 2015'!A60),"",IF(ISTEXT('August 2015'!A60),0,'August 2015'!A60)) -> 423550 | B40: =IF(ISBLANK('August 2015'!G60),"",IF(ISTEXT('August 2015'!G60),0,'August 2015'!G60)) -> 868.42
A41: =IF(ISBLANK('August 2015'!A64),"",IF(ISTEXT('August 2015'!A64),0,'August 2015'!A64)) -> 423551 | B41: =IF(ISBLANK('August 2015'!G64),"",IF(ISTEXT('August 2015'!G64),0,'August 2015'!G64)) -> 73.2
A42: =IF(ISBLANK('August 2015'!A68),"",IF(ISTEXT('August 2015'!A68),0,'August 2015'!A68)) -> 423122 | B42: =IF(ISBLANK('August 2015'!G68),"",IF(ISTEXT('August 2015'!G68),0,'August 2015'!G68)) -> 41
A43: =IF(ISBLANK('August 2015'!A69),"",IF(ISTEXT('August 2015'!A69),0,'August 2015'!A69)) -> 423552 | B43: =IF(ISBLANK('August 2015'!G69),"",IF(ISTEXT('August 2015'!G69),0,'August 2015'!G69)) -> 137
A44: =IF(ISBLANK('August 2015'!A70),"",IF(ISTEXT('August 2015'!A70),0,'August 2015'!A70)) | B44: =IF(ISBLANK('August 2015'!G70),"",IF(ISTEXT('August 2015'!G70),0,'August 2015'!G70))
A45: =IF(ISBLANK('August 2015'!A71),"",IF(ISTEXT('August 2015'!A71),0,'August 2015'!A71)) | B45: =IF(ISBLANK('August 2015'!G71),"",IF(ISTEXT('August 2015'!G71),0,'August 2015'!G71))
A46: =IF(ISBLANK('August 2015'!A75),"",IF(ISTEXT('August 2015'!A75),0,'August 2015'!A75)) -> 423123 | B46: =IF(ISBLANK('August 2015'!G75),"",IF(ISTEXT('August 2015'!G75),0,'August 2015'!G75)) -> 9.34
A47: =IF(ISBLANK('August 2015'!A76),"",IF(ISTEXT('August 2015'!A76),0,'August 2015'!A76)) -> 423553 | B47: =IF(ISBLANK('August 2015'!G76),"",IF(ISTEXT('August 2015'!G76),0,'August 2015'!G76)) -> 53.75
A48: =IF(ISBLANK('August 2015'!A77),"",IF(ISTEXT('August 2015'!A77),0,'August 2015'!A77)) | B48: =IF(ISBLANK('August 2015'!G77),"",IF(ISTEXT('August 2015'!G77),0,'August 2015'!G77)) -> 549.84
...
