Workbook

Sheet September 2015
A1: Check Number | D1: Check Date | E1: Vendor Name | G1: Transaction Amount | V1: Description | W1: Account Name | X1: Department | Y1: Division | Z1: Object of Expenditure | AB1: Project Number
A2: 423984 | D2: 42255 | E2: BOB TOMES FORD | G2: 544.38 | V2: BLANKET PURCHASE ORDER | W2: AUTO MAINTENANCE | X2: EQUIPMENT SERVICES | Y2: EQUIP SERV-SHARED | Z2: BLANKET PURCHASE ORDER
A8: 424781 | D8: 42262 | G8: 68.07 | V8: AUTO/TRUCK MAINT. ITEMS | W8: PARTS | Z8: AUTO/TRUCK MAINT. ITEMS
G9: 1053.27 | V9: BLANKET PURCHASE ORDER | W9: AUTO MAINTENANCE | X9: EQUIPMENT SERVICES | Y9: EQUIP SERV-SHARED | Z9: BLANKET PURCHASE ORDER
A13: 425119 | D13: 42269 | G13: 2116.31 | V13: BLANKET PURCHASE ORDER | W13: AUTO MAINTENANCE | X13: EQUIPMENT SERVICES | Y13: EQUIP SERV-SHARED | Z13: BLANKET PURCHASE ORDER
G16: -30 | V16: inv# 5443755 | W16: AUTO MAINTENANCE | X16: EQUIPMENT SERVICES | Y16: EQUIP SERV-SHARED | Z16: inv# 5443755
A17: 425441 | D17: 42276 | G17: 1146.19 | V17: BLANKET PURCHASE ORDER | W17: AUTO MAINTENANCE | X17: EQUIPMENT SERVICES | Y17: EQUIP SERV-SHARED | Z17: BLANKET PURCHASE ORDER
G23: -75 | V23: INV# 5445423 | W23: AUTO MAINTENANCE | X23: EQUIPMENT SERVICES | Y23: EQUIP SERV-SHARED | Z23: INV# 5445423
M25: =SUM(hList_Frame_1!B1:B22) -> 4823.22
A27: 423985 | D27: 42255 | E27: BOB BARKER CO | G27: 510.24 | V27: CLOTHING AND APPAREL | W27: DETENTION SUPPLIES | X27: JUVENILE PROBATION | Y27: JUV DET -ADMIN | Z27: CLOTHING AND APPAREL
A28: 425120 | D28: 42269 | G28: 354.52 | V28: CUTLERY/DISHES/WARES/ETC. | W28: KITCHEN SUPPLIES | X28: SHERIFF'S OFFICE | Y28: JAIL CAFE-ADMIN | Z28: CUTLERY/DISHES/WARES/ETC.
A29: 425442 | D29: 42276 | G29: 5508 | V29: CLOTHING AND APPAREL | W29: DETENTION SUPPLIES | X29: SHERIFF'S OFFICE | Y29: JAIL OPS-ADMIN | Z29: CLOTHING AND APPAREL
M31: =SUM(hList_Frame_1!B23:B25) -> 6372.76
A33: 423986 | D33: 42255 | E33: ECOLAB INC | G33: 1299.75 | V33: BUTCHER/MEAT PROC. EQUIP. | W33: DETENTION SUPPLIES | X33: SHERIFF'S OFFICE | Y33: JAIL OPS-ADMIN | Z33: BUTCHER/MEAT PROC. EQUIP.
G34: 4421.15 | V34: JANITORIAL SUPPLIES-GEN. | W34: DETENTION SUPPLIES | X34: SHERIFF'S OFFICE | Y34: JAIL OPS-ADMIN | Z34: JANITORIAL SUPPLIES-GEN.
G38: 1485.6 | V38: LAUNDRY/DRY CLEAN SUPPLY | W38: ANIMAL CARE | X38: ANIMAL SHELTER | Y38: ANIMAL SHELTER-ADMIN | Z38: LAUNDRY/DRY CLEAN SUPPLY
A39: 425443 | D39: 42276 | G39: 1255 | V39: GERMICIDES-HOSP./SANITARY | W39: DETENTION SUPPLIES | X39: SHERIFF'S OFFICE | Y39: JAIL OPS-ADMIN | Z39: GERMICIDES-HOSP./SANITARY
G40: 2297.25 | V40: JANITORIAL SUPPLIES-GEN. | W40: DETENTION SUPPLIES | X40: SHERIFF'S OFFICE | Y40: JAIL OPS-ADMIN | Z40: JANITORIAL SUPPLIES-GEN.
W41: JANITORIAL SUPPLIES | X41: SHERIFF'S OFFICE | Y41: JAIL OPS-ADMIN
K43: =SUM(hList_Frame_1!B26:B33) -> 10758.75
A45: 423987 | D45: 42255 | E45: MCKINNEY TIRE & APPLIANCE | G45: 5272 | V45: APPLIANCES/EQUIP. & PARTS | W45: ONE-TIME BUDGET NON-CAP | X45: COUNTY COURTS | Y45: CCL7-ADMIN | Z45: APPLIANCES/EQUIP. & PARTS
X46: DISTRICT COURTS | Y46: 469TH DC-ADMIN
Y47: 470TH DC-ADMIN
X48: UNALLOCATED | Y48: CAPITAL REPLACEMENT
M50: =SUM(hList_Frame_1!B34:B37) -> 5272
A52: 425811 | D52: 42277 | E52: MCKINNEY OFFICE SUPPLY | G52: 500 | V52: OFFICE SUPPLIES (GENERAL) | W52: ELECTION SUPPLIES | X52: ELECTIONS | Y52: CONT ELECTIONS-CONTRACT | Z52: OFFICE SUPPLIES (GENERAL)
P54: =SUM(hList_Frame_1!B38:B38) -> 500
A56: 423988 | D56: 42255 | E56: GIBBS, GREGG M PC | G56: 1531.25 | V56: 417-30028-15 | W56: COURT APPOINTED ATTORNEY | X56: COURT APPT REPRESENTATION | Y56: COURT APPT REPRESENTATION | Z56: 417-30028-15 | AB56: ID417A
G57: 2593.75 | V57: 417-30082-14 | W57: COURT APPOINTED ATTORNEY | X57: COURT APPT REPRESENTATION | Y57: COURT APPT REPRESENTATION | Z57: 417-30082-14 | AB57: ID417A
W58: MEDIATOR COSTS | X58: DISTRICT COURTS | Y58: DIST CT-SHARED | AB58: 417MC
A59: 424782 | D59: 42262 | G59: 1325 | V59: 416-30011-15 | W59: COURT APPOINTED ATTORNEY | X59: COURT APPT REPRESENTATION | Y59: COURT APPT REPRESENTATION | Z59: 416-30011-15 | AB59: ID416A
M61: =SUM(hList_Frame_1!B39:B42) -> 5450
A63: 423988 | D63: 42255 | E63: XXXXXXX | G63: 8437.5 | V63: Details not available | W63: COURT APPOINTED ATTORNEY | X63: COURT APPT REPRESENTATION | Y63: COURT APPT REPRESENTATION | Z63: Details not available | AB63: MUR063
M65: =SUM(hList_Frame_1!B43:B43) -> 8437.5
A67: 424783 | D67: 42262 | E67: HEIDENHEIMER, MARK | G67: 450 | V67: 005-84124-15 | W67: COURT APPOINTED ATTORNEY | X67: COURT APPT REPRESENTATION | Y67: COURT APPT REPRESENTATION | Z67: 005-84124-15 | AB67: IDCL5M
G68: 100 | V68: 005-84125-15 | W68: COURT APPOINTED ATTORNEY | X68: COURT APPT REPRESENTATION | Y68: COURT APPT REPRESENTATION | Z68: 005-84125-15 | AB68: IDCL5M
G69: 100 | V69: 005-84126-15 | W69: COURT APPOINTED ATTORNEY | X69: COURT APPT REPRESENTATION | Y69: COURT APPT REPRESENTATION | Z69: 005-84126-15 | AB69: IDCL5M
G70: 450 | V70: 006-84758-15 | W70: COURT APPOINTED ATTORNEY | X70: COURT APPT REPRESENTATION | Y70: COURT APPT REPRESENTATION | Z70: 006-84758-15 | AB70: IDCL6M
A71: 425444 | D71: 42276 | G71: 450 | V71: 005-84524-15 | W71: COURT APPOINTED ATTORNEY | X71: COURT APPT REPRESENTATION | Y71: COURT APPT REPRESENTATION | Z71: 005-84524-15 | AB71: IDCL5M
M73: =SUM(hList_Frame_1!B44:B48) -> 1550
...

Sheet hList_Frame_1
A1: =IF(ISBLANK('September 2015'!A2),"",IF(ISTEXT('September 2015'!A2),0,'September 2015'!A2)) -> 423984 | B1: =IF(ISBLANK('September 2015'!G2),"",IF(ISTEXT('September 2015'!G2),0,'September 2015'!G2)) -> 544.38
A2: =IF(ISBLANK('September 2015'!A3),"",IF(ISTEXT('September 2015'!A3),0,'September 2015'!A3)) | B2: =IF(ISBLANK('September 2015'!G3),"",IF(ISTEXT('September 2015'!G3),0,'September 2015'!G3))
A3: =IF(ISBLANK('September 2015'!A4),"",IF(ISTEXT('September 2015'!A4),0,'September 2015'!A4)) | B3: =IF(ISBLANK('September 2015'!G4),"",IF(ISTEXT('September 2015'!G4),0,'September 2015'!G4))
A4: =IF(ISBLANK('September 2015'!A5),"",IF(ISTEXT('September 2015'!A5),0,'September 2015'!A5)) | B4: =IF(ISBLANK('September 2015'!G5),"",IF(ISTEXT('September 2015'!G5),0,'September 2015'!G5))
A5: =IF(ISBLANK('September 2015'!A6),"",IF(ISTEXT('September 2015'!A6),0,'September 2015'!A6)) | B5: =IF(ISBLANK('September 2015'!G6),"",IF(ISTEXT('September 2015'!G6),0,'September 2015'!G6))
A6: =IF(ISBLANK('September 2015'!A7),"",IF(ISTEXT('September 2015'!A7),0,'September 2015'!A7)) | B6: =IF(ISBLANK('September 2015'!G7),"",IF(ISTEXT('September 2015'!G7),0,'September 2015'!G7))
A7: =IF(ISBLANK('September 2015'!A8),"",IF(ISTEXT('September 2015'!A8),0,'September 2015'!A8)) -> 424781 | B7: =IF(ISBLANK('September 2015'!G8),"",IF(ISTEXT('September 2015'!G8),0,'September 2015'!G8)) -> 68.07
A8: =IF(ISBLANK('September 2015'!A9),"",IF(ISTEXT('September 2015'!A9),0,'September 2015'!A9)) | B8: =IF(ISBLANK('September 2015'!G9),"",IF(ISTEXT('September 2015'!G9),0,'September 2015'!G9)) -> 1053.27
A9: =IF(ISBLANK('September 2015'!A10),"",IF(ISTEXT('September 2015'!A10),0,'September 2015'!A10)) | B9: =IF(ISBLANK('September 2015'!G10),"",IF(ISTEXT('September 2015'!G10),0,'September 2015'!G10))
A10: =IF(ISBLANK('September 2015'!A11),"",IF(ISTEXT('September 2015'!A11),0,'September 2015'!A11)) | B10: =IF(ISBLANK('September 2015'!G11),"",IF(ISTEXT('September 2015'!G11),0,'September 2015'!G11))
A11: =IF(ISBLANK('September 2015'!A12),"",IF(ISTEXT('September 2015'!A12),0,'September 2015'!A12)) | B11: =IF(ISBLANK('September 2015'!G12),"",IF(ISTEXT('September 2015'!G12),0,'September 2015'!G12))
A12: =IF(ISBLANK('September 2015'!A13),"",IF(ISTEXT('September 2015'!A13),0,'September 2015'!A13)) -> 425119 | B12: =IF(ISBLANK('September 2015'!G13),"",IF(ISTEXT('September 2015'!G13),0,'September 2015'!G13)) -> 2116.31
... A22: =IF(ISBLANK('September 2015'!A23),"",IF(ISTEXT('September 2015'!A23),0,'September 2015'!A23)) | B22: =IF(ISBLANK('September 2015'!G23),"",IF(ISTEXT('September 2015'!G23),0,'September 2015'!G23)) -> -75
A23: =IF(ISBLANK('September 2015'!A27),"",IF(ISTEXT('September 2015'!A27),0,'September 2015'!A27)) -> 423985 | B23: =IF(ISBLANK('September 2015'!G27),"",IF(ISTEXT('September 2015'!G27),0,'September 2015'!G27)) -> 510.24
A24: =IF(ISBLANK('September 2015'!A28),"",IF(ISTEXT('September 2015'!A28),0,'September 2015'!A28)) -> 425120 | B24: =IF(ISBLANK('September 2015'!G28),"",IF(ISTEXT('September 2015'!G28),0,'September 2015'!G28)) -> 354.52
A25: =IF(ISBLANK('September 2015'!A29),"",IF(ISTEXT('September 2015'!A29),0,'September 2015'!A29)) -> 425442 | B25: =IF(ISBLANK('September 2015'!G29),"",IF(ISTEXT('September 2015'!G29),0,'September 2015'!G29)) -> 5508
A26: =IF(ISBLANK('September 2015'!A33),"",IF(ISTEXT('September 2015'!A33),0,'September 2015'!A33)) -> 423986 | B26: =IF(ISBLANK('September 2015'!G33),"",IF(ISTEXT('September 2015'!G33),0,'September 2015'!G33)) -> 1299.75
A27: =IF(ISBLANK('September 2015'!A34),"",IF(ISTEXT('September 2015'!A34),0,'September 2015'!A34)) | B27: =IF(ISBLANK('September 2015'!G34),"",IF(ISTEXT('September 2015'!G34),0,'September 2015'!G34)) -> 4421.15
A28: =IF(ISBLANK('September 2015'!A35),"",IF(ISTEXT('September 2015'!A35),0,'September 2015'!A35)) | B28: =IF(ISBLANK('September 2015'!G35),"",IF(ISTEXT('September 2015'!G35),0,'September 2015'!G35))
A29: =IF(ISBLANK('September 2015'!A36),"",IF(ISTEXT('September 2015'!A36),0,'September 2015'!A36)) | B29: =IF(ISBLANK('September 2015'!G36),"",IF(ISTEXT('September 2015'!G36),0,'September 2015'!G36))
A30: =IF(ISBLANK('September 2015'!A38),"",IF(ISTEXT('September 2015'!A38),0,'September 2015'!A38)) | B30: =IF(ISBLANK('September 2015'!G38),"",IF(ISTEXT('September 2015'!G38),0,'September 2015'!G38)) -> 1485.6
A31: =IF(ISBLANK('September 2015'!A39),"",IF(ISTEXT('September 2015'!A39),0,'September 2015'!A39)) -> 425443 | B31: =IF(ISBLANK('September 2015'!G39),"",IF(ISTEXT('September 2015'!G39),0,'September 2015'!G39)) -> 1255
A32: =IF(ISBLANK('September 2015'!A40),"",IF(ISTEXT('September 2015'!A40),0,'September 2015'!A40)) | B32: =IF(ISBLANK('September 2015'!G40),"",IF(ISTEXT('September 2015'!G40),0,'September 2015'!G40)) -> 2297.25
A33: =IF(ISBLANK('September 2015'!A41),"",IF(ISTEXT('September 2015'!A41),0,'September 2015'!A41)) | B33: =IF(ISBLANK('September 2015'!G41),"",IF(ISTEXT('September 2015'!G41),0,'September 2015'!G41))
A34: =IF(ISBLANK('September 2015'!A45),"",IF(ISTEXT('September 2015'!A45),0,'September 2015'!A45)) -> 423987 | B34: =IF(ISBLANK('September 2015'!G45),"",IF(ISTEXT('September 2015'!G45),0,'September 2015'!G45)) -> 5272
A35: =IF(ISBLANK('September 2015'!A46),"",IF(ISTEXT('September 2015'!A46),0,'September 2015'!A46)) | B35: =IF(ISBLANK('September 2015'!G46),"",IF(ISTEXT('September 2015'!G46),0,'September 2015'!G46))
A36: =IF(ISBLANK('September 2015'!A47),"",IF(ISTEXT('September 2015'!A47),0,'September 2015'!A47)) | B36: =IF(ISBLANK('September 2015'!G47),"",IF(ISTEXT('September 2015'!G47),0,'September 2015'!G47))
A37: =IF(ISBLANK('September 2015'!A48),"",IF(ISTEXT('September 2015'!A48),0,'September 2015'!A48)) | B37: =IF(ISBLANK('September 2015'!G48),"",IF(ISTEXT('September 2015'!G48),0,'September 2015'!G48))
A38: =IF(ISBLANK('September 2015'!A52),"",IF(ISTEXT('September 2015'!A52),0,'September 2015'!A52)) -> 425811 | B38: =IF(ISBLANK('September 2015'!G52),"",IF(ISTEXT('September 2015'!G52),0,'September 2015'!G52)) -> 500
A39: =IF(ISBLANK('September 2015'!A56),"",IF(ISTEXT('September 2015'!A56),0,'September 2015'!A56)) -> 423988 | B39: =IF(ISBLANK('September 2015'!G56),"",IF(ISTEXT('September 2015'!G56),0,'September 2015'!G56)) -> 1531.25
A40: =IF(ISBLANK('September 2015'!A57),"",IF(ISTEXT('September 2015'!A57),0,'September 2015'!A57)) | B40: =IF(ISBLANK('September 2015'!G57),"",IF(ISTEXT('September 2015'!G57),0,'September 2015'!G57)) -> 2593.75
A41: =IF(ISBLANK('September 2015'!A58),"",IF(ISTEXT('September 2015'!A58),0,'September 2015'!A58)) | B41: =IF(ISBLANK('September 2015'!G58),"",IF(ISTEXT('September 2015'!G58),0,'September 2015'!G58))
A42: =IF(ISBLANK('September 2015'!A59),"",IF(ISTEXT('September 2015'!A59),0,'September 2015'!A59)) -> 424782 | B42: =IF(ISBLANK('September 2015'!G59),"",IF(ISTEXT('September 2015'!G59),0,'September 2015'!G59)) -> 1325
A43: =IF(ISBLANK('September 2015'!A63),"",IF(ISTEXT('September 2015'!A63),0,'September 2015'!A63)) -> 423988 | B43: =IF(ISBLANK('September 2015'!G63),"",IF(ISTEXT('September 2015'!G63),0,'September 2015'!G63)) -> 8437.5
A44: =IF(ISBLANK('September 2015'!A67),"",IF(ISTEXT('September 2015'!A67),0,'September 2015'!A67)) -> 424783 | B44: =IF(ISBLANK('September 2015'!G67),"",IF(ISTEXT('September 2015'!G67),0,'September 2015'!G67)) -> 450
A45: =IF(ISBLANK('September 2015'!A68),"",IF(ISTEXT('September 2015'!A68),0,'September 2015'!A68)) | B45: =IF(ISBLANK('September 2015'!G68),"",IF(ISTEXT('September 2015'!G68),0,'September 2015'!G68)) -> 100
A46: =IF(ISBLANK('September 2015'!A69),"",IF(ISTEXT('September 2015'!A69),0,'September 2015'!A69)) | B46: =IF(ISBLANK('September 2015'!G69),"",IF(ISTEXT('September 2015'!G69),0,'September 2015'!G69)) -> 100
A47: =IF(ISBLANK('September 2015'!A70),"",IF(ISTEXT('September 2015'!A70),0,'September 2015'!A70)) | B47: =IF(ISBLANK('September 2015'!G70),"",IF(ISTEXT('September 2015'!G70),0,'September 2015'!G70)) -> 450
A48: =IF(ISBLANK('September 2015'!A71),"",IF(ISTEXT('September 2015'!A71),0,'September 2015'!A71)) -> 425444 | B48: =IF(ISBLANK('September 2015'!G71),"",IF(ISTEXT('September 2015'!G71),0,'September 2015'!G71)) -> 450
A49: =IF(ISBLANK('September 2015'!A75),"",IF(ISTEXT('September 2015'!A75),0,'September 2015'!A75)) -> 423989 | B49: =IF(ISBLANK('September 2015'!G75),"",IF(ISTEXT('September 2015'!G75),0,'September 2015'!G75)) -> 3198
...
